{"text_format":"1","workbook":"xlsx","n_sheets":4,"sheets":["報告書入力","一括有期報告書","総括表","コード"],"not_rendered":{"charts":0,"images":0,"macros":1,"external_links":0,"defined_names":4,"comments":3,"pivot_tables":0},"unopened":[],"bounds":{"document_bytes":16777216,"sheet_cells":100000,"rows_first":2000,"rows_last":500,"rows_between":2000,"halvings":0,"cell_chars":16384,"cell_head_chars":4096},"cells_cut":0,"cells_raw":0,"read":"whole","date_system":"1900"}

{"sheet":"報告書入力","index":0,"n_rows":150,"n_cols":31,"rows_kept":150,"cut":false,"hidden":false,"merged":[[5,11,5,18],[7,10,7,15],[8,8,9,8],[8,9,9,9],[8,10,9,10],[8,11,9,11],[8,12,9,12],[5,9,5,10],[5,21,5,25],[1029,23,1029,24],[8,13,9,13],[13,1,14,1],[15,1,16,1],[7,4,9,4],[25,1,26,1],[27,1,28,1],[29,1,30,1],[1029,4,1030,4],[1025,4,1026,4],[1028,17,1028,19],[17,1,18,1],[19,1,20,1],[21,1,22,1],[23,1,24,1],[8,7,9,7],[1023,4,1024,4],[1021,4,1022,4],[1019,4,1020,4],[1017,4,1018,4],[7,5,7,6],[7,8,7,9],[1030,17,1030,19],[1030,23,1030,24],[1029,5,1030,9],[1029,10,1030,16],[1029,17,1029,19],[1027,23,1027,24],[1028,15,1028,16],[8,17,9,17],[8,18,9,18],[11,14,12,17],[1025,15,1025,16],[1025,17,1025,19],[1023,23,1023,24],[1024,15,1024,16],[1024,17,1024,19],[1024,23,1024,24],[1025,23,1025,24],[1015,4,1016,4],[1026,15,1026,16],[1026,17,1026,19],[1026,23,1026,24],[1028,23,1028,24],[1027,4,1028,4],[1027,5,1028,9],[1027,15,1027,16],[1027,17,1027,19],[1025,5,1026,9],[1022,23,1022,24],[1017,23,1017,24],[1018,15,1018,16],[1018,17,1018,19],[1018,23,1018,24],[1021,5,1022,9],[1021,15,1021,16],[1021,17,1021,19],[1019,23,1019,24],[1020,15,1020,16],[1023,5,1024,9],[1023,15,1023,16],[1023,17,1023,19],[1020,23,1020,24],[1019,5,1020,9],[1019,15,1019,16],[1019,17,1019,19],[1021,23,1021,24],[1022,15,1022,16],[1022,17,1022,19],[1015,17,1015,19],[1013,15,1013,16],[1013,17,1013,19],[1013,23,1013,24],[1014,15,1014,16],[1014,17,1014,19],[1014,23,1014,24],[1020,17,1020,19],[1017,5,1018,9],[1017,15,1017,16],[1017,17,1017,19],[1015,23,1015,24],[1016,15,1016,16],[1016,17,1016,19],[1016,23,1016,24],[1015,5,1016,9],[1015,15,1015,16],[1011,15,1011,16],[1011,17,1011,19],[1012,15,1012,16],[1012,17,1012,19],[1012,23,1012,24],[31,1,32,1],[33,1,34,1],[35,1,36,1],[37,1,38,1],[39,1,40,1],[41,1,42,1],[43,1,44,1],[1011,4,1012,4],[1011,5,1012,9],[1013,4,1014,4],[1013,5,1014,9],[1008,4,1010,4],[1008,5,1010,9],[1004,4,1007,4],[1004,8,1004,9],[149,22,150,22],[45,1,46,1],[47,1,48,1],[49,1,50,1],[51,1,52,1],[53,1,54,1],[55,1,56,1],[57,1,58,1],[1009,23,1010,24],[1005,18,1007,18],[1005,17,1007,17],[1008,20,1008,21],[1009,17,1010,19],[1009,20,1010,20],[1009,21,1010,21],[1008,10,1010,16],[1005,14,1007,14],[1005,15,1007,15],[1005,16,1007,16],[1005,5,1007,5],[1005,8,1007,8],[1005,9,1007,9],[1005,6,1007,6],[1005,7,1007,7],[1005,10,1007,10],[989,4,990,4],[987,4,988,4],[985,4,986,4],[983,4,984,4],[981,4,982,4],[979,4,980,4],[1004,16,1004,18],[1004,25,1006,25],[989,23,989,24],[990,17,990,19],[990,23,990,24],[1004,5,1004,6],[989,5,990,9],[989,10,990,16],[989,17,989,19],[1004,10,1004,15],[1005,11,1007,11],[1005,12,1007,12],[1005,13,1007,13],[985,5,986,9],[985,15,985,16],[985,17,985,19],[983,23,983,24],[984,15,984,16],[984,17,984,19],[983,5,984,9],[983,15,983,16],[983,17,983,19],[985,23,985,24],[986,15,986,16],[986,17,986,19],[986,23,986,24],[977,4,978,4],[975,4,976,4],[987,23,987,24],[988,15,988,16],[988,17,988,19],[988,23,988,24],[987,5,988,9],[987,15,987,16],[987,17,987,19],[984,23,984,24],[975,5,976,9],[975,15,975,16],[975,17,975,19],[977,5,978,9],[977,15,977,16],[977,17,977,19],[975,23,975,24],[976,15,976,16],[976,17,976,19],[976,23,976,24],[977,23,977,24],[978,15,978,16],[978,17,978,19],[978,23,978,24],[981,5,982,9],[981,15,981,16],[981,17,981,19],[979,23,979,24],[980,15,980,16],[980,17,980,19],[980,23,980,24],[979,5,980,9],[979,15,979,16],[979,17,979,19],[981,23,981,24],[982,15,982,16],[982,17,982,19],[982,23,982,24],[971,15,971,16],[971,17,971,19],[972,15,972,16],[972,17,972,19],[972,23,972,24],[59,1,60,1],[61,1,62,1],[63,1,64,1],[65,1,66,1],[67,1,68,1],[69,1,70,1],[71,1,72,1],[971,4,972,4],[971,5,972,9],[973,4,974,4],[973,5,974,9],[968,4,970,4],[968,5,970,9],[964,4,967,4],[964,8,964,9],[973,15,973,16],[973,17,973,19],[973,23,973,24],[974,15,974,16],[974,17,974,19],[974,23,974,24],[73,1,74,1],[75,1,76,1],[77,1,78,1],[79,1,80,1],[81,1,82,1],[83,1,84,1],[85,1,86,1],[969,23,970,24],[965,18,967,18],[965,17,967,17],[968,20,968,21],[969,17,970,19],[969,20,970,20],[969,21,970,21],[968,10,970,16],[965,14,967,14],[965,15,967,15],[965,16,967,16],[965,5,967,5],[965,8,967,8],[965,9,967,9],[965,6,967,6],[965,7,967,7],[965,10,967,10],[949,4,950,4],[947,4,948,4],[945,4,946,4],[943,4,944,4],[941,4,942,4],[939,4,940,4],[964,16,964,18],[964,25,966,25],[949,23,949,24],[950,17,950,19],[950,23,950,24],[964,5,964,6],[949,5,950,9],[949,10,950,16],[949,17,949,19],[964,10,964,15],[965,11,967,11],[965,12,967,12],[965,13,967,13],[945,5,946,9],[945,15,945,16],[945,17,945,19],[943,23,943,24],[944,15,944,16],[944,17,944,19],[943,5,944,9],[943,15,943,16],[943,17,943,19],[945,23,945,24],[946,15,946,16],[946,17,946,19],[946,23,946,24],[937,4,938,4],[935,4,936,4],[947,23,947,24],[948,15,948,16],[948,17,948,19],[948,23,948,24],[947,5,948,9],[947,15,947,16],[947,17,947,19],[944,23,944,24],[935,5,936,9],[935,15,935,16],[935,17,935,19],[937,5,938,9],[937,15,937,16],[937,17,937,19],[935,23,935,24],[936,15,936,16],[936,17,936,19],[936,23,936,24],[937,23,937,24],[938,15,938,16],[938,17,938,19],[938,23,938,24],[941,5,942,9],[941,15,941,16],[941,17,941,19],[939,23,939,24],[940,15,940,16],[940,17,940,19],[940,23,940,24],[939,5,940,9],[939,15,939,16],[939,17,939,19],[941,23,941,24],[942,15,942,16],[942,17,942,19],[942,23,942,24],[931,15,931,16],[931,17,931,19],[932,15,932,16],[932,17,932,19],[932,23,932,24],[87,1,88,1],[89,1,90,1],[91,1,92,1],[93,1,94,1],[95,1,96,1],[97,1,98,1],[99,1,100,1],[931,4,932,4],[931,5,932,9],[933,4,934,4],[933,5,934,9],[928,4,930,4],[928,5,930,9],[924,4,927,4],[924,8,924,9],[933,15,933,16],[933,17,933,19],[933,23,933,24],[934,15,934,16],[934,17,934,19],[934,23,934,24],[101,1,102,1],[103,1,104,1],[105,1,106,1],[107,1,108,1],[109,1,110,1],[111,1,112,1],[113,1,114,1],[929,23,930,24],[925,18,927,18],[925,17,927,17],[928,20,928,21],[929,17,930,19],[929,20,930,20],[929,21,930,21],[928,10,930,16],[925,14,927,14],[925,15,927,15],[925,16,927,16],[925,5,927,5],[925,8,927,8],[925,9,927,9],[925,6,927,6],[925,7,927,7],[925,10,927,10],[909,4,910,4],[907,4,908,4],[905,4,906,4],[903,4,904,4],[901,4,902,4],[899,4,900,4],[924,16,924,18],[924,25,926,25],[909,23,909,24],[910,17,910,19],[910,23,910,24],[924,5,924,6],[909,5,910,9],[909,10,910,16],[909,17,909,19],[924,10,924,15],[925,11,927,11],[925,12,927,12],[925,13,927,13],[905,5,906,9],[905,15,905,16],[905,17,905,19],[903,23,903,24],[904,15,904,16],[904,17,904,19],[903,5,904,9],[903,15,903,16],[903,17,903,19],[905,23,905,24],[906,15,906,16],[906,17,906,19],[906,23,906,24],[897,4,898,4],[895,4,896,4],[907,23,907,24],[908,15,908,16],[908,17,908,19],[908,23,908,24],[907,5,908,9],[907,15,907,16],[907,17,907,19],[904,23,904,24],[895,5,896,9],[895,15,895,16],[895,17,895,19],[897,5,898,9],[897,15,897,16],[897,17,897,19],[895,23,895,24],[896,15,896,16],[896,17,896,19],[896,23,896,24],[897,23,897,24],[898,15,898,16],[898,17,898,19],[898,23,898,24],[901,5,902,9],[901,15,901,16],[901,17,901,19],[899,23,899,24],[900,15,900,16],[900,17,900,19],[900,23,900,24],[899,5,900,9],[899,15,899,16],[899,17,899,19],[901,23,901,24],[902,15,902,16],[902,17,902,19],[902,23,902,24],[891,15,891,16],[891,17,891,19],[892,15,892,16],[892,17,892,19],[892,23,892,24],[115,1,116,1],[117,1,118,1],[119,1,120,1],[121,1,122,1],[123,1,124,1],[125,1,126,1],[127,1,128,1],[891,4,892,4],[891,5,892,9],[893,4,894,4],[893,5,894,9],[888,4,890,4],[888,5,890,9],[884,4,887,4],[884,8,884,9],[893,15,893,16],[893,17,893,19],[893,23,893,24],[894,15,894,16],[894,17,894,19],[894,23,894,24],[129,1,130,1],[131,1,132,1],[133,1,134,1],[135,1,136,1],[869,4,870,4],[867,4,868,4],[865,4,866,4],[889,23,890,24],[885,18,887,18],[885,17,887,17],[888,20,888,21],[889,17,890,19],[889,20,890,20],[889,21,890,21],[888,10,890,16],[885,14,887,14],[885,15,887,15],[885,16,887,16],[885,5,887,5],[885,8,887,8],[885,9,887,9],[885,6,887,6],[885,7,887,7],[885,10,887,10],[868,23,868,24],[867,5,868,9],[867,15,867,16],[867,17,867,19],[867,23,867,24],[868,15,868,16],[868,17,868,19],[884,16,884,18],[884,25,886,25],[869,23,869,24],[870,17,870,19],[870,23,870,24],[884,5,884,6],[869,5,870,9],[869,10,870,16],[869,17,869,19],[884,10,884,15],[885,11,887,11],[885,12,887,12],[885,13,887,13],[865,5,866,9],[865,15,865,16],[865,17,865,19],[863,23,863,24],[864,15,864,16],[864,17,864,19],[864,23,864,24],[863,5,864,9],[137,1,138,1],[139,1,140,1],[141,1,142,1],[825,4,826,4],[865,23,865,24],[866,15,866,16],[866,17,866,19],[866,23,866,24],[863,15,863,16],[863,17,863,19],[863,4,864,4],[829,4,830,4],[827,4,828,4],[862,15,862,16],[862,17,862,19],[862,23,862,24],[856,17,856,19],[856,23,856,24],[855,17,855,19],[860,23,860,24],[143,1,144,1],[145,1,146,1],[147,1,148,1],[149,10,150,13],[149,21,150,21],[149,24,150,24],[149,23,150,23],[146,18,146,19],[147,14,147,16],[147,4,148,4],[854,17,854,19],[854,23,854,24],[852,15,852,16],[852,17,852,19],[852,23,852,24],[853,17,853,19],[853,23,853,24],[149,14,150,17],[149,18,150,19],[149,20,150,20],[857,23,857,24],[858,15,858,16],[849,20,850,20],[849,21,850,21],[849,23,850,24],[858,17,858,19],[854,15,854,16],[858,23,858,24],[855,23,855,24],[856,15,856,16],[844,4,847,4],[844,5,844,6],[844,8,844,9],[844,10,844,15],[845,14,847,14],[845,15,847,15],[845,9,847,9],[845,10,847,10],[845,11,847,11],[845,12,847,12],[845,5,847,5],[845,6,847,6],[845,7,847,7],[845,8,847,8],[851,17,851,19],[849,17,850,19],[845,13,847,13],[848,4,850,4],[848,5,850,9],[848,10,850,16],[851,4,852,4],[851,5,852,9],[851,15,851,16],[829,5,830,9],[829,10,830,16],[829,17,829,19],[827,23,827,24],[828,15,828,16],[828,17,828,19],[828,23,828,24],[827,5,828,9],[827,15,827,16],[827,17,827,19],[844,16,844,18],[844,25,846,25],[829,23,829,24],[830,17,830,19],[830,23,830,24],[845,16,847,16],[845,18,847,18],[845,17,847,17],[823,4,824,4],[823,5,824,9],[823,15,823,16],[823,17,823,19],[821,4,822,4],[821,5,822,9],[825,5,826,9],[825,15,825,16],[825,17,825,19],[823,23,823,24],[824,15,824,16],[824,17,824,19],[824,23,824,24],[825,23,825,24],[826,15,826,16],[826,17,826,19],[826,23,826,24],[813,23,813,24],[814,15,814,16],[814,17,814,19],[814,23,814,24],[815,23,815,24],[816,15,816,16],[816,17,816,19],[816,23,816,24],[817,23,817,24],[818,15,818,16],[818,17,818,19],[818,23,818,24],[822,15,822,16],[822,17,822,19],[822,23,822,24],[820,15,820,16],[820,17,820,19],[820,23,820,24],[821,15,821,16],[821,17,821,19],[821,23,821,24],[808,4,810,4],[808,5,810,9],[808,10,810,16],[805,5,807,5],[805,6,807,6],[805,7,807,7],[805,8,807,8],[805,9,807,9],[805,10,807,10],[805,11,807,11],[812,15,812,16],[812,17,812,19],[812,23,812,24],[809,17,810,19],[809,20,810,20],[809,21,810,21],[809,23,810,24],[811,17,811,19],[787,4,788,4],[787,5,788,9],[787,15,787,16],[787,17,787,19],[787,23,787,24],[788,15,788,16],[788,17,788,19],[788,23,788,24],[789,4,790,4],[789,5,790,9],[789,10,790,16],[789,17,789,19],[804,16,804,18],[804,25,806,25],[789,23,789,24],[790,17,790,19],[790,23,790,24],[805,18,807,18],[805,12,807,12],[805,13,807,13],[804,4,807,4],[804,5,804,6],[804,8,804,9],[804,10,804,15],[782,15,782,16],[782,17,782,19],[782,23,782,24],[780,15,780,16],[780,17,780,19],[780,23,780,24],[783,4,784,4],[783,5,784,9],[783,15,783,16],[783,17,783,19],[783,23,783,24],[784,15,784,16],[784,17,784,19],[784,23,784,24],[785,4,786,4],[785,5,786,9],[785,15,785,16],[785,17,785,19],[785,23,785,24],[786,15,786,16],[786,17,786,19],[786,23,786,24],[772,23,772,24],[769,17,770,19],[769,20,770,20],[769,21,770,21],[769,23,770,24],[773,23,773,24],[774,15,774,16],[774,17,774,19],[774,23,774,24],[775,23,775,24],[776,15,776,16],[776,17,776,19],[776,23,776,24],[777,23,777,24],[778,15,778,16],[778,17,778,19],[778,23,778,24],[764,25,766,25],[749,23,749,24],[750,17,750,19],[750,23,750,24],[765,16,767,16],[765,17,767,17],[765,18,767,18],[765,12,767,12],[765,13,767,13],[764,4,767,4],[764,5,764,6],[764,8,764,9],[764,10,764,15],[765,15,767,15],[768,4,770,4],[768,5,770,9],[768,10,770,16],[765,5,767,5],[765,6,767,6],[765,7,767,7],[765,8,767,8],[765,9,767,9],[765,10,767,10],[765,11,767,11],[745,23,745,24],[746,15,746,16],[746,17,746,19],[746,23,746,24],[747,4,748,4],[747,5,748,9],[747,15,747,16],[747,17,747,19],[747,23,747,24],[748,15,748,16],[748,17,748,19],[748,23,748,24],[749,4,750,4],[749,5,750,9],[749,10,750,16],[749,17,749,19],[764,16,764,18],[736,17,736,19],[736,23,736,24],[737,23,737,24],[738,15,738,16],[738,17,738,19],[738,23,738,24],[742,23,742,24],[740,15,740,16],[740,17,740,19],[740,23,740,24],[741,15,741,16],[741,17,741,19],[741,23,741,24],[743,15,743,16],[743,17,743,19],[743,23,743,24],[744,15,744,16],[744,17,744,19],[744,23,744,24],[709,4,710,4],[709,5,710,9],[709,10,710,16],[709,17,709,19],[724,25,726,25],[709,23,709,24],[710,17,710,19],[710,23,710,24],[725,18,727,18],[725,12,727,12],[725,13,727,13],[724,4,727,4],[724,5,724,6],[724,8,724,9],[724,10,724,15],[728,4,730,4],[728,5,730,9],[728,10,730,16],[725,5,727,5],[725,6,727,6],[725,7,727,7],[725,8,727,8],[725,9,727,9],[725,10,727,10],[725,11,727,11],[729,17,730,19],[729,20,730,20],[729,21,730,21],[729,23,730,24],[703,17,703,19],[703,23,703,24],[704,15,704,16],[704,17,704,19],[704,23,704,24],[701,4,702,4],[705,4,706,4],[705,5,706,9],[705,15,705,16],[705,17,705,19],[705,23,705,24],[706,15,706,16],[706,17,706,19],[706,23,706,24],[707,4,708,4],[707,5,708,9],[707,15,707,16],[707,17,707,19],[707,23,707,24],[708,15,708,16],[708,17,708,19],[708,23,708,24],[692,23,692,24],[689,17,690,19],[689,20,690,20],[689,21,690,21],[689,23,690,24],[693,23,693,24],[694,15,694,16],[694,17,694,19],[694,23,694,24],[695,23,695,24],[696,15,696,16],[696,17,696,19],[696,23,696,24],[697,23,697,24],[698,15,698,16],[698,17,698,19],[698,23,698,24],[665,23,665,24],[666,15,666,16],[666,17,666,19],[666,23,666,24],[667,4,668,4],[667,5,668,9],[667,15,667,16],[667,17,667,19],[667,23,667,24],[668,15,668,16],[668,17,668,19],[668,23,668,24],[669,4,670,4],[669,5,670,9],[669,10,670,16],[669,17,669,19],[684,25,686,25],[669,23,669,24],[670,17,670,19],[670,23,670,24],[685,18,687,18],[685,12,687,12],[685,13,687,13],[684,4,687,4],[684,5,684,6],[684,8,684,9],[684,10,684,15],[685,5,687,5],[685,6,687,6],[685,7,687,7],[685,8,687,8],[685,9,687,9],[656,23,656,24],[657,23,657,24],[658,15,658,16],[658,17,658,19],[658,23,658,24],[662,23,662,24],[660,15,660,16],[660,17,660,19],[660,23,660,24],[661,15,661,16],[661,17,661,19],[661,23,661,24],[663,4,664,4],[663,5,664,9],[663,15,663,16],[663,17,663,19],[663,23,663,24],[664,15,664,16],[664,17,664,19],[664,23,664,24],[661,4,662,4],[629,4,630,4],[629,5,630,9],[629,10,630,16],[629,17,629,19],[644,25,646,25],[629,23,629,24],[630,17,630,19],[630,23,630,24],[645,18,647,18],[645,12,647,12],[645,13,647,13],[644,4,647,4],[644,5,644,6],[644,8,644,9],[644,10,644,15],[648,4,650,4],[648,5,650,9],[648,10,650,16],[645,5,647,5],[645,6,647,6],[645,7,647,7],[645,8,647,8],[645,9,647,9],[645,10,647,10],[645,11,647,11],[649,17,650,19],[649,20,650,20],[649,21,650,21],[649,23,650,24],[623,17,623,19],[623,23,623,24],[624,15,624,16],[624,17,624,19],[624,23,624,24],[621,4,622,4],[625,4,626,4],[625,5,626,9],[625,15,625,16],[625,17,625,19],[625,23,625,24],[626,15,626,16],[626,17,626,19],[626,23,626,24],[627,4,628,4],[627,5,628,9],[627,15,627,16],[627,17,627,19],[627,23,627,24],[628,15,628,16],[628,17,628,19],[628,23,628,24],[612,23,612,24],[609,17,610,19],[609,20,610,20],[609,21,610,21],[609,23,610,24],[613,23,613,24],[614,15,614,16],[614,17,614,19],[614,23,614,24],[615,23,615,24],[616,15,616,16],[616,17,616,19],[616,23,616,24],[617,23,617,24],[618,15,618,16],[618,17,618,19],[618,23,618,24],[585,23,585,24],[586,15,586,16],[586,17,586,19],[586,23,586,24],[587,4,588,4],[587,5,588,9],[587,15,587,16],[587,17,587,19],[587,23,587,24],[588,15,588,16],[588,17,588,19],[588,23,588,24],[589,4,590,4]],"merged_total":2994,"flags":["merged_cut"]}
["必要データ数",null,null,null,"様式第７号（第34条関係）　（甲）",null,null,null,null,null,null,null,"労　働　保　険",null,null,null,null,null,null,null,null,null,null,null,null,null,"2015-04-01"]
[null,{"$f":"68-COUNTIF(B14:B149,99999)","v":0},null,null,null,null,{"$f":"TEXT(EOMONTH(L6,-12),\"e\")","v":"5"},null,null,"一括有期事業報告書　（建設の事業）",null,null,null,null,null,null,null,null,null,null,null,null,null,null,null,null,null,"労務比率",null,"2015-04-01",108]
[null,null,null,null,null,"令和",null,"年度",null,null,null,null,null,null,null,null,null,null,null,null,null,null,null,null,null,null,null,"33 舗装工事業",null,"2019-10-01",110]
[null,null,"税込",null,"前年度中（保険関係が消滅した日まで）に廃止又は終了があったそれぞれの事業の明細を上記のとおり報告します。",null,null,null,null,null,null,null,null,null,null,null,null,null,null,null,null,null,null,null,null,null,null,"32 道路新設事業"]
[null,null,"税抜",null,null,null,null,null,null,null,null,null,null,null,null,null,null,null,null,null,"郵便番号",null,null,"（ハイフン不要）",null,null,null,"34 鉄道又は軌道新設事業"]
[null,{"$f":"DATE(G2+2018,4,1)","v":"2023-04-01"},null,null,"請負代金",null,"税込",null,null,"記入日",null,"2024-04-01",null,null,null,null,null,null,null,null,"住所",null,null,null,null,null,null,"35 建築事業\n（既設建築物設備工事業を除く）"]
[null,{"$f":"EDATE(B6,12)-1","v":"2024-03-31"},null,null,null,null,null,null,null,null,null,null,null,null,null,null,null,null,null,null,"事業所名",null,null,null,null,null,null,"38 既設建築物設備工事業"]
[null,null,null,null,"労 働 保 険 番 号","府　県",null,"所掌","管　轄",null,"基　幹　番　号",null,null,null,null,null,"枝 番 号",null,null,null,"代表者名",null,null,null,null,null,null,"36 機械装置(組立て又は取付け）"]
[null,null,null,null,null,"1","9","1","0","2","9","3","3","0","7","5",null,null,null,null,"電話番号",null,null,null,null,null,null,"36 機械装置(その他のもの）"]
[null,null,null,null,null,null,null,null,null,null,null,null,null,null,null,null,null,null,null,null,null,null,null,null,null,null,null,"37 その他の建設事業"]
[null,null,null,null,"事  業  の  名  称","事業場の所在地",null,null,null,null,"事業の期間",null,null,null,"①","請負金額の内訳",null,null,null,null,null,null,"消費税対応の\n報告請負額","②","③","事業の種類",null,"31水力発電施設、ずい道等新設事業"]
[null,null,null,null,null,null,null,null,null,null,null,null,null,null,"請負代金の額",null,null,null,"請負代金に\n加算する額",null,"請負代金から\n控除する額","請負代金",null,"労務\n費率","賃  金  総  額"]
[]
[{"$f":"RANK(B14,$B$14:$B$149,2)","v":1},{"$f":"IF(E14=0,99999,C15*100+COUNTIF($C$13:C15,C15))","v":99999},null,{"$f":"IF(Z14=$AB$9,36.5,LEFT(Z14,2))*1","v":{"$error":"#VALUE!"}},null,null,null,null,null,null,"2023-04-01",null,null,"から",null,null,null,"円",null,"円","円","円"]
[{"$f":"A14+0.1","v":1.1000000000000001},null,{"$f":"D14*10+D15","v":{"$error":"#VALUE!"}},{"$f":"VLOOKUP(K14,コード!$D$2:$F$5,3)","v":3},null,null,null,null,null,null,"2024-03-31",null,null,"まで",null,null,null,null,null,null,null,{"$f":"IF(E14=0,\"\",IF(AND(OR($K$16=0,K15=0),NOT($O$17=0)),\"事業期間入力\",IF(OR(K15<$B$6,K15>$B$7),\"対象期間外\",O15+S15-U15)))","v":""},{"$f":"IF($G$6=\"税抜\",TRUNC(V15*IF(K14<$AA$1,1.05,1)),TRUNC(V15*100/VLOOKUP(K15,$AD$2:$AE$4,2)))","v":{"$error":"#VALUE!"}},{"$f":"IF(B14=99999,\"\",VLOOKUP(C15,総括表!$B$12:$C$64,2,0))","v":""},{"$f":"IF(X15=\"\",\"\",TRUNC(W15*X15/100))","v":""},null,null,{"$f":"VLOOKUP(K15,AD2:AE4,2)","v":110}]
[{"$f":"RANK(B16,$B$14:$B$149,2)","v":1},{"$f":"IF(E16=0,99999,C17*100+COUNTIF($C$13:C17,C17))","v":99999},null,{"$f":"IF(Z16=$AB$9,36.5,LEFT(Z16,2))*1","v":{"$error":"#VALUE!"}},null,null,null,null,null,null,null,null,null,"から"]
[{"$f":"A16+0.1","v":1.1000000000000001},null,{"$f":"D16*10+D17","v":{"$error":"#VALUE!"}},{"$f":"VLOOKUP(K16,コード!$D$2:$F$5,3)","v":1},null,null,null,null,null,null,null,null,null,"まで",null,null,null,null,null,null,null,{"$f":"IF(E16=0,\"\",IF(AND(OR($K$16=0,K17=0),NOT($O$17=0)),\"事業期間入力\",IF(OR(K17<$B$6,K17>$B$7),\"対象期間外\",O17+S17-U17)))","v":""},{"$f":"IF($G$6=\"税抜\",TRUNC(V17*IF(K16<$AA$1,1.05,1)),TRUNC(V17*100/VLOOKUP(K17,$AD$2:$AE$4,2)))","v":{"$error":"#VALUE!"}},{"$f":"IF(B16=99999,\"\",VLOOKUP(C17,総括表!$B$12:$C$64,2,0))","v":""},{"$f":"IF(X17=\"\",\"\",TRUNC(W17*X17/100))","v":""}]
[{"$f":"RANK(B18,$B$14:$B$149,2)","v":1},{"$f":"IF(E18=0,99999,C19*100+COUNTIF($C$13:C19,C19))","v":99999},null,{"$f":"IF(Z18=$AB$9,36.5,LEFT(Z18,2))*1","v":{"$error":"#VALUE!"}},null,null,null,null,null,null,null,null,null,"から",null,null,null,null,null,null,null,"",null,null,""]
[{"$f":"A18+0.1","v":1.1000000000000001},null,{"$f":"D18*10+D19","v":{"$error":"#VALUE!"}},{"$f":"VLOOKUP(K18,コード!$D$2:$F$5,3)","v":1},null,null,null,null,null,null,null,null,null,"まで",null,null,null,null,null,null,null,"",{"$f":"IF($G$6=\"税抜\",TRUNC(V19*IF(K18<$AA$1,1.05,1)),TRUNC(V19*100/VLOOKUP(K19,$AD$2:$AE$4,2)))","v":{"$error":"#VALUE!"}},{"$f":"IF(B18=99999,\"\",VLOOKUP(C19,総括表!$B$12:$C$64,2,0))","v":""},""]
[{"$f":"RANK(B20,$B$14:$B$149,2)","v":1},{"$f":"IF(E20=0,99999,C21*100+COUNTIF($C$13:C21,C21))","v":99999},null,{"$f":"IF(Z20=$AB$9,36.5,LEFT(Z20,2))*1","v":{"$error":"#VALUE!"}},null,null,null,null,null,null,null,null,null,"から",null,null,null,null,null,null,null,{"$f":"IF(E19=0,\"\",IF(AND(OR($K$16=0,K20=0),NOT($O$17=0)),\"事業期間入力\",IF(OR(K20<$B$6,K20>$B$7),\"対象期間外\",O20+S20-U20)))","v":""},null,null,""]
[{"$f":"A20+0.1","v":1.1000000000000001},null,{"$f":"D20*10+D21","v":{"$error":"#VALUE!"}},{"$f":"VLOOKUP(K20,コード!$D$2:$F$5,3)","v":1},null,null,null,null,null,null,null,null,null,"まで",null,null,null,null,null,null,null,{"$f":"IF(E20=0,\"\",IF(AND(OR($K$16=0,K21=0),NOT($O$17=0)),\"事業期間入力\",IF(OR(K21<$B$6,K21>$B$7),\"対象期間外\",O21+S21-U21)))","v":""},{"$f":"IF($G$6=\"税抜\",TRUNC(V21*IF(K20<$AA$1,1.05,1)),TRUNC(V21*100/VLOOKUP(K21,$AD$2:$AE$4,2)))","v":{"$error":"#VALUE!"}},{"$f":"IF(B20=99999,\"\",VLOOKUP(C21,総括表!$B$12:$C$64,2,0))","v":""},""]
[{"$f":"RANK(B22,$B$14:$B$149,2)","v":1},{"$f":"IF(E22=0,99999,C23*100+COUNTIF($C$13:C23,C23))","v":99999},null,{"$f":"IF(Z22=$AB$9,36.5,LEFT(Z22,2))*1","v":{"$error":"#VALUE!"}},null,null,null,null,null,null,null,null,null,"から",null,null,null,null,null,null,null,null,null,null,""]
[{"$f":"A22+0.1","v":1.1000000000000001},null,{"$f":"D22*10+D23","v":{"$error":"#VALUE!"}},{"$f":"VLOOKUP(K22,コード!$D$2:$F$5,3)","v":1},null,null,null,null,null,null,null,null,null,"まで",null,null,null,null,null,null,null,{"$f":"IF(E22=0,\"\",IF(AND(OR($K$16=0,K23=0),NOT($O$17=0)),\"事業期間入力\",IF(OR(K23<$B$6,K23>$B$7),\"対象期間外\",O23+S23-U23)))","v":""},{"$f":"IF($G$6=\"税抜\",TRUNC(V23*IF(K22<$AA$1,1.05,1)),TRUNC(V23*100/VLOOKUP(K23,$AD$2:$AE$4,2)))","v":{"$error":"#VALUE!"}},{"$f":"IF(B22=99999,\"\",VLOOKUP(C23,総括表!$B$12:$C$64,2,0))","v":""},""]
[{"$f":"RANK(B24,$B$14:$B$149,2)","v":1},{"$f":"IF(E24=0,99999,C25*100+COUNTIF($C$13:C25,C25))","v":99999},null,{"$f":"IF(Z24=$AB$9,36.5,LEFT(Z24,2))*1","v":{"$error":"#VALUE!"}},null,null,null,null,null,null,null,null,null,"から",null,null,null,null,null,null,null,{"$f":"IF(E23=0,\"\",IF(AND(OR($K$16=0,K24=0),NOT($O$17=0)),\"事業期間入力\",IF(OR(K24<$B$6,K24>$B$7),\"対象期間外\",O24+S24-U24)))","v":""}]
[{"$f":"A24+0.1","v":1.1000000000000001},null,{"$f":"D24*10+D25","v":{"$error":"#VALUE!"}},{"$f":"VLOOKUP(K24,コード!$D$2:$F$5,3)","v":1},null,null,null,null,null,null,null,null,null,"まで",null,null,null,null,null,null,null,{"$f":"IF(E24=0,\"\",IF(AND(OR($K$16=0,K25=0),NOT($O$17=0)),\"事業期間入力\",IF(OR(K25<$B$6,K25>$B$7),\"対象期間外\",O25+S25-U25)))","v":""},{"$f":"IF($G$6=\"税抜\",TRUNC(V25*IF(K24<$AA$1,1.05,1)),TRUNC(V25*100/VLOOKUP(K25,$AD$2:$AE$4,2)))","v":{"$error":"#VALUE!"}},{"$f":"IF(B24=99999,\"\",VLOOKUP(C25,総括表!$B$12:$C$64,2,0))","v":""},{"$f":"IF(X25=\"\",\"\",TRUNC(W25*X25/100))","v":""}]
[{"$f":"RANK(B26,$B$14:$B$149,2)","v":1},{"$f":"IF(E26=0,99999,C27*100+COUNTIF($C$13:C27,C27))","v":99999},null,{"$f":"IF(Z26=$AB$9,36.5,LEFT(Z26,2))*1","v":{"$error":"#VALUE!"}},null,null,null,null,null,null,null,null,null,"から",null,null,null,null,null,null,null,""]
[{"$f":"A26+0.1","v":1.1000000000000001},null,{"$f":"D26*10+D27","v":{"$error":"#VALUE!"}},{"$f":"VLOOKUP(K26,コード!$D$2:$F$5,3)","v":1},null,null,null,null,null,null,null,null,null,"まで",null,null,null,null,null,null,null,"",{"$f":"IF($G$6=\"税抜\",TRUNC(V27*IF(K26<$AA$1,1.05,1)),TRUNC(V27*100/VLOOKUP(K27,$AD$2:$AE$4,2)))","v":{"$error":"#VALUE!"}},{"$f":"IF(B26=99999,\"\",VLOOKUP(C27,総括表!$B$12:$C$64,2,0))","v":""},{"$f":"IF(X27=\"\",\"\",TRUNC(W27*X27/100))","v":""}]
[{"$f":"RANK(B28,$B$14:$B$149,2)","v":1},{"$f":"IF(E28=0,99999,C29*100+COUNTIF($C$13:C29,C29))","v":99999},null,{"$f":"IF(Z28=$AB$9,36.5,LEFT(Z28,2))*1","v":{"$error":"#VALUE!"}},null,null,null,null,null,null,null,null,null,"から",null,null,null,null,null,null,null,""]
[{"$f":"A28+0.1","v":1.1000000000000001},null,{"$f":"D28*10+D29","v":{"$error":"#VALUE!"}},{"$f":"VLOOKUP(K28,コード!$D$2:$F$5,3)","v":1},null,null,null,null,null,null,null,null,null,"まで",null,null,null,null,null,null,null,"",{"$f":"IF($G$6=\"税抜\",TRUNC(V29*IF(K28<$AA$1,1.05,1)),TRUNC(V29*100/VLOOKUP(K29,$AD$2:$AE$4,2)))","v":{"$error":"#VALUE!"}},{"$f":"IF(B28=99999,\"\",VLOOKUP(C29,総括表!$B$12:$C$64,2,0))","v":""},{"$f":"IF(X29=\"\",\"\",TRUNC(W29*X29/100))","v":""}]
[{"$f":"RANK(B30,$B$14:$B$149,2)","v":1},{"$f":"IF(E30=0,99999,C31*100+COUNTIF($C$13:C31,C31))","v":99999},null,{"$f":"IF(Z30=$AB$9,36.5,LEFT(Z30,2))*1","v":{"$error":"#VALUE!"}},null,null,null,null,null,null,null,null,null,"から",null,null,null,null,null,null,null,""]
[{"$f":"A30+0.1","v":1.1000000000000001},null,{"$f":"D30*10+D31","v":{"$error":"#VALUE!"}},{"$f":"VLOOKUP(K30,コード!$D$2:$F$5,3)","v":1},null,null,null,null,null,null,null,null,null,"まで",null,null,null,null,null,null,null,"",{"$f":"IF($G$6=\"税抜\",TRUNC(V31*IF(K30<$AA$1,1.05,1)),TRUNC(V31*100/VLOOKUP(K31,$AD$2:$AE$4,2)))","v":{"$error":"#VALUE!"}},{"$f":"IF(B30=99999,\"\",VLOOKUP(C31,総括表!$B$12:$C$64,2,0))","v":""},{"$f":"IF(X31=\"\",\"\",TRUNC(W31*X31/100))","v":""}]
[{"$f":"RANK(B32,$B$14:$B$149,2)","v":1},{"$f":"IF(E32=0,99999,C33*100+COUNTIF($C$13:C33,C33))","v":99999},null,{"$f":"IF(Z32=$AB$9,36.5,LEFT(Z32,2))*1","v":{"$error":"#VALUE!"}},null,null,null,null,null,null,null,null,null,"から",null,null,null,null,null,null,null,""]
[{"$f":"A32+0.1","v":1.1000000000000001},null,{"$f":"D32*10+D33","v":{"$error":"#VALUE!"}},{"$f":"VLOOKUP(K32,コード!$D$2:$F$5,3)","v":1},null,null,null,null,null,null,null,null,null,"まで",null,null,null,null,null,null,null,"",{"$f":"IF($G$6=\"税抜\",TRUNC(V33*IF(K32<$AA$1,1.05,1)),TRUNC(V33*100/VLOOKUP(K33,$AD$2:$AE$4,2)))","v":{"$error":"#VALUE!"}},{"$f":"IF(B32=99999,\"\",VLOOKUP(C33,総括表!$B$12:$C$64,2,0))","v":""},{"$f":"IF(X33=\"\",\"\",TRUNC(W33*X33/100))","v":""}]
[{"$f":"RANK(B34,$B$14:$B$149,2)","v":1},{"$f":"IF(E34=0,99999,C35*100+COUNTIF($C$13:C35,C35))","v":99999},null,{"$f":"IF(Z34=$AB$9,36.5,LEFT(Z34,2))*1","v":{"$error":"#VALUE!"}},null,null,null,null,null,null,null,null,null,"から",null,null,null,null,null,null,null,""]
[{"$f":"A34+0.1","v":1.1000000000000001},null,{"$f":"D34*10+D35","v":{"$error":"#VALUE!"}},{"$f":"VLOOKUP(K34,コード!$D$2:$F$5,3)","v":1},null,null,null,null,null,null,null,null,null,"まで",null,null,null,null,null,null,null,"",{"$f":"IF($G$6=\"税抜\",TRUNC(V35*IF(K34<$AA$1,1.05,1)),TRUNC(V35*100/VLOOKUP(K35,$AD$2:$AE$4,2)))","v":{"$error":"#VALUE!"}},{"$f":"IF(B34=99999,\"\",VLOOKUP(C35,総括表!$B$12:$C$64,2,0))","v":""},{"$f":"IF(X35=\"\",\"\",TRUNC(W35*X35/100))","v":""}]
[{"$f":"RANK(B36,$B$14:$B$149,2)","v":1},{"$f":"IF(E36=0,99999,C37*100+COUNTIF($C$13:C37,C37))","v":99999},null,{"$f":"IF(Z36=$AB$9,36.5,LEFT(Z36,2))*1","v":{"$error":"#VALUE!"}},null,null,null,null,null,null,null,null,null,"から",null,null,null,null,null,null,null,""]
[{"$f":"A36+0.1","v":1.1000000000000001},null,{"$f":"D36*10+D37","v":{"$error":"#VALUE!"}},{"$f":"VLOOKUP(K36,コード!$D$2:$F$5,3)","v":1},null,null,null,null,null,null,null,null,null,"まで",null,null,null,null,null,null,null,"",{"$f":"IF($G$6=\"税抜\",TRUNC(V37*IF(K36<$AA$1,1.05,1)),TRUNC(V37*100/VLOOKUP(K37,$AD$2:$AE$4,2)))","v":{"$error":"#VALUE!"}},{"$f":"IF(B36=99999,\"\",VLOOKUP(C37,総括表!$B$12:$C$64,2,0))","v":""},{"$f":"IF(X37=\"\",\"\",TRUNC(W37*X37/100))","v":""}]
[{"$f":"RANK(B38,$B$14:$B$149,2)","v":1},{"$f":"IF(E38=0,99999,C39*100+COUNTIF($C$13:C39,C39))","v":99999},null,{"$f":"IF(Z38=$AB$9,36.5,LEFT(Z38,2))*1","v":{"$error":"#VALUE!"}},null,null,null,null,null,null,null,null,null,"から",null,null,null,null,null,null,null,""]
[{"$f":"A38+0.1","v":1.1000000000000001},null,{"$f":"D38*10+D39","v":{"$error":"#VALUE!"}},{"$f":"VLOOKUP(K38,コード!$D$2:$F$5,3)","v":1},null,null,null,null,null,null,null,null,null,"まで",null,null,null,null,null,null,null,"",{"$f":"IF($G$6=\"税抜\",TRUNC(V39*IF(K38<$AA$1,1.05,1)),TRUNC(V39*100/VLOOKUP(K39,$AD$2:$AE$4,2)))","v":{"$error":"#VALUE!"}},{"$f":"IF(B38=99999,\"\",VLOOKUP(C39,総括表!$B$12:$C$64,2,0))","v":""},{"$f":"IF(X39=\"\",\"\",TRUNC(W39*X39/100))","v":""}]
[{"$f":"RANK(B40,$B$14:$B$149,2)","v":1},{"$f":"IF(E40=0,99999,C41*100+COUNTIF($C$13:C41,C41))","v":99999},null,{"$f":"IF(Z40=$AB$9,36.5,LEFT(Z40,2))*1","v":{"$error":"#VALUE!"}},null,null,null,null,null,null,null,null,null,"から",null,null,null,null,null,null,null,""]
[{"$f":"A40+0.1","v":1.1000000000000001},null,{"$f":"D40*10+D41","v":{"$error":"#VALUE!"}},{"$f":"VLOOKUP(K40,コード!$D$2:$F$5,3)","v":1},null,null,null,null,null,null,null,null,null,"まで",null,null,null,null,null,null,null,"",{"$f":"IF($G$6=\"税抜\",TRUNC(V41*IF(K40<$AA$1,1.05,1)),TRUNC(V41*100/VLOOKUP(K41,$AD$2:$AE$4,2)))","v":{"$error":"#VALUE!"}},{"$f":"IF(B40=99999,\"\",VLOOKUP(C41,総括表!$B$12:$C$64,2,0))","v":""},{"$f":"IF(X41=\"\",\"\",TRUNC(W41*X41/100))","v":""}]
[{"$f":"RANK(B42,$B$14:$B$149,2)","v":1},{"$f":"IF(E42=0,99999,C43*100+COUNTIF($C$13:C43,C43))","v":99999},null,{"$f":"IF(Z42=$AB$9,36.5,LEFT(Z42,2))*1","v":{"$error":"#VALUE!"}},null,null,null,null,null,null,null,null,null,"から",null,null,null,null,null,null,null,""]
[{"$f":"A42+0.1","v":1.1000000000000001},null,{"$f":"D42*10+D43","v":{"$error":"#VALUE!"}},{"$f":"VLOOKUP(K42,コード!$D$2:$F$5,3)","v":1},null,null,null,null,null,null,null,null,null,"まで",null,null,null,null,null,null,null,"",{"$f":"IF($G$6=\"税抜\",TRUNC(V43*IF(K42<$AA$1,1.05,1)),TRUNC(V43*100/VLOOKUP(K43,$AD$2:$AE$4,2)))","v":{"$error":"#VALUE!"}},{"$f":"IF(B42=99999,\"\",VLOOKUP(C43,総括表!$B$12:$C$64,2,0))","v":""},{"$f":"IF(X43=\"\",\"\",TRUNC(W43*X43/100))","v":""}]
[{"$f":"RANK(B44,$B$14:$B$149,2)","v":1},{"$f":"IF(E44=0,99999,C45*100+COUNTIF($C$13:C45,C45))","v":99999},null,{"$f":"IF(Z44=$AB$9,36.5,LEFT(Z44,2))*1","v":{"$error":"#VALUE!"}},null,null,null,null,null,null,null,null,null,"から",null,null,null,null,null,null,null,""]
[{"$f":"A44+0.1","v":1.1000000000000001},null,{"$f":"D44*10+D45","v":{"$error":"#VALUE!"}},{"$f":"VLOOKUP(K44,コード!$D$2:$F$5,3)","v":1},null,null,null,null,null,null,null,null,null,"まで",null,null,null,null,null,null,null,"",{"$f":"IF($G$6=\"税抜\",TRUNC(V45*IF(K44<$AA$1,1.05,1)),TRUNC(V45*100/VLOOKUP(K45,$AD$2:$AE$4,2)))","v":{"$error":"#VALUE!"}},{"$f":"IF(B44=99999,\"\",VLOOKUP(C45,総括表!$B$12:$C$64,2,0))","v":""},{"$f":"IF(X45=\"\",\"\",TRUNC(W45*X45/100))","v":""}]
[{"$f":"RANK(B46,$B$14:$B$149,2)","v":1},{"$f":"IF(E46=0,99999,C47*100+COUNTIF($C$13:C47,C47))","v":99999},null,{"$f":"IF(Z46=$AB$9,36.5,LEFT(Z46,2))*1","v":{"$error":"#VALUE!"}},null,null,null,null,null,null,null,null,null,"から",null,null,null,null,null,null,null,""]
[{"$f":"A46+0.1","v":1.1000000000000001},null,{"$f":"D46*10+D47","v":{"$error":"#VALUE!"}},{"$f":"VLOOKUP(K46,コード!$D$2:$F$5,3)","v":1},null,null,null,null,null,null,null,null,null,"まで",null,null,null,null,null,null,null,"",{"$f":"IF($G$6=\"税抜\",TRUNC(V47*IF(K46<$AA$1,1.05,1)),TRUNC(V47*100/VLOOKUP(K47,$AD$2:$AE$4,2)))","v":{"$error":"#VALUE!"}},{"$f":"IF(B46=99999,\"\",VLOOKUP(C47,総括表!$B$12:$C$64,2,0))","v":""},{"$f":"IF(X47=\"\",\"\",TRUNC(W47*X47/100))","v":""}]
[{"$f":"RANK(B48,$B$14:$B$149,2)","v":1},{"$f":"IF(E48=0,99999,C49*100+COUNTIF($C$13:C49,C49))","v":99999},null,{"$f":"IF(Z48=$AB$9,36.5,LEFT(Z48,2))*1","v":{"$error":"#VALUE!"}},null,null,null,null,null,null,null,null,null,"から",null,null,null,null,null,null,null,""]
[{"$f":"A48+0.1","v":1.1000000000000001},null,{"$f":"D48*10+D49","v":{"$error":"#VALUE!"}},{"$f":"VLOOKUP(K48,コード!$D$2:$F$5,3)","v":1},null,null,null,null,null,null,null,null,null,"まで",null,null,null,null,null,null,null,"",{"$f":"IF($G$6=\"税抜\",TRUNC(V49*IF(K48<$AA$1,1.05,1)),TRUNC(V49*100/VLOOKUP(K49,$AD$2:$AE$4,2)))","v":{"$error":"#VALUE!"}},{"$f":"IF(B48=99999,\"\",VLOOKUP(C49,総括表!$B$12:$C$64,2,0))","v":""},{"$f":"IF(X49=\"\",\"\",TRUNC(W49*X49/100))","v":""}]
[{"$f":"RANK(B50,$B$14:$B$149,2)","v":1},{"$f":"IF(E50=0,99999,C51*100+COUNTIF($C$13:C51,C51))","v":99999},null,{"$f":"IF(Z50=$AB$9,36.5,LEFT(Z50,2))*1","v":{"$error":"#VALUE!"}},null,null,null,null,null,null,null,null,null,"から",null,null,null,null,null,null,null,""]
[{"$f":"A50+0.1","v":1.1000000000000001},null,{"$f":"D50*10+D51","v":{"$error":"#VALUE!"}},{"$f":"VLOOKUP(K50,コード!$D$2:$F$5,3)","v":1},null,null,null,null,null,null,null,null,null,"まで",null,null,null,null,null,null,null,"",{"$f":"IF($G$6=\"税抜\",TRUNC(V51*IF(K50<$AA$1,1.05,1)),TRUNC(V51*100/VLOOKUP(K51,$AD$2:$AE$4,2)))","v":{"$error":"#VALUE!"}},{"$f":"IF(B50=99999,\"\",VLOOKUP(C51,総括表!$B$12:$C$64,2,0))","v":""},{"$f":"IF(X51=\"\",\"\",TRUNC(W51*X51/100))","v":""}]
[{"$f":"RANK(B52,$B$14:$B$149,2)","v":1},{"$f":"IF(E52=0,99999,C53*100+COUNTIF($C$13:C53,C53))","v":99999},null,{"$f":"IF(Z52=$AB$9,36.5,LEFT(Z52,2))*1","v":{"$error":"#VALUE!"}},null,null,null,null,null,null,null,null,null,"から",null,null,null,null,null,null,null,""]
[{"$f":"A52+0.1","v":1.1000000000000001},null,{"$f":"D52*10+D53","v":{"$error":"#VALUE!"}},{"$f":"VLOOKUP(K52,コード!$D$2:$F$5,3)","v":1},null,null,null,null,null,null,null,null,null,"まで",null,null,null,null,null,null,null,"",{"$f":"IF($G$6=\"税抜\",TRUNC(V53*IF(K52<$AA$1,1.05,1)),TRUNC(V53*100/VLOOKUP(K53,$AD$2:$AE$4,2)))","v":{"$error":"#VALUE!"}},{"$f":"IF(B52=99999,\"\",VLOOKUP(C53,総括表!$B$12:$C$64,2,0))","v":""},{"$f":"IF(X53=\"\",\"\",TRUNC(W53*X53/100))","v":""}]
[{"$f":"RANK(B54,$B$14:$B$149,2)","v":1},{"$f":"IF(E54=0,99999,C55*100+COUNTIF($C$13:C55,C55))","v":99999},null,{"$f":"IF(Z54=$AB$9,36.5,LEFT(Z54,2))*1","v":{"$error":"#VALUE!"}},null,null,null,null,null,null,null,null,null,"から",null,null,null,null,null,null,null,""]
[{"$f":"A54+0.1","v":1.1000000000000001},null,{"$f":"D54*10+D55","v":{"$error":"#VALUE!"}},{"$f":"VLOOKUP(K54,コード!$D$2:$F$5,3)","v":1},null,null,null,null,null,null,null,null,null,"まで",null,null,null,null,null,null,null,"",{"$f":"IF($G$6=\"税抜\",TRUNC(V55*IF(K54<$AA$1,1.05,1)),TRUNC(V55*100/VLOOKUP(K55,$AD$2:$AE$4,2)))","v":{"$error":"#VALUE!"}},{"$f":"IF(B54=99999,\"\",VLOOKUP(C55,総括表!$B$12:$C$64,2,0))","v":""},{"$f":"IF(X55=\"\",\"\",TRUNC(W55*X55/100))","v":""}]
[{"$f":"RANK(B56,$B$14:$B$149,2)","v":1},{"$f":"IF(E56=0,99999,C57*100+COUNTIF($C$13:C57,C57))","v":99999},null,{"$f":"IF(Z56=$AB$9,36.5,LEFT(Z56,2))*1","v":{"$error":"#VALUE!"}},null,null,null,null,null,null,null,null,null,"から",null,null,null,null,null,null,null,""]
[{"$f":"A56+0.1","v":1.1000000000000001},null,{"$f":"D56*10+D57","v":{"$error":"#VALUE!"}},{"$f":"VLOOKUP(K56,コード!$D$2:$F$5,3)","v":1},null,null,null,null,null,null,null,null,null,"まで",null,null,null,null,null,null,null,"",{"$f":"IF($G$6=\"税抜\",TRUNC(V57*IF(K56<$AA$1,1.05,1)),TRUNC(V57*100/VLOOKUP(K57,$AD$2:$AE$4,2)))","v":{"$error":"#VALUE!"}},{"$f":"IF(B56=99999,\"\",VLOOKUP(C57,総括表!$B$12:$C$64,2,0))","v":""},{"$f":"IF(X57=\"\",\"\",TRUNC(W57*X57/100))","v":""}]
[{"$f":"RANK(B58,$B$14:$B$149,2)","v":1},{"$f":"IF(E58=0,99999,C59*100+COUNTIF($C$13:C59,C59))","v":99999},null,{"$f":"IF(Z58=$AB$9,36.5,LEFT(Z58,2))*1","v":{"$error":"#VALUE!"}},null,null,null,null,null,null,null,null,null,"から",null,null,null,null,null,null,null,""]
[{"$f":"A58+0.1","v":1.1000000000000001},null,{"$f":"D58*10+D59","v":{"$error":"#VALUE!"}},{"$f":"VLOOKUP(K58,コード!$D$2:$F$5,3)","v":1},null,null,null,null,null,null,null,null,null,"まで",null,null,null,null,null,null,null,"",{"$f":"IF($G$6=\"税抜\",TRUNC(V59*IF(K58<$AA$1,1.05,1)),TRUNC(V59*100/VLOOKUP(K59,$AD$2:$AE$4,2)))","v":{"$error":"#VALUE!"}},{"$f":"IF(B58=99999,\"\",VLOOKUP(C59,総括表!$B$12:$C$64,2,0))","v":""},{"$f":"IF(X59=\"\",\"\",TRUNC(W59*X59/100))","v":""}]
[{"$f":"RANK(B60,$B$14:$B$149,2)","v":1},{"$f":"IF(E60=0,99999,C61*100+COUNTIF($C$13:C61,C61))","v":99999},null,{"$f":"IF(Z60=$AB$9,36.5,LEFT(Z60,2))*1","v":{"$error":"#VALUE!"}},null,null,null,null,null,null,null,null,null,"から",null,null,null,null,null,null,null,""]
[{"$f":"A60+0.1","v":1.1000000000000001},null,{"$f":"D60*10+D61","v":{"$error":"#VALUE!"}},{"$f":"VLOOKUP(K60,コード!$D$2:$F$5,3)","v":1},null,null,null,null,null,null,null,null,null,"まで",null,null,null,null,null,null,null,"",{"$f":"IF($G$6=\"税抜\",TRUNC(V61*IF(K60<$AA$1,1.05,1)),TRUNC(V61*100/VLOOKUP(K61,$AD$2:$AE$4,2)))","v":{"$error":"#VALUE!"}},{"$f":"IF(B60=99999,\"\",VLOOKUP(C61,総括表!$B$12:$C$64,2,0))","v":""},{"$f":"IF(X61=\"\",\"\",TRUNC(W61*X61/100))","v":""}]
[{"$f":"RANK(B62,$B$14:$B$149,2)","v":1},{"$f":"IF(E62=0,99999,C63*100+COUNTIF($C$13:C63,C63))","v":99999},null,{"$f":"IF(Z62=$AB$9,36.5,LEFT(Z62,2))*1","v":{"$error":"#VALUE!"}},null,null,null,null,null,null,null,null,null,"から",null,null,null,null,null,null,null,""]
[{"$f":"A62+0.1","v":1.1000000000000001},null,{"$f":"D62*10+D63","v":{"$error":"#VALUE!"}},{"$f":"VLOOKUP(K62,コード!$D$2:$F$5,3)","v":1},null,null,null,null,null,null,null,null,null,"まで",null,null,null,null,null,null,null,"",{"$f":"IF($G$6=\"税抜\",TRUNC(V63*IF(K62<$AA$1,1.05,1)),TRUNC(V63*100/VLOOKUP(K63,$AD$2:$AE$4,2)))","v":{"$error":"#VALUE!"}},{"$f":"IF(B62=99999,\"\",VLOOKUP(C63,総括表!$B$12:$C$64,2,0))","v":""},{"$f":"IF(X63=\"\",\"\",TRUNC(W63*X63/100))","v":""}]
[{"$f":"RANK(B64,$B$14:$B$149,2)","v":1},{"$f":"IF(E64=0,99999,C65*100+COUNTIF($C$13:C65,C65))","v":99999},null,{"$f":"IF(Z64=$AB$9,36.5,LEFT(Z64,2))*1","v":{"$error":"#VALUE!"}},null,null,null,null,null,null,null,null,null,"から",null,null,null,null,null,null,null,""]
[{"$f":"A64+0.1","v":1.1000000000000001},null,{"$f":"D64*10+D65","v":{"$error":"#VALUE!"}},{"$f":"VLOOKUP(K64,コード!$D$2:$F$5,3)","v":1},null,null,null,null,null,null,null,null,null,"まで",null,null,null,null,null,null,null,"",{"$f":"IF($G$6=\"税抜\",TRUNC(V65*IF(K64<$AA$1,1.05,1)),TRUNC(V65*100/VLOOKUP(K65,$AD$2:$AE$4,2)))","v":{"$error":"#VALUE!"}},{"$f":"IF(B64=99999,\"\",VLOOKUP(C65,総括表!$B$12:$C$64,2,0))","v":""},{"$f":"IF(X65=\"\",\"\",TRUNC(W65*X65/100))","v":""}]
[{"$f":"RANK(B66,$B$14:$B$149,2)","v":1},{"$f":"IF(E66=0,99999,C67*100+COUNTIF($C$13:C67,C67))","v":99999},null,{"$f":"IF(Z66=$AB$9,36.5,LEFT(Z66,2))*1","v":{"$error":"#VALUE!"}},null,null,null,null,null,null,null,null,null,"から",null,null,null,null,null,null,null,""]
[{"$f":"A66+0.1","v":1.1000000000000001},null,{"$f":"D66*10+D67","v":{"$error":"#VALUE!"}},{"$f":"VLOOKUP(K66,コード!$D$2:$F$5,3)","v":1},null,null,null,null,null,null,null,null,null,"まで",null,null,null,null,null,null,null,"",{"$f":"IF($G$6=\"税抜\",TRUNC(V67*IF(K66<$AA$1,1.05,1)),TRUNC(V67*100/VLOOKUP(K67,$AD$2:$AE$4,2)))","v":{"$error":"#VALUE!"}},{"$f":"IF(B66=99999,\"\",VLOOKUP(C67,総括表!$B$12:$C$64,2,0))","v":""},{"$f":"IF(X67=\"\",\"\",TRUNC(W67*X67/100))","v":""}]
[{"$f":"RANK(B68,$B$14:$B$149,2)","v":1},{"$f":"IF(E68=0,99999,C69*100+COUNTIF($C$13:C69,C69))","v":99999},null,{"$f":"IF(Z68=$AB$9,36.5,LEFT(Z68,2))*1","v":{"$error":"#VALUE!"}},null,null,null,null,null,null,null,null,null,"から",null,null,null,null,null,null,null,""]
[{"$f":"A68+0.1","v":1.1000000000000001},null,{"$f":"D68*10+D69","v":{"$error":"#VALUE!"}},{"$f":"VLOOKUP(K68,コード!$D$2:$F$5,3)","v":1},null,null,null,null,null,null,null,null,null,"まで",null,null,null,null,null,null,null,"",{"$f":"IF($G$6=\"税抜\",TRUNC(V69*IF(K68<$AA$1,1.05,1)),TRUNC(V69*100/VLOOKUP(K69,$AD$2:$AE$4,2)))","v":{"$error":"#VALUE!"}},{"$f":"IF(B68=99999,\"\",VLOOKUP(C69,総括表!$B$12:$C$64,2,0))","v":""},{"$f":"IF(X69=\"\",\"\",TRUNC(W69*X69/100))","v":""}]
[{"$f":"RANK(B70,$B$14:$B$149,2)","v":1},{"$f":"IF(E70=0,99999,C71*100+COUNTIF($C$13:C71,C71))","v":99999},null,{"$f":"IF(Z70=$AB$9,36.5,LEFT(Z70,2))*1","v":{"$error":"#VALUE!"}},null,null,null,null,null,null,null,null,null,"から",null,null,null,null,null,null,null,""]
[{"$f":"A70+0.1","v":1.1000000000000001},null,{"$f":"D70*10+D71","v":{"$error":"#VALUE!"}},{"$f":"VLOOKUP(K70,コード!$D$2:$F$5,3)","v":1},null,null,null,null,null,null,null,null,null,"まで",null,null,null,null,null,null,null,"",{"$f":"IF($G$6=\"税抜\",TRUNC(V71*IF(K70<$AA$1,1.05,1)),TRUNC(V71*100/VLOOKUP(K71,$AD$2:$AE$4,2)))","v":{"$error":"#VALUE!"}},{"$f":"IF(B70=99999,\"\",VLOOKUP(C71,総括表!$B$12:$C$64,2,0))","v":""},{"$f":"IF(X71=\"\",\"\",TRUNC(W71*X71/100))","v":""}]
[{"$f":"RANK(B72,$B$14:$B$149,2)","v":1},{"$f":"IF(E72=0,99999,C73*100+COUNTIF($C$13:C73,C73))","v":99999},null,{"$f":"IF(Z72=$AB$9,36.5,LEFT(Z72,2))*1","v":{"$error":"#VALUE!"}},null,null,null,null,null,null,null,null,null,"から",null,null,null,null,null,null,null,""]
[{"$f":"A72+0.1","v":1.1000000000000001},null,{"$f":"D72*10+D73","v":{"$error":"#VALUE!"}},{"$f":"VLOOKUP(K72,コード!$D$2:$F$5,3)","v":1},null,null,null,null,null,null,null,null,null,"まで",null,null,null,null,null,null,null,"",{"$f":"IF($G$6=\"税抜\",TRUNC(V73*IF(K72<$AA$1,1.05,1)),TRUNC(V73*100/VLOOKUP(K73,$AD$2:$AE$4,2)))","v":{"$error":"#VALUE!"}},{"$f":"IF(B72=99999,\"\",VLOOKUP(C73,総括表!$B$12:$C$64,2,0))","v":""},{"$f":"IF(X73=\"\",\"\",TRUNC(W73*X73/100))","v":""}]
[{"$f":"RANK(B74,$B$14:$B$149,2)","v":1},{"$f":"IF(E74=0,99999,C75*100+COUNTIF($C$13:C75,C75))","v":99999},null,{"$f":"IF(Z74=$AB$9,36.5,LEFT(Z74,2))*1","v":{"$error":"#VALUE!"}},null,null,null,null,null,null,null,null,null,"から",null,null,null,null,null,null,null,""]
[{"$f":"A74+0.1","v":1.1000000000000001},null,{"$f":"D74*10+D75","v":{"$error":"#VALUE!"}},{"$f":"VLOOKUP(K74,コード!$D$2:$F$5,3)","v":1},null,null,null,null,null,null,null,null,null,"まで",null,null,null,null,null,null,null,"",{"$f":"IF($G$6=\"税抜\",TRUNC(V75*IF(K74<$AA$1,1.05,1)),TRUNC(V75*100/VLOOKUP(K75,$AD$2:$AE$4,2)))","v":{"$error":"#VALUE!"}},{"$f":"IF(B74=99999,\"\",VLOOKUP(C75,総括表!$B$12:$C$64,2,0))","v":""},{"$f":"IF(X75=\"\",\"\",TRUNC(W75*X75/100))","v":""}]
[{"$f":"RANK(B76,$B$14:$B$149,2)","v":1},{"$f":"IF(E76=0,99999,C77*100+COUNTIF($C$13:C77,C77))","v":99999},null,{"$f":"IF(Z76=$AB$9,36.5,LEFT(Z76,2))*1","v":{"$error":"#VALUE!"}},null,null,null,null,null,null,null,null,null,"から"]
[{"$f":"A76+0.1","v":1.1000000000000001},null,{"$f":"D76*10+D77","v":{"$error":"#VALUE!"}},{"$f":"VLOOKUP(K76,コード!$D$2:$F$5,3)","v":1},null,null,null,null,null,null,null,null,null,"まで",null,null,null,null,null,null,null,{"$f":"O77+S77-U77","v":0},null,{"$f":"IF(B76=99999,\"\",VLOOKUP(C77,総括表!$B$12:$C$64,2,0))","v":""},{"$f":"IF(X77=\"\",\"\",TRUNC(V77*X77/100))","v":""}]
[{"$f":"RANK(B78,$B$14:$B$149,2)","v":1},{"$f":"IF(E78=0,99999,C79*100+COUNTIF($C$13:C79,C79))","v":99999},null,{"$f":"IF(Z78=$AB$9,36.5,LEFT(Z78,2))*1","v":{"$error":"#VALUE!"}},null,null,null,null,null,null,null,null,null,"から"]
[{"$f":"A78+0.1","v":1.1000000000000001},null,{"$f":"D78*10+D79","v":{"$error":"#VALUE!"}},{"$f":"VLOOKUP(K78,コード!$D$2:$F$5,3)","v":1},null,null,null,null,null,null,null,null,null,"まで",null,null,null,null,null,null,null,{"$f":"O79+S79-U79","v":0},null,{"$f":"IF(B78=99999,\"\",VLOOKUP(C79,総括表!$B$12:$C$64,2,0))","v":""},""]
[{"$f":"RANK(B80,$B$14:$B$149,2)","v":1},{"$f":"IF(E80=0,99999,C81*100+COUNTIF($C$13:C81,C81))","v":99999},null,{"$f":"IF(Z80=$AB$9,36.5,LEFT(Z80,2))*1","v":{"$error":"#VALUE!"}},null,null,null,null,null,null,null,null,null,"から"]
[{"$f":"A80+0.1","v":1.1000000000000001},null,{"$f":"D80*10+D81","v":{"$error":"#VALUE!"}},{"$f":"VLOOKUP(K80,コード!$D$2:$F$5,3)","v":1},null,null,null,null,null,null,null,null,null,"まで",null,null,null,null,null,null,null,{"$f":"O81+S81-U81","v":0},null,{"$f":"IF(B80=99999,\"\",VLOOKUP(C81,総括表!$B$12:$C$64,2,0))","v":""},""]
[{"$f":"RANK(B82,$B$14:$B$149,2)","v":1},{"$f":"IF(E82=0,99999,C83*100+COUNTIF($C$13:C83,C83))","v":99999},null,{"$f":"IF(Z82=$AB$9,36.5,LEFT(Z82,2))*1","v":{"$error":"#VALUE!"}},null,null,null,null,null,null,null,null,null,"から"]
[{"$f":"A82+0.1","v":1.1000000000000001},null,{"$f":"D82*10+D83","v":{"$error":"#VALUE!"}},{"$f":"VLOOKUP(K82,コード!$D$2:$F$5,3)","v":1},null,null,null,null,null,null,null,null,null,"まで",null,null,null,null,null,null,null,{"$f":"O83+S83-U83","v":0},null,{"$f":"IF(B82=99999,\"\",VLOOKUP(C83,総括表!$B$12:$C$64,2,0))","v":""},""]
[{"$f":"RANK(B84,$B$14:$B$149,2)","v":1},{"$f":"IF(E84=0,99999,C85*100+COUNTIF($C$13:C85,C85))","v":99999},null,{"$f":"IF(Z84=$AB$9,36.5,LEFT(Z84,2))*1","v":{"$error":"#VALUE!"}},null,null,null,null,null,null,null,null,null,"から"]
[{"$f":"A84+0.1","v":1.1000000000000001},null,{"$f":"D84*10+D85","v":{"$error":"#VALUE!"}},{"$f":"VLOOKUP(K84,コード!$D$2:$F$5,3)","v":1},null,null,null,null,null,null,null,null,null,"まで",null,null,null,null,null,null,null,0,null,{"$f":"IF(B84=99999,\"\",VLOOKUP(C85,総括表!$B$12:$C$64,2,0))","v":""},""]
[{"$f":"RANK(B86,$B$14:$B$149,2)","v":1},{"$f":"IF(E86=0,99999,C87*100+COUNTIF($C$13:C87,C87))","v":99999},null,{"$f":"IF(Z86=$AB$9,36.5,LEFT(Z86,2))*1","v":{"$error":"#VALUE!"}},null,null,null,null,null,null,null,null,null,"から"]
[{"$f":"A86+0.1","v":1.1000000000000001},null,{"$f":"D86*10+D87","v":{"$error":"#VALUE!"}},{"$f":"VLOOKUP(K86,コード!$D$2:$F$5,3)","v":1},null,null,null,null,null,null,null,null,null,"まで",null,null,null,null,null,null,null,0,null,{"$f":"IF(B86=99999,\"\",VLOOKUP(C87,総括表!$B$12:$C$64,2,0))","v":""},""]
[{"$f":"RANK(B88,$B$14:$B$149,2)","v":1},{"$f":"IF(E88=0,99999,C89*100+COUNTIF($C$13:C89,C89))","v":99999},null,{"$f":"IF(Z88=$AB$9,36.5,LEFT(Z88,2))*1","v":{"$error":"#VALUE!"}},null,null,null,null,null,null,null,null,null,"から"]
[{"$f":"A88+0.1","v":1.1000000000000001},null,{"$f":"D88*10+D89","v":{"$error":"#VALUE!"}},{"$f":"VLOOKUP(K88,コード!$D$2:$F$5,3)","v":1},null,null,null,null,null,null,null,null,null,"まで",null,null,null,null,null,null,null,0,null,{"$f":"IF(B88=99999,\"\",VLOOKUP(C89,総括表!$B$12:$C$64,2,0))","v":""},{"$f":"IF(X89=\"\",\"\",TRUNC(V89*X89/100))","v":""}]
[{"$f":"RANK(B90,$B$14:$B$149,2)","v":1},{"$f":"IF(E90=0,99999,C91*100+COUNTIF($C$13:C91,C91))","v":99999},null,{"$f":"IF(Z90=$AB$9,36.5,LEFT(Z90,2))*1","v":{"$error":"#VALUE!"}},null,null,null,null,null,null,null,null,null,"から"]
[{"$f":"A90+0.1","v":1.1000000000000001},null,{"$f":"D90*10+D91","v":{"$error":"#VALUE!"}},{"$f":"VLOOKUP(K90,コード!$D$2:$F$5,3)","v":1},null,null,null,null,null,null,null,null,null,"まで",null,null,null,null,null,null,null,0,null,{"$f":"IF(B90=99999,\"\",VLOOKUP(C91,総括表!$B$12:$C$64,2,0))","v":""},""]
[{"$f":"RANK(B92,$B$14:$B$149,2)","v":1},{"$f":"IF(E92=0,99999,C93*100+COUNTIF($C$13:C93,C93))","v":99999},null,{"$f":"IF(Z92=$AB$9,36.5,LEFT(Z92,2))*1","v":{"$error":"#VALUE!"}},null,null,null,null,null,null,null,null,null,"から"]
[{"$f":"A92+0.1","v":1.1000000000000001},null,{"$f":"D92*10+D93","v":{"$error":"#VALUE!"}},{"$f":"VLOOKUP(K92,コード!$D$2:$F$5,3)","v":1},null,null,null,null,null,null,null,null,null,"まで",null,null,null,null,null,null,null,0,null,{"$f":"IF(B92=99999,\"\",VLOOKUP(C93,総括表!$B$12:$C$64,2,0))","v":""},""]
[{"$f":"RANK(B94,$B$14:$B$149,2)","v":1},{"$f":"IF(E94=0,99999,C95*100+COUNTIF($C$13:C95,C95))","v":99999},null,{"$f":"IF(Z94=$AB$9,36.5,LEFT(Z94,2))*1","v":{"$error":"#VALUE!"}},null,null,null,null,null,null,null,null,null,"から"]
[{"$f":"A94+0.1","v":1.1000000000000001},null,{"$f":"D94*10+D95","v":{"$error":"#VALUE!"}},{"$f":"VLOOKUP(K94,コード!$D$2:$F$5,3)","v":1},null,null,null,null,null,null,null,null,null,"まで",null,null,null,null,null,null,null,0,null,{"$f":"IF(B94=99999,\"\",VLOOKUP(C95,総括表!$B$12:$C$64,2,0))","v":""},""]
[{"$f":"RANK(B96,$B$14:$B$149,2)","v":1},{"$f":"IF(E96=0,99999,C97*100+COUNTIF($C$13:C97,C97))","v":99999},null,{"$f":"IF(Z96=$AB$9,36.5,LEFT(Z96,2))*1","v":{"$error":"#VALUE!"}},null,null,null,null,null,null,null,null,null,"から"]
[{"$f":"A96+0.1","v":1.1000000000000001},null,{"$f":"D96*10+D97","v":{"$error":"#VALUE!"}},{"$f":"VLOOKUP(K96,コード!$D$2:$F$5,3)","v":1},null,null,null,null,null,null,null,null,null,"まで",null,null,null,null,null,null,null,0,null,{"$f":"IF(B96=99999,\"\",VLOOKUP(C97,総括表!$B$12:$C$64,2,0))","v":""},""]
[{"$f":"RANK(B98,$B$14:$B$149,2)","v":1},{"$f":"IF(E98=0,99999,C99*100+COUNTIF($C$13:C99,C99))","v":99999},null,{"$f":"IF(Z98=$AB$9,36.5,LEFT(Z98,2))*1","v":{"$error":"#VALUE!"}},null,null,null,null,null,null,null,null,null,"から"]
[{"$f":"A98+0.1","v":1.1000000000000001},null,{"$f":"D98*10+D99","v":{"$error":"#VALUE!"}},{"$f":"VLOOKUP(K98,コード!$D$2:$F$5,3)","v":1},null,null,null,null,null,null,null,null,null,"まで",null,null,null,null,null,null,null,0,null,{"$f":"IF(B98=99999,\"\",VLOOKUP(C99,総括表!$B$12:$C$64,2,0))","v":""},""]
[{"$f":"RANK(B100,$B$14:$B$149,2)","v":1},{"$f":"IF(E100=0,99999,C101*100+COUNTIF($C$13:C101,C101))","v":99999},null,{"$f":"IF(Z100=$AB$9,36.5,LEFT(Z100,2))*1","v":{"$error":"#VALUE!"}},null,null,null,null,null,null,null,null,null,"から"]
[{"$f":"A100+0.1","v":1.1000000000000001},null,{"$f":"D100*10+D101","v":{"$error":"#VALUE!"}},{"$f":"VLOOKUP(K100,コード!$D$2:$F$5,3)","v":1},null,null,null,null,null,null,null,null,null,"まで",null,null,null,null,null,null,null,0,null,{"$f":"IF(B100=99999,\"\",VLOOKUP(C101,総括表!$B$12:$C$64,2,0))","v":""},""]
[{"$f":"RANK(B102,$B$14:$B$149,2)","v":1},{"$f":"IF(E102=0,99999,C103*100+COUNTIF($C$13:C103,C103))","v":99999},null,{"$f":"IF(Z102=$AB$9,36.5,LEFT(Z102,2))*1","v":{"$error":"#VALUE!"}},null,null,null,null,null,null,null,null,null,"から"]
[{"$f":"A102+0.1","v":1.1000000000000001},null,{"$f":"D102*10+D103","v":{"$error":"#VALUE!"}},{"$f":"VLOOKUP(K102,コード!$D$2:$F$5,3)","v":1},null,null,null,null,null,null,null,null,null,"まで",null,null,null,null,null,null,null,0,null,{"$f":"IF(B102=99999,\"\",VLOOKUP(C103,総括表!$B$12:$C$64,2,0))","v":""},""]
[{"$f":"RANK(B104,$B$14:$B$149,2)","v":1},{"$f":"IF(E104=0,99999,C105*100+COUNTIF($C$13:C105,C105))","v":99999},null,{"$f":"IF(Z104=$AB$9,36.5,LEFT(Z104,2))*1","v":{"$error":"#VALUE!"}},null,null,null,null,null,null,null,null,null,"から"]
[{"$f":"A104+0.1","v":1.1000000000000001},null,{"$f":"D104*10+D105","v":{"$error":"#VALUE!"}},{"$f":"VLOOKUP(K104,コード!$D$2:$F$5,3)","v":1},null,null,null,null,null,null,null,null,null,"まで",null,null,null,null,null,null,null,0,null,{"$f":"IF(B104=99999,\"\",VLOOKUP(C105,総括表!$B$12:$C$64,2,0))","v":""},""]
[{"$f":"RANK(B106,$B$14:$B$149,2)","v":1},{"$f":"IF(E106=0,99999,C107*100+COUNTIF($C$13:C107,C107))","v":99999},null,{"$f":"IF(Z106=$AB$9,36.5,LEFT(Z106,2))*1","v":{"$error":"#VALUE!"}},null,null,null,null,null,null,null,null,null,"から"]
[{"$f":"A106+0.1","v":1.1000000000000001},null,{"$f":"D106*10+D107","v":{"$error":"#VALUE!"}},{"$f":"VLOOKUP(K106,コード!$D$2:$F$5,3)","v":1},null,null,null,null,null,null,null,null,null,"まで",null,null,null,null,null,null,null,0,null,{"$f":"IF(B106=99999,\"\",VLOOKUP(C107,総括表!$B$12:$C$64,2,0))","v":""},""]
[{"$f":"RANK(B108,$B$14:$B$149,2)","v":1},{"$f":"IF(E108=0,99999,C109*100+COUNTIF($C$13:C109,C109))","v":99999},null,{"$f":"IF(Z108=$AB$9,36.5,LEFT(Z108,2))*1","v":{"$error":"#VALUE!"}},null,null,null,null,null,null,null,null,null,"から"]
[{"$f":"A108+0.1","v":1.1000000000000001},null,{"$f":"D108*10+D109","v":{"$error":"#VALUE!"}},{"$f":"VLOOKUP(K108,コード!$D$2:$F$5,3)","v":1},null,null,null,null,null,null,null,null,null,"まで",null,null,null,null,null,null,null,0,null,{"$f":"IF(B108=99999,\"\",VLOOKUP(C109,総括表!$B$12:$C$64,2,0))","v":""},""]
[{"$f":"RANK(B110,$B$14:$B$149,2)","v":1},{"$f":"IF(E110=0,99999,C111*100+COUNTIF($C$13:C111,C111))","v":99999},null,{"$f":"IF(Z110=$AB$9,36.5,LEFT(Z110,2))*1","v":{"$error":"#VALUE!"}},null,null,null,null,null,null,null,null,null,"から"]
[{"$f":"A110+0.1","v":1.1000000000000001},null,{"$f":"D110*10+D111","v":{"$error":"#VALUE!"}},{"$f":"VLOOKUP(K110,コード!$D$2:$F$5,3)","v":1},null,null,null,null,null,null,null,null,null,"まで",null,null,null,null,null,null,null,0,null,{"$f":"IF(B110=99999,\"\",VLOOKUP(C111,総括表!$B$12:$C$64,2,0))","v":""},""]
[{"$f":"RANK(B112,$B$14:$B$149,2)","v":1},{"$f":"IF(E112=0,99999,C113*100+COUNTIF($C$13:C113,C113))","v":99999},null,{"$f":"IF(Z112=$AB$9,36.5,LEFT(Z112,2))*1","v":{"$error":"#VALUE!"}},null,null,null,null,null,null,null,null,null,"から"]
[{"$f":"A112+0.1","v":1.1000000000000001},null,{"$f":"D112*10+D113","v":{"$error":"#VALUE!"}},{"$f":"VLOOKUP(K112,コード!$D$2:$F$5,3)","v":1},null,null,null,null,null,null,null,null,null,"まで",null,null,null,null,null,null,null,0,null,{"$f":"IF(B112=99999,\"\",VLOOKUP(C113,総括表!$B$12:$C$64,2,0))","v":""},""]
[{"$f":"RANK(B114,$B$14:$B$149,2)","v":1},{"$f":"IF(E114=0,99999,C115*100+COUNTIF($C$13:C115,C115))","v":99999},null,{"$f":"IF(Z114=$AB$9,36.5,LEFT(Z114,2))*1","v":{"$error":"#VALUE!"}},null,null,null,null,null,null,null,null,null,"から"]
[{"$f":"A114+0.1","v":1.1000000000000001},null,{"$f":"D114*10+D115","v":{"$error":"#VALUE!"}},{"$f":"VLOOKUP(K114,コード!$D$2:$F$5,3)","v":1},null,null,null,null,null,null,null,null,null,"まで",null,null,null,null,null,null,null,0,null,{"$f":"IF(B114=99999,\"\",VLOOKUP(C115,総括表!$B$12:$C$64,2,0))","v":""},""]
[{"$f":"RANK(B116,$B$14:$B$149,2)","v":1},{"$f":"IF(E116=0,99999,C117*100+COUNTIF($C$13:C117,C117))","v":99999},null,{"$f":"IF(Z116=$AB$9,36.5,LEFT(Z116,2))*1","v":{"$error":"#VALUE!"}},null,null,null,null,null,null,null,null,null,"から"]
[{"$f":"A116+0.1","v":1.1000000000000001},null,{"$f":"D116*10+D117","v":{"$error":"#VALUE!"}},{"$f":"VLOOKUP(K116,コード!$D$2:$F$5,3)","v":1},null,null,null,null,null,null,null,null,null,"まで",null,null,null,null,null,null,null,0,null,{"$f":"IF(B116=99999,\"\",VLOOKUP(C117,総括表!$B$12:$C$64,2,0))","v":""},""]
[{"$f":"RANK(B118,$B$14:$B$149,2)","v":1},{"$f":"IF(E118=0,99999,C119*100+COUNTIF($C$13:C119,C119))","v":99999},null,{"$f":"IF(Z118=$AB$9,36.5,LEFT(Z118,2))*1","v":{"$error":"#VALUE!"}},null,null,null,null,null,null,null,null,null,"から"]
[{"$f":"A118+0.1","v":1.1000000000000001},null,{"$f":"D118*10+D119","v":{"$error":"#VALUE!"}},{"$f":"VLOOKUP(K118,コード!$D$2:$F$5,3)","v":1},null,null,null,null,null,null,null,null,null,"まで",null,null,null,null,null,null,null,0,null,{"$f":"IF(B118=99999,\"\",VLOOKUP(C119,総括表!$B$12:$C$64,2,0))","v":""},""]
[{"$f":"RANK(B120,$B$14:$B$149,2)","v":1},{"$f":"IF(E120=0,99999,C121*100+COUNTIF($C$13:C121,C121))","v":99999},null,{"$f":"IF(Z120=$AB$9,36.5,LEFT(Z120,2))*1","v":{"$error":"#VALUE!"}},null,null,null,null,null,null,null,null,null,"から"]
[{"$f":"A120+0.1","v":1.1000000000000001},null,{"$f":"D120*10+D121","v":{"$error":"#VALUE!"}},{"$f":"VLOOKUP(K120,コード!$D$2:$F$5,3)","v":1},null,null,null,null,null,null,null,null,null,"まで",null,null,null,null,null,null,null,0,null,{"$f":"IF(B120=99999,\"\",VLOOKUP(C121,総括表!$B$12:$C$64,2,0))","v":""},""]
[{"$f":"RANK(B122,$B$14:$B$149,2)","v":1},{"$f":"IF(E122=0,99999,C123*100+COUNTIF($C$13:C123,C123))","v":99999},null,{"$f":"IF(Z122=$AB$9,36.5,LEFT(Z122,2))*1","v":{"$error":"#VALUE!"}},null,null,null,null,null,null,null,null,null,"から"]
[{"$f":"A122+0.1","v":1.1000000000000001},null,{"$f":"D122*10+D123","v":{"$error":"#VALUE!"}},{"$f":"VLOOKUP(K122,コード!$D$2:$F$5,3)","v":1},null,null,null,null,null,null,null,null,null,"まで",null,null,null,null,null,null,null,0,null,{"$f":"IF(B122=99999,\"\",VLOOKUP(C123,総括表!$B$12:$C$64,2,0))","v":""},""]
[{"$f":"RANK(B124,$B$14:$B$149,2)","v":1},{"$f":"IF(E124=0,99999,C125*100+COUNTIF($C$13:C125,C125))","v":99999},null,{"$f":"IF(Z124=$AB$9,36.5,LEFT(Z124,2))*1","v":{"$error":"#VALUE!"}},null,null,null,null,null,null,null,null,null,"から"]
[{"$f":"A124+0.1","v":1.1000000000000001},null,{"$f":"D124*10+D125","v":{"$error":"#VALUE!"}},{"$f":"VLOOKUP(K124,コード!$D$2:$F$5,3)","v":1},null,null,null,null,null,null,null,null,null,"まで",null,null,null,null,null,null,null,0,null,{"$f":"IF(B124=99999,\"\",VLOOKUP(C125,総括表!$B$12:$C$64,2,0))","v":""},""]
[{"$f":"RANK(B126,$B$14:$B$149,2)","v":1},{"$f":"IF(E126=0,99999,C127*100+COUNTIF($C$13:C127,C127))","v":99999},null,{"$f":"IF(Z126=$AB$9,36.5,LEFT(Z126,2))*1","v":{"$error":"#VALUE!"}},null,null,null,null,null,null,null,null,null,"から"]
[{"$f":"A126+0.1","v":1.1000000000000001},null,{"$f":"D126*10+D127","v":{"$error":"#VALUE!"}},{"$f":"VLOOKUP(K126,コード!$D$2:$F$5,3)","v":1},null,null,null,null,null,null,null,null,null,"まで",null,null,null,null,null,null,null,0,null,{"$f":"IF(B126=99999,\"\",VLOOKUP(C127,総括表!$B$12:$C$64,2,0))","v":""},""]
[{"$f":"RANK(B128,$B$14:$B$149,2)","v":1},{"$f":"IF(E128=0,99999,C129*100+COUNTIF($C$13:C129,C129))","v":99999},null,{"$f":"IF(Z128=$AB$9,36.5,LEFT(Z128,2))*1","v":{"$error":"#VALUE!"}},null,null,null,null,null,null,null,null,null,"から"]
[{"$f":"A128+0.1","v":1.1000000000000001},null,{"$f":"D128*10+D129","v":{"$error":"#VALUE!"}},{"$f":"VLOOKUP(K128,コード!$D$2:$F$5,3)","v":1},null,null,null,null,null,null,null,null,null,"まで",null,null,null,null,null,null,null,0,null,{"$f":"IF(B128=99999,\"\",VLOOKUP(C129,総括表!$B$12:$C$64,2,0))","v":""},""]
[{"$f":"RANK(B130,$B$14:$B$149,2)","v":1},{"$f":"IF(E130=0,99999,C131*100+COUNTIF($C$13:C131,C131))","v":99999},null,{"$f":"IF(Z130=$AB$9,36.5,LEFT(Z130,2))*1","v":{"$error":"#VALUE!"}},null,null,null,null,null,null,null,null,null,"から"]
[{"$f":"A130+0.1","v":1.1000000000000001},null,{"$f":"D130*10+D131","v":{"$error":"#VALUE!"}},{"$f":"VLOOKUP(K130,コード!$D$2:$F$5,3)","v":1},null,null,null,null,null,null,null,null,null,"まで",null,null,null,null,null,null,null,0,null,{"$f":"IF(B130=99999,\"\",VLOOKUP(C131,総括表!$B$12:$C$64,2,0))","v":""},""]
[{"$f":"RANK(B132,$B$14:$B$149,2)","v":1},{"$f":"IF(E132=0,99999,C133*100+COUNTIF($C$13:C133,C133))","v":99999},null,{"$f":"IF(Z132=$AB$9,36.5,LEFT(Z132,2))*1","v":{"$error":"#VALUE!"}},null,null,null,null,null,null,null,null,null,"から"]
[{"$f":"A132+0.1","v":1.1000000000000001},null,{"$f":"D132*10+D133","v":{"$error":"#VALUE!"}},{"$f":"VLOOKUP(K132,コード!$D$2:$F$5,3)","v":1},null,null,null,null,null,null,null,null,null,"まで",null,null,null,null,null,null,null,0,null,{"$f":"IF(B132=99999,\"\",VLOOKUP(C133,総括表!$B$12:$C$64,2,0))","v":""},""]
[{"$f":"RANK(B134,$B$14:$B$149,2)","v":1},{"$f":"IF(E134=0,99999,C135*100+COUNTIF($C$13:C135,C135))","v":99999},null,{"$f":"IF(Z134=$AB$9,36.5,LEFT(Z134,2))*1","v":{"$error":"#VALUE!"}},null,null,null,null,null,null,null,null,null,"から"]
[{"$f":"A134+0.1","v":1.1000000000000001},null,{"$f":"D134*10+D135","v":{"$error":"#VALUE!"}},{"$f":"VLOOKUP(K134,コード!$D$2:$F$5,3)","v":1},null,null,null,null,null,null,null,null,null,"まで",null,null,null,null,null,null,null,0,null,{"$f":"IF(B134=99999,\"\",VLOOKUP(C135,総括表!$B$12:$C$64,2,0))","v":""},""]
[{"$f":"RANK(B136,$B$14:$B$149,2)","v":1},{"$f":"IF(E136=0,99999,C137*100+COUNTIF($C$13:C137,C137))","v":99999},null,{"$f":"IF(Z136=$AB$9,36.5,LEFT(Z136,2))*1","v":{"$error":"#VALUE!"}},null,null,null,null,null,null,null,null,null,"から"]
[{"$f":"A136+0.1","v":1.1000000000000001},null,{"$f":"D136*10+D137","v":{"$error":"#VALUE!"}},{"$f":"VLOOKUP(K136,コード!$D$2:$F$5,3)","v":1},null,null,null,null,null,null,null,null,null,"まで",null,null,null,null,null,null,null,0,null,{"$f":"IF(B136=99999,\"\",VLOOKUP(C137,総括表!$B$12:$C$64,2,0))","v":""},""]
[{"$f":"RANK(B138,$B$14:$B$149,2)","v":1},{"$f":"IF(E138=0,99999,C139*100+COUNTIF($C$13:C139,C139))","v":99999},null,{"$f":"IF(Z138=$AB$9,36.5,LEFT(Z138,2))*1","v":{"$error":"#VALUE!"}},null,null,null,null,null,null,null,null,null,"から"]
[{"$f":"A138+0.1","v":1.1000000000000001},null,{"$f":"D138*10+D139","v":{"$error":"#VALUE!"}},{"$f":"VLOOKUP(K138,コード!$D$2:$F$5,3)","v":1},null,null,null,null,null,null,null,null,null,"まで",null,null,null,null,null,null,null,0,null,{"$f":"IF(B138=99999,\"\",VLOOKUP(C139,総括表!$B$12:$C$64,2,0))","v":""},""]
[{"$f":"RANK(B140,$B$14:$B$149,2)","v":1},{"$f":"IF(E140=0,99999,C141*100+COUNTIF($C$13:C141,C141))","v":99999},null,{"$f":"IF(Z140=$AB$9,36.5,LEFT(Z140,2))*1","v":{"$error":"#VALUE!"}},null,null,null,null,null,null,null,null,null,"から"]
[{"$f":"A140+0.1","v":1.1000000000000001},null,{"$f":"D140*10+D141","v":{"$error":"#VALUE!"}},{"$f":"VLOOKUP(K140,コード!$D$2:$F$5,3)","v":1},null,null,null,null,null,null,null,null,null,"まで",null,null,null,null,null,null,null,0,null,{"$f":"IF(B140=99999,\"\",VLOOKUP(C141,総括表!$B$12:$C$64,2,0))","v":""},""]
[{"$f":"RANK(B142,$B$14:$B$149,2)","v":1},{"$f":"IF(E142=0,99999,C143*100+COUNTIF($C$13:C143,C143))","v":99999},null,{"$f":"IF(Z142=$AB$9,36.5,LEFT(Z142,2))*1","v":{"$error":"#VALUE!"}},null,null,null,null,null,null,null,null,null,"から"]
[{"$f":"A142+0.1","v":1.1000000000000001},null,{"$f":"D142*10+D143","v":{"$error":"#VALUE!"}},{"$f":"VLOOKUP(K142,コード!$D$2:$F$5,3)","v":1},null,null,null,null,null,null,null,null,null,"まで",null,null,null,null,null,null,null,0,null,{"$f":"IF(B142=99999,\"\",VLOOKUP(C143,総括表!$B$12:$C$64,2,0))","v":""},""]
[{"$f":"RANK(B144,$B$14:$B$149,2)","v":1},{"$f":"IF(E144=0,99999,C145*100+COUNTIF($C$13:C145,C145))","v":99999},null,{"$f":"IF(Z144=$AB$9,36.5,LEFT(Z144,2))*1","v":{"$error":"#VALUE!"}},null,null,null,null,null,null,null,null,null,"から"]
[{"$f":"A144+0.1","v":1.1000000000000001},null,{"$f":"D144*10+D145","v":{"$error":"#VALUE!"}},{"$f":"VLOOKUP(K144,コード!$D$2:$F$5,3)","v":1},null,null,null,null,null,null,null,null,null,"まで",null,null,null,null,null,null,null,0,null,{"$f":"IF(B144=99999,\"\",VLOOKUP(C145,総括表!$B$12:$C$64,2,0))","v":""},""]
[{"$f":"RANK(B146,$B$14:$B$149,2)","v":1},{"$f":"IF(E146=0,99999,C147*100+COUNTIF($C$13:C147,C147))","v":99999},null,{"$f":"IF(Z146=$AB$9,36.5,LEFT(Z146,2))*1","v":{"$error":"#VALUE!"}},null,null,null,null,null,null,null,null,null,"から"]
[{"$f":"A146+0.1","v":1.1000000000000001},null,{"$f":"D146*10+D147","v":{"$error":"#VALUE!"}},{"$f":"VLOOKUP(K146,コード!$D$2:$F$5,3)","v":1},null,null,null,null,null,null,null,null,null,"まで",null,null,null,null,null,null,null,{"$f":"O147+S147-U147","v":0},null,{"$f":"IF(B146=99999,\"\",VLOOKUP(C147,総括表!$B$12:$C$64,2,0))","v":""},""]
[{"$f":"RANK(B148,$B$14:$B$149,2)","v":1},{"$f":"IF(E148=0,99999,C149*100+COUNTIF($C$13:C149,C149))","v":99999},null,{"$f":"IF(Z148=$AB$9,36.5,LEFT(Z148,2))*1","v":{"$error":"#VALUE!"}},null,null,null,null,null,null,null,null,null,"から"]
[{"$f":"A148+0.1","v":1.1000000000000001},null,{"$f":"D148*10+D149","v":{"$error":"#VALUE!"}},{"$f":"VLOOKUP(K148,コード!$D$2:$F$5,3)","v":1},null,null,null,null,null,null,null,null,null,"まで",null,null,null,null,null,null,null,{"$f":"O149+S149-U149","v":0},null,{"$f":"IF(B148=99999,\"\",VLOOKUP(C149,総括表!$B$12:$C$64,2,0))","v":""},""]
[null,null,null,null,null,null,null,null,null,null,"計",null,null,null,{"$f":"SUM(O15:R139)","v":0},null,null,null,{"$f":"SUM(S15:T139)","v":0},null,{"$f":"SUM(U15:U149)","v":0},{"$f":"SUM(V15:V149)","v":0},{"$f":"SUM(W15:W27)","v":{"$error":"#VALUE!"}},null,{"$f":"SUM(Y15:Y149)","v":0}]

{"sheet":"一括有期報告書","index":1,"n_rows":155,"n_cols":46,"rows_kept":155,"cut":false,"hidden":false,"merged":[[133,45,135,45],[12,45,14,45],[55,45,57,45],[94,45,96,45],[149,33,149,36],[149,37,149,38],[149,39,149,43],[155,39,155,43],[155,25,155,28],[155,29,155,32],[153,39,153,43],[155,33,155,36],[150,39,150,43],[151,33,151,36],[154,33,154,36],[154,39,154,43],[152,33,152,36],[152,39,152,43],[153,33,153,36],[153,37,153,38],[154,1,155,4],[154,5,155,13],[154,14,155,20],[154,21,154,24],[155,21,155,24],[150,33,150,36],[153,25,153,28],[153,29,153,32],[151,21,151,24],[151,25,151,28],[151,37,151,38],[151,39,151,43],[150,1,151,8],[150,9,151,13],[150,19,150,20],[150,21,150,23],[151,19,151,20],[151,29,151,32],[152,1,153,8],[152,9,153,13],[152,19,152,20],[152,21,152,23],[153,19,153,20],[153,21,153,24],[148,1,149,8],[148,9,149,13],[148,19,148,20],[148,21,148,23],[148,33,148,36],[148,39,148,43],[149,19,149,20],[149,21,149,24],[149,25,149,28],[149,29,149,32],[146,1,147,8],[146,9,147,13],[146,19,146,20],[146,21,146,23],[146,33,146,36],[146,39,146,43],[147,19,147,20],[147,21,147,24],[147,25,147,28],[147,29,147,32],[147,33,147,36],[147,37,147,38],[147,39,147,43],[144,1,145,8],[144,9,145,13],[144,19,144,20],[144,21,144,23],[144,33,144,36],[144,39,144,43],[145,19,145,20],[145,21,145,24],[145,25,145,28],[145,29,145,32],[145,33,145,36],[145,37,145,38],[145,39,145,43],[142,1,143,8],[142,9,143,13],[142,19,142,20],[142,21,142,23],[142,33,142,36],[142,39,142,43],[143,19,143,20],[143,21,143,24],[143,25,143,28],[143,29,143,32],[143,33,143,36],[143,37,143,38],[143,39,143,43],[140,1,141,8],[140,9,141,13],[140,19,140,20],[140,21,140,23],[140,33,140,36],[140,39,140,43],[141,19,141,20],[141,21,141,24],[141,25,141,28],[141,29,141,32],[141,33,141,36],[141,37,141,38],[141,39,141,43],[138,1,139,8],[138,9,139,13],[138,19,138,20],[138,21,138,23],[138,33,138,36],[138,39,138,43],[139,19,139,20],[139,21,139,24],[139,25,139,28],[139,29,139,32],[139,33,139,36],[139,37,139,38],[139,39,139,43],[136,1,137,8],[136,9,137,13],[136,19,136,20],[136,21,136,23],[136,33,136,36],[136,39,136,43],[137,19,137,20],[137,21,137,24],[137,25,137,28],[137,29,137,32],[137,33,137,36],[137,37,137,38],[137,39,137,43],[133,24,133,33],[133,37,133,38],[133,39,133,44],[130,15,132,15],[130,22,132,22],[130,21,132,21],[130,12,132,12],[134,21,135,24],[134,25,135,28],[134,29,135,32],[134,33,135,36],[134,37,135,38],[134,39,134,44],[135,39,135,44],[133,1,135,8],[133,9,135,13],[133,14,135,20],[130,18,132,18],[130,19,132,19],[130,20,132,20],[129,1,132,8],[130,9,132,9],[130,10,132,10],[130,11,132,11],[129,9,129,10],[129,12,129,13],[129,14,129,19],[129,43,131,44],[115,1,116,4],[115,5,116,13],[115,14,116,20],[115,21,115,24],[113,1,114,8],[113,9,114,13],[129,41,131,42],[115,33,115,36],[115,39,115,43],[116,21,116,24],[116,25,116,28],[116,29,116,32],[116,33,116,36],[116,39,116,43],[125,39,127,40],[129,20,129,22],[130,13,132,13],[130,14,132,14],[130,16,132,16],[130,17,132,17],[129,37,131,38],[129,39,131,40],[113,19,113,20],[113,21,113,23],[113,33,113,36],[113,39,113,43],[114,19,114,20],[114,21,114,24],[114,25,114,28],[114,29,114,32],[114,33,114,36],[114,37,114,38],[114,39,114,43],[111,1,112,8],[111,9,112,13],[111,19,111,20],[111,21,111,23],[111,33,111,36],[111,39,111,43],[112,19,112,20],[112,21,112,24],[112,25,112,28],[112,29,112,32],[112,33,112,36],[112,37,112,38],[112,39,112,43],[109,1,110,8],[109,9,110,13],[109,19,109,20],[109,21,109,23],[109,33,109,36],[109,39,109,43],[110,19,110,20],[110,21,110,24],[110,25,110,28],[110,29,110,32],[110,33,110,36],[110,37,110,38],[110,39,110,43],[107,1,108,8],[107,9,108,13],[107,19,107,20],[107,21,107,23],[107,33,107,36],[107,39,107,43],[108,19,108,20],[108,21,108,24],[108,25,108,28],[108,29,108,32],[108,33,108,36],[108,37,108,38],[108,39,108,43],[105,1,106,8],[105,9,106,13],[105,19,105,20],[105,21,105,23],[105,33,105,36],[105,39,105,43],[106,19,106,20],[106,21,106,24],[106,25,106,28],[106,29,106,32],[106,33,106,36],[106,37,106,38],[106,39,106,43],[103,1,104,8],[103,9,104,13],[103,19,103,20],[103,21,103,23],[103,33,103,36],[103,39,103,43],[104,19,104,20],[104,21,104,24],[104,25,104,28],[104,29,104,32],[104,33,104,36],[104,37,104,38],[104,39,104,43],[101,1,102,8],[101,9,102,13],[101,19,101,20],[101,21,101,23],[101,33,101,36],[101,39,101,43],[102,19,102,20],[102,21,102,24],[102,25,102,28],[102,29,102,32],[102,33,102,36],[102,37,102,38],[102,39,102,43],[99,1,100,8],[99,9,100,13],[99,19,99,20],[99,21,99,23],[99,33,99,36],[99,39,99,43],[100,19,100,20],[100,21,100,24],[100,25,100,28],[100,29,100,32],[100,33,100,36],[100,37,100,38],[100,39,100,43],[97,1,98,8],[97,9,98,13],[97,19,97,20],[97,21,97,23],[97,33,97,36],[97,39,97,43],[98,19,98,20],[98,21,98,24],[98,25,98,28],[98,29,98,32],[98,33,98,36],[98,37,98,38],[98,39,98,43],[94,24,94,33],[94,37,94,38],[94,39,94,44],[91,15,93,15],[91,22,93,22],[91,21,93,21],[91,12,93,12],[95,21,96,24],[95,25,96,28],[95,29,96,32],[95,33,96,36],[95,37,96,38],[95,39,95,44],[96,39,96,44],[94,1,96,8],[94,9,96,13],[94,14,96,20],[91,18,93,18],[91,19,93,19],[91,20,93,20],[90,1,93,8],[91,9,93,9],[91,10,93,10],[91,11,93,11],[90,9,90,10],[90,12,90,13],[90,14,90,19],[90,43,92,44],[76,1,77,4],[76,5,77,13],[76,14,77,20],[76,21,76,24],[74,1,75,8],[74,9,75,13],[90,41,92,42],[76,33,76,36],[76,39,76,43],[77,21,77,24],[77,25,77,28],[77,29,77,32],[77,33,77,36],[77,39,77,43],[86,39,88,40],[90,20,90,22],[91,13,93,13],[91,14,93,14],[91,16,93,16],[91,17,93,17],[90,37,92,38],[90,39,92,40],[74,19,74,20],[74,21,74,23],[74,33,74,36],[74,39,74,43],[75,19,75,20],[75,21,75,24],[75,25,75,28],[75,29,75,32],[75,33,75,36],[75,37,75,38],[75,39,75,43],[72,1,73,8],[72,9,73,13],[72,19,72,20],[72,21,72,23],[72,33,72,36],[72,39,72,43],[73,19,73,20],[73,21,73,24],[73,25,73,28],[73,29,73,32],[73,33,73,36],[73,37,73,38],[73,39,73,43],[70,1,71,8],[70,9,71,13],[70,19,70,20],[70,21,70,23],[70,33,70,36],[70,39,70,43],[71,19,71,20],[71,21,71,24],[71,25,71,28],[71,29,71,32],[71,33,71,36],[71,37,71,38],[71,39,71,43],[68,1,69,8],[68,9,69,13],[68,19,68,20],[68,21,68,23],[68,33,68,36],[68,39,68,43],[69,19,69,20],[69,21,69,24],[69,25,69,28],[69,29,69,32],[69,33,69,36],[69,37,69,38],[69,39,69,43],[66,1,67,8],[66,9,67,13],[66,19,66,20],[66,21,66,23],[66,33,66,36],[66,39,66,43],[67,19,67,20],[67,21,67,24],[67,25,67,28],[67,29,67,32],[67,33,67,36],[67,37,67,38],[67,39,67,43],[64,1,65,8],[64,9,65,13],[64,19,64,20],[64,21,64,23],[64,33,64,36],[64,39,64,43],[65,19,65,20],[65,21,65,24],[65,25,65,28],[65,29,65,32],[65,33,65,36],[65,37,65,38],[65,39,65,43],[62,1,63,8],[62,9,63,13],[62,19,62,20],[62,21,62,23],[62,33,62,36],[62,39,62,43],[63,19,63,20],[63,21,63,24],[63,25,63,28],[63,29,63,32],[63,33,63,36],[63,37,63,38],[63,39,63,43],[60,1,61,8],[60,9,61,13],[60,19,60,20],[60,21,60,23],[60,33,60,36],[60,39,60,43],[61,19,61,20],[61,21,61,24],[61,25,61,28],[61,29,61,32],[61,33,61,36],[61,37,61,38],[61,39,61,43],[58,1,59,8],[58,9,59,13],[58,19,58,20],[58,21,58,23],[58,33,58,36],[58,39,58,43],[59,19,59,20],[59,21,59,24],[59,25,59,28],[59,29,59,32],[59,33,59,36],[59,37,59,38],[59,39,59,43],[55,1,57,8],[55,9,57,13],[55,14,57,20],[55,24,55,33],[55,37,55,38],[55,39,55,44],[56,21,57,24],[56,25,57,28],[56,29,57,32],[56,33,57,36],[56,37,57,38],[56,39,56,44],[57,39,57,44],[51,41,53,42],[51,43,53,44],[52,9,54,9],[52,10,54,10],[52,11,54,11],[52,12,54,12],[52,13,54,13],[52,14,54,14],[52,15,54,15],[52,16,54,16],[52,19,54,19],[52,20,54,20],[52,21,54,21],[52,22,54,22],[47,39,49,40],[51,1,54,8],[51,9,51,10],[51,12,51,13],[51,14,51,19],[51,20,51,22],[51,37,53,38],[51,39,53,40],[52,17,54,17],[52,18,54,18],[30,26,30,27],[30,28,30,44],[31,23,31,25],[31,28,31,39],[32,3,32,6],[32,26,32,27],[32,28,32,39],[34,26,37,27],[34,28,35,33],[34,35,35,39],[34,41,35,44],[36,28,37,33],[36,34,37,39],[36,40,37,40],[36,41,37,44],[27,39,27,43],[28,35,28,37],[28,38,28,39],[28,40,28,42],[29,3,29,4],[29,6,29,7],[29,9,29,10],[29,35,29,36],[29,38,29,39],[29,41,29,42],[25,1,26,4],[25,5,26,13],[25,14,26,20],[25,21,25,24],[25,33,25,36],[25,39,25,43],[26,21,26,24],[26,25,26,28],[26,29,26,32],[26,33,26,36],[26,39,26,43],[23,1,24,8],[23,9,24,13],[23,19,23,20],[23,21,23,23],[23,33,23,36],[23,39,23,43],[24,19,24,20],[24,21,24,24],[24,25,24,28],[24,29,24,32],[24,33,24,36],[24,37,24,38],[24,39,24,43],[21,1,22,8],[21,9,22,13],[21,19,21,20],[21,21,21,23],[21,33,21,36],[21,39,21,43],[22,19,22,20],[22,21,22,24],[22,25,22,28],[22,29,22,32],[22,33,22,36],[22,37,22,38],[22,39,22,43],[19,1,20,8],[19,9,20,13],[19,19,19,20],[19,21,19,23],[19,33,19,36],[19,39,19,43],[20,19,20,20],[20,21,20,24],[20,25,20,28],[20,29,20,32],[20,33,20,36],[20,37,20,38],[20,39,20,43],[17,1,18,8],[17,9,18,13],[17,19,17,20],[17,21,17,23],[17,33,17,36],[17,39,17,43],[18,19,18,20],[18,21,18,24],[18,25,18,28],[18,29,18,32],[18,33,18,36],[18,37,18,38],[18,39,18,43],[15,1,16,8],[15,9,16,13],[15,19,15,20],[15,21,15,23],[15,33,15,36],[15,39,15,43],[16,19,16,20],[16,21,16,24],[16,25,16,28],[16,29,16,32],[16,33,16,36],[16,37,16,38],[16,39,16,43],[12,1,14,8],[12,9,14,13],[12,14,14,20],[9,18,11,18],[9,19,11,19],[9,20,11,20],[9,21,11,21],[12,24,12,33],[12,39,12,44],[13,21,14,24],[13,25,14,28],[13,29,14,32],[13,33,14,36],[13,37,14,38],[13,39,13,44],[14,39,14,44],[8,41,10,42],[8,43,10,44],[9,9,11,9],[9,10,11,10],[9,11,11,11],[9,12,11,12],[9,13,11,13],[9,14,11,14],[9,15,11,15],[9,16,11,16],[9,22,11,22],[4,13,5,30],[4,38,6,39],[8,1,11,8],[8,9,8,10],[8,12,8,13],[8,14,8,19],[8,20,8,22],[8,37,10,38],[8,39,10,40],[9,17,11,17]]}
[{"$f":"報告書入力!B2","v":0}]
[{"$f":"VLOOKUP(A1,コード!D16:E21,2)","v":1}]
[]
[null,"様式第７号（第34条関係）　（甲）",null,null,null,null,null,null,null,null,null,null,null,null,null,null,null,null,null,null,"労　働　保　険"]
[null,null,null,null,null,null,null,null,null,null,null,null,null,"一括有期事業報告書　（建設の事業）",null,null,null,null,null,null,null,null,null,null,null,null,null,null,null,null,null,null,null,null,null,null,null,null,"控"]
[]
[]
[]
[null,"労 働 保 険 番 号",null,null,null,null,null,null,null,"府　県",null,"所掌","管　轄",null,"基　幹　番　号",null,null,null,null,null,"枝 番 号",null,null,null,null,null,null,null,null,null,null,null,null,null,null,null,null,{"$f":"VLOOKUP(A1,コード!D16:E21,2)","v":1},null,"枚のうち",null,1,null,"枚目"]
[null,null,null,null,null,null,null,null,null,{"$f":"報告書入力!F9","v":"1"},{"$f":"報告書入力!G9","v":"9"},{"$f":"報告書入力!H9","v":"1"},{"$f":"報告書入力!I9","v":"0"},{"$f":"報告書入力!J9","v":"2"},{"$f":"報告書入力!K9","v":"9"},{"$f":"報告書入力!L9","v":"3"},{"$f":"報告書入力!M9","v":"3"},{"$f":"報告書入力!N9","v":"0"},{"$f":"報告書入力!O9","v":"7"},{"$f":"報告書入力!P9","v":"5"},{"$f":"報告書入力!Q9","v":0},{"$f":"報告書入力!R9","v":0},{"$f":"報告書入力!S9","v":0}]
[]
[]
[null,"事  業  の  名  称",null,null,null,null,null,null,null,"事業場の所在地",null,null,null,null,"事  業  の  期  間",null,null,null,null,null,null,"①",null,null,"請負金額の内訳",null,null,null,null,null,null,null,null,null,null,null,null,"②",null,"③",null,null,null,null,null,"業種\n番号"]
[null,null,null,null,null,null,null,null,null,null,null,null,null,null,null,null,null,null,null,null,null,"請負代金の額",null,null,null,"請負代金に\n加算する額",null,null,null,"請負代金から\n控除する額",null,null,null,"請負代金",null,null,null,"労 務\n費 率",null,"賃  金  総  額"]
[]
[{"$f":"IF((ROW()-14)/2<=$A$1,ROW()-14)/2","v":0},{"$f":"IF($A16=0,\"\",VLOOKUP($A16,報告書入力!$A$14:$Y$149,5,0))","v":""},null,null,null,null,null,null,null,{"$f":"IF($A16=0,\"\",VLOOKUP($A16,報告書入力!$A$14:$Y$149,6,0))","v":""},null,null,null,null,{"$f":"IF($A16=0,\"\",VLOOKUP($A16,報告書入力!$A$14:$Y$149,11,0))","v":""},"年",{"$f":"O16","v":""},"月",{"$f":"Q16","v":""},"日から",null,null,null,null,"円",null,null,null,"円",null,null,null,"円",null,null,null,null,null,null,null,null,null,null,null,"円"]
[null,null,null,null,null,null,null,null,null,null,null,null,null,null,{"$f":"IF($A16=0,\"\",VLOOKUP($A16+0.1,報告書入力!$A$14:$Y$149,11,0))","v":""},"年",{"$f":"O17","v":""},"月",{"$f":"Q17","v":""},"日まで",null,{"$f":"AH17","v":""},{"$f":"IF($A16=0,\"\",VLOOKUP($A16+0.1,報告書入力!$A$14:$Y$149,11,0))","v":""},{"$f":"IF($A16=0,\"\",VLOOKUP($A16+0.1,報告書入力!$A$14:$Y$149,11,0))","v":""},{"$f":"IF($A16=0,\"\",VLOOKUP($A16+0.1,報告書入力!$A$14:$Y$149,11,0))","v":""},{"$f":"IF($A16=0,\"\",VLOOKUP($A16+0.1,報告書入力!$A$14:$Y$149,19,0))","v":""},{"$f":"IF($A16=0,\"\",VLOOKUP($A16+0.1,報告書入力!$A$14:$Y$149,11,0))","v":""},{"$f":"IF($A16=0,\"\",VLOOKUP($A16+0.1,報告書入力!$A$14:$Y$149,11,0))","v":""},{"$f":"IF($A16=0,\"\",VLOOKUP($A16+0.1,報告書入力!$A$14:$Y$149,11,0))","v":""},{"$f":"IF($A16=0,\"\",VLOOKUP($A16+0.1,報告書入力!$A$14:$Y$149,21,0))","v":""},{"$f":"IF($A16=0,\"\",VLOOKUP($A16+0.1,報告書入力!$A$14:$Y$149,11,0))","v":""},{"$f":"IF($A16=0,\"\",VLOOKUP($A16+0.1,報告書入力!$A$14:$Y$149,11,0))","v":""},{"$f":"IF($A16=0,\"\",VLOOKUP($A16+0.1,報告書入力!$A$14:$Y$149,11,0))","v":""},{"$f":"IF($A16=0,\"\",VLOOKUP($A16+0.1,報告書入力!$A$14:$Y$149,23,0))","v":""},null,null,null,{"$f":"IF($A16=0,\"\",VLOOKUP($A16+0.1,報告書入力!$A$14:$Y$149,24,0))","v":""},null,{"$f":"IF($A16=0,\"\",VLOOKUP($A16+0.1,報告書入力!$A$14:$Y$149,25,0))","v":""},null,null,null,null,null,{"$f":"IF($A16=0,\"\",TRUNC(VLOOKUP($A16,報告書入力!$A$14:$Y$149,4,0)))","v":""}]
[{"$f":"IF((ROW()-14)/2<=$A$1,ROW()-14)/2","v":0},{"$f":"IF($A18=0,\"\",VLOOKUP($A18,報告書入力!$A$14:$Y$149,5,0))","v":""},null,null,null,null,null,null,null,{"$f":"IF($A18=0,\"\",VLOOKUP($A18,報告書入力!$A$14:$Y$149,6,0))","v":""},null,null,null,null,{"$f":"IF($A18=0,\"\",VLOOKUP($A18,報告書入力!$A$14:$Y$149,11,0))","v":""},"年",{"$f":"O18","v":""},"月",{"$f":"Q18","v":""},"日から",null,null,null,null,"円",null,null,null,"円",null,null,null,"円"]
[null,null,null,null,null,null,null,null,null,null,null,null,null,null,{"$f":"IF($A18=0,\"\",VLOOKUP($A18+0.1,報告書入力!$A$14:$Y$149,11,0))","v":""},"年",{"$f":"O19","v":""},"月",{"$f":"Q19","v":""},"日まで",null,{"$f":"AH19","v":""},{"$f":"IF($A18=0,\"\",VLOOKUP($A18+0.1,報告書入力!$A$14:$Y$149,11,0))","v":""},{"$f":"IF($A18=0,\"\",VLOOKUP($A18+0.1,報告書入力!$A$14:$Y$149,11,0))","v":""},{"$f":"IF($A18=0,\"\",VLOOKUP($A18+0.1,報告書入力!$A$14:$Y$149,11,0))","v":""},{"$f":"IF($A18=0,\"\",VLOOKUP($A18+0.1,報告書入力!$A$14:$Y$149,19,0))","v":""},{"$f":"IF($A18=0,\"\",VLOOKUP($A18+0.1,報告書入力!$A$14:$Y$149,11,0))","v":""},{"$f":"IF($A18=0,\"\",VLOOKUP($A18+0.1,報告書入力!$A$14:$Y$149,11,0))","v":""},{"$f":"IF($A18=0,\"\",VLOOKUP($A18+0.1,報告書入力!$A$14:$Y$149,11,0))","v":""},{"$f":"IF($A18=0,\"\",VLOOKUP($A18+0.1,報告書入力!$A$14:$Y$149,21,0))","v":""},{"$f":"IF($A18=0,\"\",VLOOKUP($A18+0.1,報告書入力!$A$14:$Y$149,11,0))","v":""},{"$f":"IF($A18=0,\"\",VLOOKUP($A18+0.1,報告書入力!$A$14:$Y$149,11,0))","v":""},{"$f":"IF($A18=0,\"\",VLOOKUP($A18+0.1,報告書入力!$A$14:$Y$149,11,0))","v":""},{"$f":"IF($A18=0,\"\",VLOOKUP($A18+0.1,報告書入力!$A$14:$Y$149,23,0))","v":""},null,null,null,{"$f":"IF($A18=0,\"\",VLOOKUP($A18+0.1,報告書入力!$A$14:$Y$149,24,0))","v":""},null,{"$f":"IF($A18=0,\"\",VLOOKUP($A18+0.1,報告書入力!$A$14:$Y$149,25,0))","v":""},null,null,null,null,null,{"$f":"IF($A18=0,\"\",TRUNC(VLOOKUP($A18,報告書入力!$A$14:$Y$149,4,0)))","v":""}]
[{"$f":"IF((ROW()-14)/2<=$A$1,ROW()-14)/2","v":0},{"$f":"IF($A20=0,\"\",VLOOKUP($A20,報告書入力!$A$14:$Y$149,5,0))","v":""},null,null,null,null,null,null,null,{"$f":"IF($A20=0,\"\",VLOOKUP($A20,報告書入力!$A$14:$Y$149,6,0))","v":""},null,null,null,null,{"$f":"IF($A20=0,\"\",VLOOKUP($A20,報告書入力!$A$14:$Y$149,11,0))","v":""},"年",{"$f":"O20","v":""},"月",{"$f":"Q20","v":""},"日から",null,null,null,null,"円",null,null,null,"円",null,null,null,"円"]
[null,null,null,null,null,null,null,null,null,null,null,null,null,null,{"$f":"IF($A20=0,\"\",VLOOKUP($A20+0.1,報告書入力!$A$14:$Y$149,11,0))","v":""},"年","","月","","日まで",null,{"$f":"AH21","v":""},{"$f":"IF($A20=0,\"\",VLOOKUP($A20+0.1,報告書入力!$A$14:$Y$149,11,0))","v":""},{"$f":"IF($A20=0,\"\",VLOOKUP($A20+0.1,報告書入力!$A$14:$Y$149,11,0))","v":""},{"$f":"IF($A20=0,\"\",VLOOKUP($A20+0.1,報告書入力!$A$14:$Y$149,11,0))","v":""},{"$f":"IF($A20=0,\"\",VLOOKUP($A20+0.1,報告書入力!$A$14:$Y$149,19,0))","v":""},{"$f":"IF($A20=0,\"\",VLOOKUP($A20+0.1,報告書入力!$A$14:$Y$149,11,0))","v":""},{"$f":"IF($A20=0,\"\",VLOOKUP($A20+0.1,報告書入力!$A$14:$Y$149,11,0))","v":""},{"$f":"IF($A20=0,\"\",VLOOKUP($A20+0.1,報告書入力!$A$14:$Y$149,11,0))","v":""},{"$f":"IF($A20=0,\"\",VLOOKUP($A20+0.1,報告書入力!$A$14:$Y$149,21,0))","v":""},{"$f":"IF($A20=0,\"\",VLOOKUP($A20+0.1,報告書入力!$A$14:$Y$149,11,0))","v":""},{"$f":"IF($A20=0,\"\",VLOOKUP($A20+0.1,報告書入力!$A$14:$Y$149,11,0))","v":""},{"$f":"IF($A20=0,\"\",VLOOKUP($A20+0.1,報告書入力!$A$14:$Y$149,11,0))","v":""},{"$f":"IF($A20=0,\"\",VLOOKUP($A20+0.1,報告書入力!$A$14:$Y$149,23,0))","v":""},{"$f":"IF($A20=0,\"\",VLOOKUP($A20+0.1,報告書入力!$A$14:$Y$149,11,0))","v":""},{"$f":"IF($A20=0,\"\",VLOOKUP($A20+0.1,報告書入力!$A$14:$Y$149,11,0))","v":""},{"$f":"IF($A20=0,\"\",VLOOKUP($A20+0.1,報告書入力!$A$14:$Y$149,11,0))","v":""},{"$f":"IF($A20=0,\"\",VLOOKUP($A20+0.1,報告書入力!$A$14:$Y$149,24,0))","v":""},null,{"$f":"IF($A20=0,\"\",VLOOKUP($A20+0.1,報告書入力!$A$14:$Y$149,25,0))","v":""},null,null,null,null,null,{"$f":"IF($A20=0,\"\",TRUNC(VLOOKUP($A20,報告書入力!$A$14:$Y$149,4,0)))","v":""}]
[{"$f":"IF((ROW()-14)/2<=$A$1,ROW()-14)/2","v":0},{"$f":"IF($A22=0,\"\",VLOOKUP($A22,報告書入力!$A$14:$Y$149,5,0))","v":""},null,null,null,null,null,null,null,{"$f":"IF($A22=0,\"\",VLOOKUP($A22,報告書入力!$A$14:$Y$149,6,0))","v":""},null,null,null,null,{"$f":"IF($A22=0,\"\",VLOOKUP($A22,報告書入力!$A$14:$Y$149,11,0))","v":""},"年","","月","","日から",null,null,null,null,"円",null,null,null,"円",null,null,null,"円"]
[null,null,null,null,null,null,null,null,null,null,null,null,null,null,{"$f":"IF($A22=0,\"\",VLOOKUP($A22+0.1,報告書入力!$A$14:$Y$149,11,0))","v":""},"年","","月","","日まで",null,{"$f":"AH23","v":""},{"$f":"IF($A22=0,\"\",VLOOKUP($A22+0.1,報告書入力!$A$14:$Y$149,11,0))","v":""},{"$f":"IF($A22=0,\"\",VLOOKUP($A22+0.1,報告書入力!$A$14:$Y$149,11,0))","v":""},{"$f":"IF($A22=0,\"\",VLOOKUP($A22+0.1,報告書入力!$A$14:$Y$149,11,0))","v":""},{"$f":"IF($A22=0,\"\",VLOOKUP($A22+0.1,報告書入力!$A$14:$Y$149,19,0))","v":""},{"$f":"IF($A22=0,\"\",VLOOKUP($A22+0.1,報告書入力!$A$14:$Y$149,11,0))","v":""},{"$f":"IF($A22=0,\"\",VLOOKUP($A22+0.1,報告書入力!$A$14:$Y$149,11,0))","v":""},{"$f":"IF($A22=0,\"\",VLOOKUP($A22+0.1,報告書入力!$A$14:$Y$149,11,0))","v":""},{"$f":"IF($A22=0,\"\",VLOOKUP($A22+0.1,報告書入力!$A$14:$Y$149,21,0))","v":""},{"$f":"IF($A22=0,\"\",VLOOKUP($A22+0.1,報告書入力!$A$14:$Y$149,11,0))","v":""},{"$f":"IF($A22=0,\"\",VLOOKUP($A22+0.1,報告書入力!$A$14:$Y$149,11,0))","v":""},{"$f":"IF($A22=0,\"\",VLOOKUP($A22+0.1,報告書入力!$A$14:$Y$149,11,0))","v":""},{"$f":"IF($A22=0,\"\",VLOOKUP($A22+0.1,報告書入力!$A$14:$Y$149,23,0))","v":""},{"$f":"IF($A22=0,\"\",VLOOKUP($A22+0.1,報告書入力!$A$14:$Y$149,11,0))","v":""},{"$f":"IF($A22=0,\"\",VLOOKUP($A22+0.1,報告書入力!$A$14:$Y$149,11,0))","v":""},{"$f":"IF($A22=0,\"\",VLOOKUP($A22+0.1,報告書入力!$A$14:$Y$149,11,0))","v":""},{"$f":"IF($A22=0,\"\",VLOOKUP($A22+0.1,報告書入力!$A$14:$Y$149,24,0))","v":""},null,{"$f":"IF($A22=0,\"\",VLOOKUP($A22+0.1,報告書入力!$A$14:$Y$149,25,0))","v":""},null,null,null,null,null,{"$f":"IF($A22=0,\"\",TRUNC(VLOOKUP($A22,報告書入力!$A$14:$Y$149,4,0)))","v":""}]
[{"$f":"IF((ROW()-14)/2<=$A$1,ROW()-14)/2","v":0},{"$f":"IF($A24=0,\"\",VLOOKUP($A24,報告書入力!$A$14:$Y$149,5,0))","v":""},null,null,null,null,null,null,null,{"$f":"IF($A24=0,\"\",VLOOKUP($A24,報告書入力!$A$14:$Y$149,6,0))","v":""},null,null,null,null,{"$f":"IF($A24=0,\"\",VLOOKUP($A24,報告書入力!$A$14:$Y$149,11,0))","v":""},"年","","月","","日から",null,null,null,null,"円",null,null,null,"円",null,null,null,"円"]
[null,null,null,null,null,null,null,null,null,null,null,null,null,null,{"$f":"IF($A24=0,\"\",VLOOKUP($A24+0.1,報告書入力!$A$14:$Y$149,11,0))","v":""},"年","","月","","日まで",null,{"$f":"AH25","v":""},{"$f":"IF($A24=0,\"\",VLOOKUP($A24+0.1,報告書入力!$A$14:$Y$149,11,0))","v":""},{"$f":"IF($A24=0,\"\",VLOOKUP($A24+0.1,報告書入力!$A$14:$Y$149,11,0))","v":""},{"$f":"IF($A24=0,\"\",VLOOKUP($A24+0.1,報告書入力!$A$14:$Y$149,11,0))","v":""},{"$f":"IF($A24=0,\"\",VLOOKUP($A24+0.1,報告書入力!$A$14:$Y$149,19,0))","v":""},{"$f":"IF($A24=0,\"\",VLOOKUP($A24+0.1,報告書入力!$A$14:$Y$149,11,0))","v":""},{"$f":"IF($A24=0,\"\",VLOOKUP($A24+0.1,報告書入力!$A$14:$Y$149,11,0))","v":""},{"$f":"IF($A24=0,\"\",VLOOKUP($A24+0.1,報告書入力!$A$14:$Y$149,11,0))","v":""},{"$f":"IF($A24=0,\"\",VLOOKUP($A24+0.1,報告書入力!$A$14:$Y$149,21,0))","v":""},{"$f":"IF($A24=0,\"\",VLOOKUP($A24+0.1,報告書入力!$A$14:$Y$149,11,0))","v":""},{"$f":"IF($A24=0,\"\",VLOOKUP($A24+0.1,報告書入力!$A$14:$Y$149,11,0))","v":""},{"$f":"IF($A24=0,\"\",VLOOKUP($A24+0.1,報告書入力!$A$14:$Y$149,11,0))","v":""},{"$f":"IF($A24=0,\"\",VLOOKUP($A24+0.1,報告書入力!$A$14:$Y$149,23,0))","v":""},{"$f":"IF($A24=0,\"\",VLOOKUP($A24+0.1,報告書入力!$A$14:$Y$149,11,0))","v":""},{"$f":"IF($A24=0,\"\",VLOOKUP($A24+0.1,報告書入力!$A$14:$Y$149,11,0))","v":""},{"$f":"IF($A24=0,\"\",VLOOKUP($A24+0.1,報告書入力!$A$14:$Y$149,11,0))","v":""},{"$f":"IF($A24=0,\"\",VLOOKUP($A24+0.1,報告書入力!$A$14:$Y$149,24,0))","v":""},null,{"$f":"IF($A24=0,\"\",VLOOKUP($A24+0.1,報告書入力!$A$14:$Y$149,25,0))","v":""},null,null,null,null,null,{"$f":"IF($A24=0,\"\",TRUNC(VLOOKUP($A24,報告書入力!$A$14:$Y$149,4,0)))","v":""}]
[null,"事業の種類",null,null,null,null,null,null,null,null,null,null,null,null,"計"]
[]
[null,null,null,"前年度中（保険関係が消滅した日まで）に廃止又は終了があったそれぞれの事業の明細を上記のとおり報告します。"]
[null,null,null,null,null,null,null,null,null,null,null,null,null,null,null,null,null,null,null,null,null,null,null,null,null,null,null,null,null,null,null,null,null,null,"郵便番号（",{"$f":"LEFT(報告書入力!V5,3)","v":""},null,null,"-",null,{"$f":"RIGHT(報告書入力!V5,4)","v":""},null,null,null,")"]
[null,null,null,{"$f":"報告書入力!L6","v":45383},null,"年",4,null,"月",null,null,"日",null,null,null,null,null,null,null,null,null,null,null,null,null,null,null,null,null,null,null,null,null,null,"電話番号（",{"$f":"報告書入力!V9","v":0},null,"-",{"$f":"報告書入力!W9","v":0},null,"-",{"$f":"報告書入力!X9","v":0},null,null,")"]
[null,null,null,null,null,null,null,null,null,null,null,null,null,null,null,null,null,null,null,null,null,null,null,null,null,null,"住　所",null,{"$f":"報告書入力!V6","v":0}]
[null,null,null,null,null,null,null,null,null,null,null,null,null,null,null,null,null,null,null,null,null,null,null,"事 業 主",null,null,null,null,{"$f":"報告書入力!V7","v":0},null,null,null,null,null,null,null,null,null,null,null,null,null,null,null,"記名押印又は署名"]
[null,null,null,"山梨",null,null,null,"労働局労働保険特別会計歳入徴収官　殿",null,null,null,null,null,null,null,null,null,null,null,null,null,null,null,null,null,null,"氏　名",null,{"$f":"報告書入力!V8","v":0},null,null,null,null,null,null,null,null,null,null,null,null,null,null,null,"㊞"]
[null,null,null,null,null,null,null,null,null,null,null,null,null,null,null,null,null,null,null,null,null,null,null,null,null,null,null,null,null,"（法人のときはその名称及び代表者の氏名）"]
[null,null,null,"〔注意〕",null,null,null,null,null,null,null,null,null,null,null,null,null,null,null,null,null,null,null,null,null,null,"社会保険\n労務士\n記載欄",null,"作 成 年 月 日 ・\n提 出 代 行 者 ・\n事務代理者の表示",null,null,null,null,null,null,"氏名",null,null,null,null,null,"電話番号"]
[null,null,null,"①","報告書の記載に当たっては、平成19年３月31日までに事業（工事）を開始したものと、同年４月１日"]
[null,null,null,"  ","以降に事業（工事）を開始したものとを別葉とすること。",null,null,null,null,null,null,null,null,null,null,null,null,null,null,null,null,null,null,null,null,null,null,null,null,null,null,null,null,null,null,null,null,null,null,null,"㊞"]
[null,null,null,"②","社会保険労務士記載欄は、この報告書を社会保険労務士が作成した場合のみ記載すること。"]
[]
[]
[]
[]
[]
[]
[]
[]
[null,"様式第７号（第34条関係）　（甲）　〔別紙〕 "]
[null,null,null,null,null,null,null,null,null,null,null,null,null,null,null,null,null,null,null,null,null,null,null,null,null,null,null,null,null,null,null,null,null,null,null,null,null,null,null,{"$f":"AM5","v":"控"}]
[]
[]
[]
[null,"労 働 保 険 番 号",null,null,null,null,null,null,null,"府　県",null,"所掌","管　轄",null,"基　幹　番　号",null,null,null,null,null,"枝 番 号",null,null,null,null,null,null,null,null,null,null,null,null,null,null,null,null,{"$f":"$AL$9","v":1},null,"枚のうち",null,2,null,"枚目"]
[null,null,null,null,null,null,null,null,null,{"$f":"$J$10","v":"1"},{"$f":"$K$10","v":"9"},{"$f":"$L$10","v":"1"},{"$f":"$M$10","v":"0"},{"$f":"$N$10","v":"2"},{"$f":"$O$10","v":"9"},{"$f":"$P$10","v":"3"},{"$f":"$Q$10","v":"3"},{"$f":"$R$10","v":"0"},{"$f":"$S$10","v":"7"},{"$f":"$T$10","v":"5"},{"$f":"$U$10","v":0},{"$f":"$V$10","v":0},{"$f":"$W$10","v":0}]
[]
[]
[null,"事　業　の　名　称",null,null,null,null,null,null,null,"事業場の所在地",null,null,null,null,"事　業　の　期　間",null,null,null,null,null,null,"①",null,null,"請負金額の内訳",null,null,null,null,null,null,null,null,null,null,null,null,"②",null,"③",null,null,null,null,null,"業種\n番号"]
[null,null,null,null,null,null,null,null,null,null,null,null,null,null,null,null,null,null,null,null,null,"請負代金の額",null,null,null,"請負代金に\n加算する額",null,null,null,"請負代金から\n控除する額",null,null,null,"請負代金",null,null,null,"労 務　　　　　　　　　　　　　　　　　　　　　　　　　　　　　　　　　　　　　　　　　　　　　　　　　　　　　　　　　　　　　　　　　　　　　　　　　　　　　　　　　　　　　　　比 率",null,"賃  金  総  額"]
[]
[{"$f":"IF((ROW()-47)/2<=$A$1,ROW()-47)/2","v":0},{"$f":"IF($A59=0,\"\",VLOOKUP($A59,報告書入力!$A$14:$Y$149,5,0))","v":""},null,null,null,null,null,null,null,{"$f":"IF($A59=0,\"\",VLOOKUP($A59,報告書入力!$A$14:$Y$149,6,0))","v":""},null,null,null,null,{"$f":"IF($A59=0,\"\",VLOOKUP($A59,報告書入力!$A$14:$Y$149,11,0))","v":""},"年",{"$f":"O59","v":""},"月",{"$f":"Q59","v":""},"日から",null,null,null,null,"円",null,null,null,"円",null,null,null,"円",null,null,null,null,null,null,null,null,null,null,null,"円"]
[null,null,null,null,null,null,null,null,null,null,null,null,null,null,{"$f":"IF($A59=0,\"\",VLOOKUP($A59+0.1,報告書入力!$A$14:$Y$149,11,0))","v":""},"年","","月","","日まで",null,{"$f":"AH60","v":""},{"$f":"IF($A59=0,\"\",VLOOKUP($A59+0.1,報告書入力!$A$14:$Y$149,11,0))","v":""},{"$f":"IF($A59=0,\"\",VLOOKUP($A59+0.1,報告書入力!$A$14:$Y$149,11,0))","v":""},{"$f":"IF($A59=0,\"\",VLOOKUP($A59+0.1,報告書入力!$A$14:$Y$149,11,0))","v":""},{"$f":"IF($A59=0,\"\",VLOOKUP($A59+0.1,報告書入力!$A$14:$Y$149,19,0))","v":""},{"$f":"IF($A59=0,\"\",VLOOKUP($A59+0.1,報告書入力!$A$14:$Y$149,11,0))","v":""},{"$f":"IF($A59=0,\"\",VLOOKUP($A59+0.1,報告書入力!$A$14:$Y$149,11,0))","v":""},{"$f":"IF($A59=0,\"\",VLOOKUP($A59+0.1,報告書入力!$A$14:$Y$149,11,0))","v":""},{"$f":"IF($A59=0,\"\",VLOOKUP($A59+0.1,報告書入力!$A$14:$Y$149,21,0))","v":""},{"$f":"IF($A59=0,\"\",VLOOKUP($A59+0.1,報告書入力!$A$14:$Y$149,11,0))","v":""},{"$f":"IF($A59=0,\"\",VLOOKUP($A59+0.1,報告書入力!$A$14:$Y$149,11,0))","v":""},{"$f":"IF($A59=0,\"\",VLOOKUP($A59+0.1,報告書入力!$A$14:$Y$149,11,0))","v":""},{"$f":"IF($A59=0,\"\",VLOOKUP($A59+0.1,報告書入力!$A$14:$Y$149,23,0))","v":""},{"$f":"IF($A59=0,\"\",VLOOKUP($A59+0.1,報告書入力!$A$14:$Y$149,11,0))","v":""},{"$f":"IF($A59=0,\"\",VLOOKUP($A59+0.1,報告書入力!$A$14:$Y$149,11,0))","v":""},{"$f":"IF($A59=0,\"\",VLOOKUP($A59+0.1,報告書入力!$A$14:$Y$149,11,0))","v":""},{"$f":"IF($A59=0,\"\",VLOOKUP($A59+0.1,報告書入力!$A$14:$Y$149,24,0))","v":""},null,{"$f":"IF($A59=0,\"\",VLOOKUP($A59+0.1,報告書入力!$A$14:$Y$149,25,0))","v":""},null,null,null,null,null,{"$f":"IF($A59=0,\"\",TRUNC(VLOOKUP($A59,報告書入力!$A$14:$Y$149,4,0)))","v":""}]
[{"$f":"IF((ROW()-47)/2<=$A$1,ROW()-47)/2","v":0},{"$f":"IF($A61=0,\"\",VLOOKUP($A61,報告書入力!$A$14:$Y$149,5,0))","v":""},null,null,null,null,null,null,null,{"$f":"IF($A61=0,\"\",VLOOKUP($A61,報告書入力!$A$14:$Y$149,6,0))","v":""},null,null,null,null,{"$f":"IF($A61=0,\"\",VLOOKUP($A61,報告書入力!$A$14:$Y$149,11,0))","v":""},"年","","月","","日から",null,null,null,null,"円",null,null,null,"円",null,null,null,"円"]
[null,null,null,null,null,null,null,null,null,null,null,null,null,null,{"$f":"IF($A61=0,\"\",VLOOKUP($A61+0.1,報告書入力!$A$14:$Y$149,11,0))","v":""},"年","","月","","日まで",null,{"$f":"AH62","v":""},{"$f":"IF($A61=0,\"\",VLOOKUP($A61+0.1,報告書入力!$A$14:$Y$149,11,0))","v":""},{"$f":"IF($A61=0,\"\",VLOOKUP($A61+0.1,報告書入力!$A$14:$Y$149,11,0))","v":""},{"$f":"IF($A61=0,\"\",VLOOKUP($A61+0.1,報告書入力!$A$14:$Y$149,11,0))","v":""},{"$f":"IF($A61=0,\"\",VLOOKUP($A61+0.1,報告書入力!$A$14:$Y$149,19,0))","v":""},{"$f":"IF($A61=0,\"\",VLOOKUP($A61+0.1,報告書入力!$A$14:$Y$149,11,0))","v":""},{"$f":"IF($A61=0,\"\",VLOOKUP($A61+0.1,報告書入力!$A$14:$Y$149,11,0))","v":""},{"$f":"IF($A61=0,\"\",VLOOKUP($A61+0.1,報告書入力!$A$14:$Y$149,11,0))","v":""},{"$f":"IF($A61=0,\"\",VLOOKUP($A61+0.1,報告書入力!$A$14:$Y$149,21,0))","v":""},{"$f":"IF($A61=0,\"\",VLOOKUP($A61+0.1,報告書入力!$A$14:$Y$149,11,0))","v":""},{"$f":"IF($A61=0,\"\",VLOOKUP($A61+0.1,報告書入力!$A$14:$Y$149,11,0))","v":""},{"$f":"IF($A61=0,\"\",VLOOKUP($A61+0.1,報告書入力!$A$14:$Y$149,11,0))","v":""},{"$f":"IF($A61=0,\"\",VLOOKUP($A61+0.1,報告書入力!$A$14:$Y$149,23,0))","v":""},{"$f":"IF($A61=0,\"\",VLOOKUP($A61+0.1,報告書入力!$A$14:$Y$149,11,0))","v":""},{"$f":"IF($A61=0,\"\",VLOOKUP($A61+0.1,報告書入力!$A$14:$Y$149,11,0))","v":""},{"$f":"IF($A61=0,\"\",VLOOKUP($A61+0.1,報告書入力!$A$14:$Y$149,11,0))","v":""},{"$f":"IF($A61=0,\"\",VLOOKUP($A61+0.1,報告書入力!$A$14:$Y$149,24,0))","v":""},null,{"$f":"IF($A61=0,\"\",VLOOKUP($A61+0.1,報告書入力!$A$14:$Y$149,25,0))","v":""},null,null,null,null,null,{"$f":"IF($A61=0,\"\",TRUNC(VLOOKUP($A61,報告書入力!$A$14:$Y$149,4,0)))","v":""}]
[{"$f":"IF((ROW()-47)/2<=$A$1,ROW()-47)/2","v":0},{"$f":"IF($A63=0,\"\",VLOOKUP($A63,報告書入力!$A$14:$Y$149,5,0))","v":""},null,null,null,null,null,null,null,{"$f":"IF($A63=0,\"\",VLOOKUP($A63,報告書入力!$A$14:$Y$149,6,0))","v":""},null,null,null,null,{"$f":"IF($A63=0,\"\",VLOOKUP($A63,報告書入力!$A$14:$Y$149,11,0))","v":""},"年","","月","","日から",null,null,null,null,"円",null,null,null,"円",null,null,null,"円"]
[null,null,null,null,null,null,null,null,null,null,null,null,null,null,{"$f":"IF($A63=0,\"\",VLOOKUP($A63+0.1,報告書入力!$A$14:$Y$149,11,0))","v":""},"年","","月","","日まで",null,{"$f":"AH64","v":""},{"$f":"IF($A63=0,\"\",VLOOKUP($A63+0.1,報告書入力!$A$14:$Y$149,11,0))","v":""},{"$f":"IF($A63=0,\"\",VLOOKUP($A63+0.1,報告書入力!$A$14:$Y$149,11,0))","v":""},{"$f":"IF($A63=0,\"\",VLOOKUP($A63+0.1,報告書入力!$A$14:$Y$149,11,0))","v":""},{"$f":"IF($A63=0,\"\",VLOOKUP($A63+0.1,報告書入力!$A$14:$Y$149,19,0))","v":""},{"$f":"IF($A63=0,\"\",VLOOKUP($A63+0.1,報告書入力!$A$14:$Y$149,11,0))","v":""},{"$f":"IF($A63=0,\"\",VLOOKUP($A63+0.1,報告書入力!$A$14:$Y$149,11,0))","v":""},{"$f":"IF($A63=0,\"\",VLOOKUP($A63+0.1,報告書入力!$A$14:$Y$149,11,0))","v":""},{"$f":"IF($A63=0,\"\",VLOOKUP($A63+0.1,報告書入力!$A$14:$Y$149,21,0))","v":""},{"$f":"IF($A63=0,\"\",VLOOKUP($A63+0.1,報告書入力!$A$14:$Y$149,11,0))","v":""},{"$f":"IF($A63=0,\"\",VLOOKUP($A63+0.1,報告書入力!$A$14:$Y$149,11,0))","v":""},{"$f":"IF($A63=0,\"\",VLOOKUP($A63+0.1,報告書入力!$A$14:$Y$149,11,0))","v":""},{"$f":"IF($A63=0,\"\",VLOOKUP($A63+0.1,報告書入力!$A$14:$Y$149,23,0))","v":""},{"$f":"IF($A63=0,\"\",VLOOKUP($A63+0.1,報告書入力!$A$14:$Y$149,11,0))","v":""},{"$f":"IF($A63=0,\"\",VLOOKUP($A63+0.1,報告書入力!$A$14:$Y$149,11,0))","v":""},{"$f":"IF($A63=0,\"\",VLOOKUP($A63+0.1,報告書入力!$A$14:$Y$149,11,0))","v":""},{"$f":"IF($A63=0,\"\",VLOOKUP($A63+0.1,報告書入力!$A$14:$Y$149,24,0))","v":""},null,{"$f":"IF($A63=0,\"\",VLOOKUP($A63+0.1,報告書入力!$A$14:$Y$149,25,0))","v":""},null,null,null,null,null,{"$f":"IF($A63=0,\"\",TRUNC(VLOOKUP($A63,報告書入力!$A$14:$Y$149,4,0)))","v":""}]
[{"$f":"IF((ROW()-47)/2<=$A$1,ROW()-47)/2","v":0},{"$f":"IF($A65=0,\"\",VLOOKUP($A65,報告書入力!$A$14:$Y$149,5,0))","v":""},null,null,null,null,null,null,null,{"$f":"IF($A65=0,\"\",VLOOKUP($A65,報告書入力!$A$14:$Y$149,6,0))","v":""},null,null,null,null,{"$f":"IF($A65=0,\"\",VLOOKUP($A65,報告書入力!$A$14:$Y$149,11,0))","v":""},"年","","月","","日から",null,null,null,null,"円",null,null,null,"円",null,null,null,"円"]
[null,null,null,null,null,null,null,null,null,null,null,null,null,null,{"$f":"IF($A65=0,\"\",VLOOKUP($A65+0.1,報告書入力!$A$14:$Y$149,11,0))","v":""},"年","","月","","日まで",null,{"$f":"AH66","v":""},{"$f":"IF($A65=0,\"\",VLOOKUP($A65+0.1,報告書入力!$A$14:$Y$149,11,0))","v":""},{"$f":"IF($A65=0,\"\",VLOOKUP($A65+0.1,報告書入力!$A$14:$Y$149,11,0))","v":""},{"$f":"IF($A65=0,\"\",VLOOKUP($A65+0.1,報告書入力!$A$14:$Y$149,11,0))","v":""},{"$f":"IF($A65=0,\"\",VLOOKUP($A65+0.1,報告書入力!$A$14:$Y$149,19,0))","v":""},{"$f":"IF($A65=0,\"\",VLOOKUP($A65+0.1,報告書入力!$A$14:$Y$149,11,0))","v":""},{"$f":"IF($A65=0,\"\",VLOOKUP($A65+0.1,報告書入力!$A$14:$Y$149,11,0))","v":""},{"$f":"IF($A65=0,\"\",VLOOKUP($A65+0.1,報告書入力!$A$14:$Y$149,11,0))","v":""},{"$f":"IF($A65=0,\"\",VLOOKUP($A65+0.1,報告書入力!$A$14:$Y$149,21,0))","v":""},{"$f":"IF($A65=0,\"\",VLOOKUP($A65+0.1,報告書入力!$A$14:$Y$149,11,0))","v":""},{"$f":"IF($A65=0,\"\",VLOOKUP($A65+0.1,報告書入力!$A$14:$Y$149,11,0))","v":""},{"$f":"IF($A65=0,\"\",VLOOKUP($A65+0.1,報告書入力!$A$14:$Y$149,11,0))","v":""},{"$f":"IF($A65=0,\"\",VLOOKUP($A65+0.1,報告書入力!$A$14:$Y$149,23,0))","v":""},{"$f":"IF($A65=0,\"\",VLOOKUP($A65+0.1,報告書入力!$A$14:$Y$149,11,0))","v":""},{"$f":"IF($A65=0,\"\",VLOOKUP($A65+0.1,報告書入力!$A$14:$Y$149,11,0))","v":""},{"$f":"IF($A65=0,\"\",VLOOKUP($A65+0.1,報告書入力!$A$14:$Y$149,11,0))","v":""},{"$f":"IF($A65=0,\"\",VLOOKUP($A65+0.1,報告書入力!$A$14:$Y$149,24,0))","v":""},null,{"$f":"IF($A65=0,\"\",VLOOKUP($A65+0.1,報告書入力!$A$14:$Y$149,25,0))","v":""},null,null,null,null,null,{"$f":"IF($A65=0,\"\",TRUNC(VLOOKUP($A65,報告書入力!$A$14:$Y$149,4,0)))","v":""}]
[{"$f":"IF((ROW()-47)/2<=$A$1,ROW()-47)/2","v":0},{"$f":"IF($A67=0,\"\",VLOOKUP($A67,報告書入力!$A$14:$Y$149,5,0))","v":""},null,null,null,null,null,null,null,{"$f":"IF($A67=0,\"\",VLOOKUP($A67,報告書入力!$A$14:$Y$149,6,0))","v":""},null,null,null,null,{"$f":"IF($A67=0,\"\",VLOOKUP($A67,報告書入力!$A$14:$Y$149,11,0))","v":""},"年","","月","","日から",null,null,null,null,"円",null,null,null,"円",null,null,null,"円"]
[null,null,null,null,null,null,null,null,null,null,null,null,null,null,{"$f":"IF($A67=0,\"\",VLOOKUP($A67+0.1,報告書入力!$A$14:$Y$149,11,0))","v":""},"年","","月","","日まで",null,{"$f":"AH68","v":""},{"$f":"IF($A67=0,\"\",VLOOKUP($A67+0.1,報告書入力!$A$14:$Y$149,11,0))","v":""},{"$f":"IF($A67=0,\"\",VLOOKUP($A67+0.1,報告書入力!$A$14:$Y$149,11,0))","v":""},{"$f":"IF($A67=0,\"\",VLOOKUP($A67+0.1,報告書入力!$A$14:$Y$149,11,0))","v":""},{"$f":"IF($A67=0,\"\",VLOOKUP($A67+0.1,報告書入力!$A$14:$Y$149,19,0))","v":""},{"$f":"IF($A67=0,\"\",VLOOKUP($A67+0.1,報告書入力!$A$14:$Y$149,11,0))","v":""},{"$f":"IF($A67=0,\"\",VLOOKUP($A67+0.1,報告書入力!$A$14:$Y$149,11,0))","v":""},{"$f":"IF($A67=0,\"\",VLOOKUP($A67+0.1,報告書入力!$A$14:$Y$149,11,0))","v":""},{"$f":"IF($A67=0,\"\",VLOOKUP($A67+0.1,報告書入力!$A$14:$Y$149,21,0))","v":""},{"$f":"IF($A67=0,\"\",VLOOKUP($A67+0.1,報告書入力!$A$14:$Y$149,11,0))","v":""},{"$f":"IF($A67=0,\"\",VLOOKUP($A67+0.1,報告書入力!$A$14:$Y$149,11,0))","v":""},{"$f":"IF($A67=0,\"\",VLOOKUP($A67+0.1,報告書入力!$A$14:$Y$149,11,0))","v":""},{"$f":"IF($A67=0,\"\",VLOOKUP($A67+0.1,報告書入力!$A$14:$Y$149,23,0))","v":""},{"$f":"IF($A67=0,\"\",VLOOKUP($A67+0.1,報告書入力!$A$14:$Y$149,11,0))","v":""},{"$f":"IF($A67=0,\"\",VLOOKUP($A67+0.1,報告書入力!$A$14:$Y$149,11,0))","v":""},{"$f":"IF($A67=0,\"\",VLOOKUP($A67+0.1,報告書入力!$A$14:$Y$149,11,0))","v":""},{"$f":"IF($A67=0,\"\",VLOOKUP($A67+0.1,報告書入力!$A$14:$Y$149,24,0))","v":""},null,{"$f":"IF($A67=0,\"\",VLOOKUP($A67+0.1,報告書入力!$A$14:$Y$149,25,0))","v":""},null,null,null,null,null,{"$f":"IF($A67=0,\"\",TRUNC(VLOOKUP($A67,報告書入力!$A$14:$Y$149,4,0)))","v":""}]
[{"$f":"IF((ROW()-47)/2<=$A$1,ROW()-47)/2","v":0},{"$f":"IF($A69=0,\"\",VLOOKUP($A69,報告書入力!$A$14:$Y$149,5,0))","v":""},null,null,null,null,null,null,null,{"$f":"IF($A69=0,\"\",VLOOKUP($A69,報告書入力!$A$14:$Y$149,6,0))","v":""},null,null,null,null,{"$f":"IF($A69=0,\"\",VLOOKUP($A69,報告書入力!$A$14:$Y$149,11,0))","v":""},"年","","月","","日から",null,null,null,null,"円",null,null,null,"円",null,null,null,"円"]
[null,null,null,null,null,null,null,null,null,null,null,null,null,null,{"$f":"IF($A69=0,\"\",VLOOKUP($A69+0.1,報告書入力!$A$14:$Y$149,11,0))","v":""},"年","","月","","日まで",null,{"$f":"AH70","v":""},{"$f":"IF($A69=0,\"\",VLOOKUP($A69+0.1,報告書入力!$A$14:$Y$149,11,0))","v":""},{"$f":"IF($A69=0,\"\",VLOOKUP($A69+0.1,報告書入力!$A$14:$Y$149,11,0))","v":""},{"$f":"IF($A69=0,\"\",VLOOKUP($A69+0.1,報告書入力!$A$14:$Y$149,11,0))","v":""},{"$f":"IF($A69=0,\"\",VLOOKUP($A69+0.1,報告書入力!$A$14:$Y$149,19,0))","v":""},{"$f":"IF($A69=0,\"\",VLOOKUP($A69+0.1,報告書入力!$A$14:$Y$149,11,0))","v":""},{"$f":"IF($A69=0,\"\",VLOOKUP($A69+0.1,報告書入力!$A$14:$Y$149,11,0))","v":""},{"$f":"IF($A69=0,\"\",VLOOKUP($A69+0.1,報告書入力!$A$14:$Y$149,11,0))","v":""},{"$f":"IF($A69=0,\"\",VLOOKUP($A69+0.1,報告書入力!$A$14:$Y$149,21,0))","v":""},{"$f":"IF($A69=0,\"\",VLOOKUP($A69+0.1,報告書入力!$A$14:$Y$149,11,0))","v":""},{"$f":"IF($A69=0,\"\",VLOOKUP($A69+0.1,報告書入力!$A$14:$Y$149,11,0))","v":""},{"$f":"IF($A69=0,\"\",VLOOKUP($A69+0.1,報告書入力!$A$14:$Y$149,11,0))","v":""},{"$f":"IF($A69=0,\"\",VLOOKUP($A69+0.1,報告書入力!$A$14:$Y$149,23,0))","v":""},{"$f":"IF($A69=0,\"\",VLOOKUP($A69+0.1,報告書入力!$A$14:$Y$149,11,0))","v":""},{"$f":"IF($A69=0,\"\",VLOOKUP($A69+0.1,報告書入力!$A$14:$Y$149,11,0))","v":""},{"$f":"IF($A69=0,\"\",VLOOKUP($A69+0.1,報告書入力!$A$14:$Y$149,11,0))","v":""},{"$f":"IF($A69=0,\"\",VLOOKUP($A69+0.1,報告書入力!$A$14:$Y$149,24,0))","v":""},null,{"$f":"IF($A69=0,\"\",VLOOKUP($A69+0.1,報告書入力!$A$14:$Y$149,25,0))","v":""},null,null,null,null,null,{"$f":"IF($A69=0,\"\",TRUNC(VLOOKUP($A69,報告書入力!$A$14:$Y$149,4,0)))","v":""}]
[{"$f":"IF((ROW()-47)/2<=$A$1,ROW()-47)/2","v":0},{"$f":"IF($A71=0,\"\",VLOOKUP($A71,報告書入力!$A$14:$Y$149,5,0))","v":""},null,null,null,null,null,null,null,{"$f":"IF($A71=0,\"\",VLOOKUP($A71,報告書入力!$A$14:$Y$149,6,0))","v":""},null,null,null,null,{"$f":"IF($A71=0,\"\",VLOOKUP($A71,報告書入力!$A$14:$Y$149,11,0))","v":""},"年",{"$f":"O71","v":""},"月",{"$f":"Q71","v":""},"日から",null,null,null,null,"円",null,null,null,"円",null,null,null,"円"]
[null,null,null,null,null,null,null,null,null,null,null,null,null,null,{"$f":"IF($A71=0,\"\",VLOOKUP($A71+0.1,報告書入力!$A$14:$Y$149,11,0))","v":""},"年","","月","","日まで",null,{"$f":"AH72","v":""},{"$f":"IF($A71=0,\"\",VLOOKUP($A71+0.1,報告書入力!$A$14:$Y$149,11,0))","v":""},{"$f":"IF($A71=0,\"\",VLOOKUP($A71+0.1,報告書入力!$A$14:$Y$149,11,0))","v":""},{"$f":"IF($A71=0,\"\",VLOOKUP($A71+0.1,報告書入力!$A$14:$Y$149,11,0))","v":""},{"$f":"IF($A71=0,\"\",VLOOKUP($A71+0.1,報告書入力!$A$14:$Y$149,19,0))","v":""},{"$f":"IF($A71=0,\"\",VLOOKUP($A71+0.1,報告書入力!$A$14:$Y$149,11,0))","v":""},{"$f":"IF($A71=0,\"\",VLOOKUP($A71+0.1,報告書入力!$A$14:$Y$149,11,0))","v":""},{"$f":"IF($A71=0,\"\",VLOOKUP($A71+0.1,報告書入力!$A$14:$Y$149,11,0))","v":""},{"$f":"IF($A71=0,\"\",VLOOKUP($A71+0.1,報告書入力!$A$14:$Y$149,21,0))","v":""},{"$f":"IF($A71=0,\"\",VLOOKUP($A71+0.1,報告書入力!$A$14:$Y$149,11,0))","v":""},{"$f":"IF($A71=0,\"\",VLOOKUP($A71+0.1,報告書入力!$A$14:$Y$149,11,0))","v":""},{"$f":"IF($A71=0,\"\",VLOOKUP($A71+0.1,報告書入力!$A$14:$Y$149,11,0))","v":""},{"$f":"IF($A71=0,\"\",VLOOKUP($A71+0.1,報告書入力!$A$14:$Y$149,23,0))","v":""},{"$f":"IF($A71=0,\"\",VLOOKUP($A71+0.1,報告書入力!$A$14:$Y$149,11,0))","v":""},{"$f":"IF($A71=0,\"\",VLOOKUP($A71+0.1,報告書入力!$A$14:$Y$149,11,0))","v":""},{"$f":"IF($A71=0,\"\",VLOOKUP($A71+0.1,報告書入力!$A$14:$Y$149,11,0))","v":""},{"$f":"IF($A71=0,\"\",VLOOKUP($A71+0.1,報告書入力!$A$14:$Y$149,24,0))","v":""},null,{"$f":"IF($A71=0,\"\",VLOOKUP($A71+0.1,報告書入力!$A$14:$Y$149,25,0))","v":""},null,null,null,null,null,{"$f":"IF($A71=0,\"\",TRUNC(VLOOKUP($A71,報告書入力!$A$14:$Y$149,4,0)))","v":""}]
[{"$f":"IF((ROW()-47)/2<=$A$1,ROW()-47)/2","v":0},{"$f":"IF($A73=0,\"\",VLOOKUP($A73,報告書入力!$A$14:$Y$149,5,0))","v":""},null,null,null,null,null,null,null,{"$f":"IF($A73=0,\"\",VLOOKUP($A73,報告書入力!$A$14:$Y$149,6,0))","v":""},null,null,null,null,{"$f":"IF($A73=0,\"\",VLOOKUP($A73,報告書入力!$A$14:$Y$149,11,0))","v":""},"年","","月","","日から",null,null,null,null,"円",null,null,null,"円",null,null,null,"円"]
[null,null,null,null,null,null,null,null,null,null,null,null,null,null,{"$f":"IF($A73=0,\"\",VLOOKUP($A73+0.1,報告書入力!$A$14:$Y$149,11,0))","v":""},"年","","月","","日まで",null,{"$f":"AH74","v":""},{"$f":"IF($A73=0,\"\",VLOOKUP($A73+0.1,報告書入力!$A$14:$Y$149,11,0))","v":""},{"$f":"IF($A73=0,\"\",VLOOKUP($A73+0.1,報告書入力!$A$14:$Y$149,11,0))","v":""},{"$f":"IF($A73=0,\"\",VLOOKUP($A73+0.1,報告書入力!$A$14:$Y$149,11,0))","v":""},{"$f":"IF($A73=0,\"\",VLOOKUP($A73+0.1,報告書入力!$A$14:$Y$149,19,0))","v":""},{"$f":"IF($A73=0,\"\",VLOOKUP($A73+0.1,報告書入力!$A$14:$Y$149,11,0))","v":""},{"$f":"IF($A73=0,\"\",VLOOKUP($A73+0.1,報告書入力!$A$14:$Y$149,11,0))","v":""},{"$f":"IF($A73=0,\"\",VLOOKUP($A73+0.1,報告書入力!$A$14:$Y$149,11,0))","v":""},{"$f":"IF($A73=0,\"\",VLOOKUP($A73+0.1,報告書入力!$A$14:$Y$149,21,0))","v":""},{"$f":"IF($A73=0,\"\",VLOOKUP($A73+0.1,報告書入力!$A$14:$Y$149,11,0))","v":""},{"$f":"IF($A73=0,\"\",VLOOKUP($A73+0.1,報告書入力!$A$14:$Y$149,11,0))","v":""},{"$f":"IF($A73=0,\"\",VLOOKUP($A73+0.1,報告書入力!$A$14:$Y$149,11,0))","v":""},{"$f":"IF($A73=0,\"\",VLOOKUP($A73+0.1,報告書入力!$A$14:$Y$149,23,0))","v":""},{"$f":"IF($A73=0,\"\",VLOOKUP($A73+0.1,報告書入力!$A$14:$Y$149,11,0))","v":""},{"$f":"IF($A73=0,\"\",VLOOKUP($A73+0.1,報告書入力!$A$14:$Y$149,11,0))","v":""},{"$f":"IF($A73=0,\"\",VLOOKUP($A73+0.1,報告書入力!$A$14:$Y$149,11,0))","v":""},{"$f":"IF($A73=0,\"\",VLOOKUP($A73+0.1,報告書入力!$A$14:$Y$149,24,0))","v":""},null,{"$f":"IF($A73=0,\"\",VLOOKUP($A73+0.1,報告書入力!$A$14:$Y$149,25,0))","v":""},null,null,null,null,null,{"$f":"IF($A73=0,\"\",TRUNC(VLOOKUP($A73,報告書入力!$A$14:$Y$149,4,0)))","v":""}]
[{"$f":"IF((ROW()-47)/2<=$A$1,ROW()-47)/2","v":0},{"$f":"IF($A75=0,\"\",VLOOKUP($A75,報告書入力!$A$14:$Y$149,5,0))","v":""},null,null,null,null,null,null,null,{"$f":"IF($A75=0,\"\",VLOOKUP($A75,報告書入力!$A$14:$Y$149,6,0))","v":""},null,null,null,null,{"$f":"IF($A75=0,\"\",VLOOKUP($A75,報告書入力!$A$14:$Y$149,11,0))","v":""},"年","","月","","日から",null,null,null,null,"円",null,null,null,"円",null,null,null,"円"]
[null,null,null,null,null,null,null,null,null,null,null,null,null,null,{"$f":"IF($A75=0,\"\",VLOOKUP($A75+0.1,報告書入力!$A$14:$Y$149,11,0))","v":""},"年","","月","","日まで",null,{"$f":"AH76","v":""},{"$f":"IF($A75=0,\"\",VLOOKUP($A75+0.1,報告書入力!$A$14:$Y$149,11,0))","v":""},{"$f":"IF($A75=0,\"\",VLOOKUP($A75+0.1,報告書入力!$A$14:$Y$149,11,0))","v":""},{"$f":"IF($A75=0,\"\",VLOOKUP($A75+0.1,報告書入力!$A$14:$Y$149,11,0))","v":""},{"$f":"IF($A75=0,\"\",VLOOKUP($A75+0.1,報告書入力!$A$14:$Y$149,19,0))","v":""},{"$f":"IF($A75=0,\"\",VLOOKUP($A75+0.1,報告書入力!$A$14:$Y$149,11,0))","v":""},{"$f":"IF($A75=0,\"\",VLOOKUP($A75+0.1,報告書入力!$A$14:$Y$149,11,0))","v":""},{"$f":"IF($A75=0,\"\",VLOOKUP($A75+0.1,報告書入力!$A$14:$Y$149,11,0))","v":""},{"$f":"IF($A75=0,\"\",VLOOKUP($A75+0.1,報告書入力!$A$14:$Y$149,21,0))","v":""},{"$f":"IF($A75=0,\"\",VLOOKUP($A75+0.1,報告書入力!$A$14:$Y$149,11,0))","v":""},{"$f":"IF($A75=0,\"\",VLOOKUP($A75+0.1,報告書入力!$A$14:$Y$149,11,0))","v":""},{"$f":"IF($A75=0,\"\",VLOOKUP($A75+0.1,報告書入力!$A$14:$Y$149,11,0))","v":""},{"$f":"IF($A75=0,\"\",VLOOKUP($A75+0.1,報告書入力!$A$14:$Y$149,23,0))","v":""},{"$f":"IF($A75=0,\"\",VLOOKUP($A75+0.1,報告書入力!$A$14:$Y$149,11,0))","v":""},{"$f":"IF($A75=0,\"\",VLOOKUP($A75+0.1,報告書入力!$A$14:$Y$149,11,0))","v":""},{"$f":"IF($A75=0,\"\",VLOOKUP($A75+0.1,報告書入力!$A$14:$Y$149,11,0))","v":""},{"$f":"IF($A75=0,\"\",VLOOKUP($A75+0.1,報告書入力!$A$14:$Y$149,24,0))","v":""},null,{"$f":"IF($A75=0,\"\",VLOOKUP($A75+0.1,報告書入力!$A$14:$Y$149,25,0))","v":""},null,null,null,null,null,{"$f":"IF($A75=0,\"\",TRUNC(VLOOKUP($A75,報告書入力!$A$14:$Y$149,4,0)))","v":""}]
[null,"事業の種類",null,null,null,null,null,null,null,null,null,null,null,null,"計"]
[]
[]
[]
[]
[]
[]
[]
[]
[null,"様式第７号（第34条関係）　（甲）　〔別紙〕 "]
[null,null,null,null,null,null,null,null,null,null,null,null,null,null,null,null,null,null,null,null,null,null,null,null,null,null,null,null,null,null,null,null,null,null,null,null,null,null,null,{"$f":"AN48","v":"控"}]
[]
[]
[]
[null,"労 働 保 険 番 号",null,null,null,null,null,null,null,"府　県",null,"所掌","管　轄",null,"基　幹　番　号",null,null,null,null,null,"枝 番 号",null,null,null,null,null,null,null,null,null,null,null,null,null,null,null,null,{"$f":"$AL$9","v":1},null,"枚のうち",null,3,null,"枚目"]
[null,null,null,null,null,null,null,null,null,{"$f":"$J$10","v":"1"},{"$f":"$K$10","v":"9"},{"$f":"$L$10","v":"1"},{"$f":"$M$10","v":"0"},{"$f":"$N$10","v":"2"},{"$f":"$O$10","v":"9"},{"$f":"$P$10","v":"3"},{"$f":"$Q$10","v":"3"},{"$f":"$R$10","v":"0"},{"$f":"$S$10","v":"7"},{"$f":"$T$10","v":"5"},{"$f":"$U$10","v":0},{"$f":"$V$10","v":0},{"$f":"$W$10","v":0}]
[]
[]
[null,"事　業　の　名　称",null,null,null,null,null,null,null,"事業場の所在地",null,null,null,null,"事　業　の　期　間",null,null,null,null,null,null,"①",null,null,"請負金額の内訳",null,null,null,null,null,null,null,null,null,null,null,null,"②",null,"③",null,null,null,null,null,"業種\n番号"]
[null,null,null,null,null,null,null,null,null,null,null,null,null,null,null,null,null,null,null,null,null,"請負代金の額",null,null,null,"請負代金に\n加算する額",null,null,null,"請負代金から\n控除する額",null,null,null,"請負代金",null,null,null,"労 務　　　　　　　　　　　　　　　　　　　　　　　　　　　　　　　　　　　　　　　　　　　　　　　　　　　　　　　　　　　　　　　　　　　　　　　　　　　　　　　　　　　　　　　比 率",null,"賃  金  総  額"]
[]
[{"$f":"IF((ROW()-68)/2<=$A$1,ROW()-68)/2","v":0},{"$f":"IF($A98=0,\"\",VLOOKUP($A98,報告書入力!$A$14:$Y$149,5,0))","v":""},null,null,null,null,null,null,null,{"$f":"IF($A98=0,\"\",VLOOKUP($A98,報告書入力!$A$14:$Y$149,6,0))","v":""},null,null,null,null,{"$f":"IF($A98=0,\"\",VLOOKUP($A98,報告書入力!$A$14:$Y$149,11,0))","v":""},"年",{"$f":"O98","v":""},"月",{"$f":"Q98","v":""},"日から",null,null,null,null,"円",null,null,null,"円",null,null,null,"円",null,null,null,null,null,null,null,null,null,null,null,"円"]
[null,null,null,null,null,null,null,null,null,null,null,null,null,null,{"$f":"IF($A98=0,\"\",VLOOKUP($A98+0.1,報告書入力!$A$14:$Y$149,11,0))","v":""},"年","","月","","日まで",null,{"$f":"AH99","v":""},{"$f":"IF($A98=0,\"\",VLOOKUP($A98+0.1,報告書入力!$A$14:$Y$149,11,0))","v":""},{"$f":"IF($A98=0,\"\",VLOOKUP($A98+0.1,報告書入力!$A$14:$Y$149,11,0))","v":""},{"$f":"IF($A98=0,\"\",VLOOKUP($A98+0.1,報告書入力!$A$14:$Y$149,11,0))","v":""},{"$f":"IF($A98=0,\"\",VLOOKUP($A98+0.1,報告書入力!$A$14:$Y$149,19,0))","v":""},{"$f":"IF($A98=0,\"\",VLOOKUP($A98+0.1,報告書入力!$A$14:$Y$149,11,0))","v":""},{"$f":"IF($A98=0,\"\",VLOOKUP($A98+0.1,報告書入力!$A$14:$Y$149,11,0))","v":""},{"$f":"IF($A98=0,\"\",VLOOKUP($A98+0.1,報告書入力!$A$14:$Y$149,11,0))","v":""},{"$f":"IF($A98=0,\"\",VLOOKUP($A98+0.1,報告書入力!$A$14:$Y$149,21,0))","v":""},{"$f":"IF($A98=0,\"\",VLOOKUP($A98+0.1,報告書入力!$A$14:$Y$149,11,0))","v":""},{"$f":"IF($A98=0,\"\",VLOOKUP($A98+0.1,報告書入力!$A$14:$Y$149,11,0))","v":""},{"$f":"IF($A98=0,\"\",VLOOKUP($A98+0.1,報告書入力!$A$14:$Y$149,11,0))","v":""},{"$f":"IF($A98=0,\"\",VLOOKUP($A98+0.1,報告書入力!$A$14:$Y$149,23,0))","v":""},{"$f":"IF($A98=0,\"\",VLOOKUP($A98+0.1,報告書入力!$A$14:$Y$149,11,0))","v":""},{"$f":"IF($A98=0,\"\",VLOOKUP($A98+0.1,報告書入力!$A$14:$Y$149,11,0))","v":""},{"$f":"IF($A98=0,\"\",VLOOKUP($A98+0.1,報告書入力!$A$14:$Y$149,11,0))","v":""},{"$f":"IF($A98=0,\"\",VLOOKUP($A98+0.1,報告書入力!$A$14:$Y$149,24,0))","v":""},null,{"$f":"IF($A98=0,\"\",VLOOKUP($A98+0.1,報告書入力!$A$14:$Y$149,25,0))","v":""},null,null,null,null,null,{"$f":"IF($A98=0,\"\",TRUNC(VLOOKUP($A98,報告書入力!$A$14:$Y$149,4,0)))","v":""}]
[{"$f":"IF((ROW()-68)/2<=$A$1,ROW()-68)/2","v":0},{"$f":"IF($A100=0,\"\",VLOOKUP($A100,報告書入力!$A$14:$Y$149,5,0))","v":""},null,null,null,null,null,null,null,{"$f":"IF($A100=0,\"\",VLOOKUP($A100,報告書入力!$A$14:$Y$149,6,0))","v":""},null,null,null,null,{"$f":"IF($A100=0,\"\",VLOOKUP($A100,報告書入力!$A$14:$Y$149,11,0))","v":""},"年","","月","","日から",null,null,null,null,"円",null,null,null,"円",null,null,null,"円"]
[null,null,null,null,null,null,null,null,null,null,null,null,null,null,{"$f":"IF($A100=0,\"\",VLOOKUP($A100+0.1,報告書入力!$A$14:$Y$149,11,0))","v":""},"年","","月","","日まで",null,{"$f":"AH101","v":""},{"$f":"IF($A100=0,\"\",VLOOKUP($A100+0.1,報告書入力!$A$14:$Y$149,11,0))","v":""},{"$f":"IF($A100=0,\"\",VLOOKUP($A100+0.1,報告書入力!$A$14:$Y$149,11,0))","v":""},{"$f":"IF($A100=0,\"\",VLOOKUP($A100+0.1,報告書入力!$A$14:$Y$149,11,0))","v":""},{"$f":"IF($A100=0,\"\",VLOOKUP($A100+0.1,報告書入力!$A$14:$Y$149,19,0))","v":""},{"$f":"IF($A100=0,\"\",VLOOKUP($A100+0.1,報告書入力!$A$14:$Y$149,11,0))","v":""},{"$f":"IF($A100=0,\"\",VLOOKUP($A100+0.1,報告書入力!$A$14:$Y$149,11,0))","v":""},{"$f":"IF($A100=0,\"\",VLOOKUP($A100+0.1,報告書入力!$A$14:$Y$149,11,0))","v":""},{"$f":"IF($A100=0,\"\",VLOOKUP($A100+0.1,報告書入力!$A$14:$Y$149,21,0))","v":""},{"$f":"IF($A100=0,\"\",VLOOKUP($A100+0.1,報告書入力!$A$14:$Y$149,11,0))","v":""},{"$f":"IF($A100=0,\"\",VLOOKUP($A100+0.1,報告書入力!$A$14:$Y$149,11,0))","v":""},{"$f":"IF($A100=0,\"\",VLOOKUP($A100+0.1,報告書入力!$A$14:$Y$149,11,0))","v":""},{"$f":"IF($A100=0,\"\",VLOOKUP($A100+0.1,報告書入力!$A$14:$Y$149,23,0))","v":""},{"$f":"IF($A100=0,\"\",VLOOKUP($A100+0.1,報告書入力!$A$14:$Y$149,11,0))","v":""},{"$f":"IF($A100=0,\"\",VLOOKUP($A100+0.1,報告書入力!$A$14:$Y$149,11,0))","v":""},{"$f":"IF($A100=0,\"\",VLOOKUP($A100+0.1,報告書入力!$A$14:$Y$149,11,0))","v":""},{"$f":"IF($A100=0,\"\",VLOOKUP($A100+0.1,報告書入力!$A$14:$Y$149,24,0))","v":""},null,{"$f":"IF($A100=0,\"\",VLOOKUP($A100+0.1,報告書入力!$A$14:$Y$149,25,0))","v":""},null,null,null,null,null,{"$f":"IF($A100=0,\"\",TRUNC(VLOOKUP($A100,報告書入力!$A$14:$Y$149,4,0)))","v":""}]
[{"$f":"IF((ROW()-68)/2<=$A$1,ROW()-68)/2","v":0},{"$f":"IF($A102=0,\"\",VLOOKUP($A102,報告書入力!$A$14:$Y$149,5,0))","v":""},null,null,null,null,null,null,null,{"$f":"IF($A102=0,\"\",VLOOKUP($A102,報告書入力!$A$14:$Y$149,6,0))","v":""},null,null,null,null,{"$f":"IF($A102=0,\"\",VLOOKUP($A102,報告書入力!$A$14:$Y$149,11,0))","v":""},"年","","月","","日から",null,null,null,null,"円",null,null,null,"円",null,null,null,"円"]
[null,null,null,null,null,null,null,null,null,null,null,null,null,null,{"$f":"IF($A102=0,\"\",VLOOKUP($A102+0.1,報告書入力!$A$14:$Y$149,11,0))","v":""},"年","","月","","日まで",null,{"$f":"AH103","v":""},{"$f":"IF($A102=0,\"\",VLOOKUP($A102+0.1,報告書入力!$A$14:$Y$149,11,0))","v":""},{"$f":"IF($A102=0,\"\",VLOOKUP($A102+0.1,報告書入力!$A$14:$Y$149,11,0))","v":""},{"$f":"IF($A102=0,\"\",VLOOKUP($A102+0.1,報告書入力!$A$14:$Y$149,11,0))","v":""},{"$f":"IF($A102=0,\"\",VLOOKUP($A102+0.1,報告書入力!$A$14:$Y$149,19,0))","v":""},{"$f":"IF($A102=0,\"\",VLOOKUP($A102+0.1,報告書入力!$A$14:$Y$149,11,0))","v":""},{"$f":"IF($A102=0,\"\",VLOOKUP($A102+0.1,報告書入力!$A$14:$Y$149,11,0))","v":""},{"$f":"IF($A102=0,\"\",VLOOKUP($A102+0.1,報告書入力!$A$14:$Y$149,11,0))","v":""},{"$f":"IF($A102=0,\"\",VLOOKUP($A102+0.1,報告書入力!$A$14:$Y$149,21,0))","v":""},{"$f":"IF($A102=0,\"\",VLOOKUP($A102+0.1,報告書入力!$A$14:$Y$149,11,0))","v":""},{"$f":"IF($A102=0,\"\",VLOOKUP($A102+0.1,報告書入力!$A$14:$Y$149,11,0))","v":""},{"$f":"IF($A102=0,\"\",VLOOKUP($A102+0.1,報告書入力!$A$14:$Y$149,11,0))","v":""},{"$f":"IF($A102=0,\"\",VLOOKUP($A102+0.1,報告書入力!$A$14:$Y$149,23,0))","v":""},{"$f":"IF($A102=0,\"\",VLOOKUP($A102+0.1,報告書入力!$A$14:$Y$149,11,0))","v":""},{"$f":"IF($A102=0,\"\",VLOOKUP($A102+0.1,報告書入力!$A$14:$Y$149,11,0))","v":""},{"$f":"IF($A102=0,\"\",VLOOKUP($A102+0.1,報告書入力!$A$14:$Y$149,11,0))","v":""},{"$f":"IF($A102=0,\"\",VLOOKUP($A102+0.1,報告書入力!$A$14:$Y$149,24,0))","v":""},null,{"$f":"IF($A102=0,\"\",VLOOKUP($A102+0.1,報告書入力!$A$14:$Y$149,25,0))","v":""},null,null,null,null,null,{"$f":"IF($A102=0,\"\",TRUNC(VLOOKUP($A102,報告書入力!$A$14:$Y$149,4,0)))","v":""}]
[{"$f":"IF((ROW()-68)/2<=$A$1,ROW()-68)/2","v":0},{"$f":"IF($A104=0,\"\",VLOOKUP($A104,報告書入力!$A$14:$Y$149,5,0))","v":""},null,null,null,null,null,null,null,{"$f":"IF($A104=0,\"\",VLOOKUP($A104,報告書入力!$A$14:$Y$149,6,0))","v":""},null,null,null,null,{"$f":"IF($A104=0,\"\",VLOOKUP($A104,報告書入力!$A$14:$Y$149,11,0))","v":""},"年","","月","","日から",null,null,null,null,"円",null,null,null,"円",null,null,null,"円"]
[null,null,null,null,null,null,null,null,null,null,null,null,null,null,{"$f":"IF($A104=0,\"\",VLOOKUP($A104+0.1,報告書入力!$A$14:$Y$149,11,0))","v":""},"年","","月","","日まで",null,{"$f":"AH105","v":""},{"$f":"IF($A104=0,\"\",VLOOKUP($A104+0.1,報告書入力!$A$14:$Y$149,11,0))","v":""},{"$f":"IF($A104=0,\"\",VLOOKUP($A104+0.1,報告書入力!$A$14:$Y$149,11,0))","v":""},{"$f":"IF($A104=0,\"\",VLOOKUP($A104+0.1,報告書入力!$A$14:$Y$149,11,0))","v":""},{"$f":"IF($A104=0,\"\",VLOOKUP($A104+0.1,報告書入力!$A$14:$Y$149,19,0))","v":""},{"$f":"IF($A104=0,\"\",VLOOKUP($A104+0.1,報告書入力!$A$14:$Y$149,11,0))","v":""},{"$f":"IF($A104=0,\"\",VLOOKUP($A104+0.1,報告書入力!$A$14:$Y$149,11,0))","v":""},{"$f":"IF($A104=0,\"\",VLOOKUP($A104+0.1,報告書入力!$A$14:$Y$149,11,0))","v":""},{"$f":"IF($A104=0,\"\",VLOOKUP($A104+0.1,報告書入力!$A$14:$Y$149,21,0))","v":""},{"$f":"IF($A104=0,\"\",VLOOKUP($A104+0.1,報告書入力!$A$14:$Y$149,11,0))","v":""},{"$f":"IF($A104=0,\"\",VLOOKUP($A104+0.1,報告書入力!$A$14:$Y$149,11,0))","v":""},{"$f":"IF($A104=0,\"\",VLOOKUP($A104+0.1,報告書入力!$A$14:$Y$149,11,0))","v":""},{"$f":"IF($A104=0,\"\",VLOOKUP($A104+0.1,報告書入力!$A$14:$Y$149,23,0))","v":""},{"$f":"IF($A104=0,\"\",VLOOKUP($A104+0.1,報告書入力!$A$14:$Y$149,11,0))","v":""},{"$f":"IF($A104=0,\"\",VLOOKUP($A104+0.1,報告書入力!$A$14:$Y$149,11,0))","v":""},{"$f":"IF($A104=0,\"\",VLOOKUP($A104+0.1,報告書入力!$A$14:$Y$149,11,0))","v":""},{"$f":"IF($A104=0,\"\",VLOOKUP($A104+0.1,報告書入力!$A$14:$Y$149,24,0))","v":""},null,{"$f":"IF($A104=0,\"\",VLOOKUP($A104+0.1,報告書入力!$A$14:$Y$149,25,0))","v":""},null,null,null,null,null,{"$f":"IF($A104=0,\"\",TRUNC(VLOOKUP($A104,報告書入力!$A$14:$Y$149,4,0)))","v":""}]
[{"$f":"IF((ROW()-68)/2<=$A$1,ROW()-68)/2","v":0},{"$f":"IF($A106=0,\"\",VLOOKUP($A106,報告書入力!$A$14:$Y$149,5,0))","v":""},null,null,null,null,null,null,null,{"$f":"IF($A106=0,\"\",VLOOKUP($A106,報告書入力!$A$14:$Y$149,6,0))","v":""},null,null,null,null,{"$f":"IF($A106=0,\"\",VLOOKUP($A106,報告書入力!$A$14:$Y$149,11,0))","v":""},"年","","月","","日から",null,null,null,null,"円",null,null,null,"円",null,null,null,"円"]
[null,null,null,null,null,null,null,null,null,null,null,null,null,null,{"$f":"IF($A106=0,\"\",VLOOKUP($A106+0.1,報告書入力!$A$14:$Y$149,11,0))","v":""},"年","","月","","日まで",null,{"$f":"AH107","v":""},{"$f":"IF($A106=0,\"\",VLOOKUP($A106+0.1,報告書入力!$A$14:$Y$149,11,0))","v":""},{"$f":"IF($A106=0,\"\",VLOOKUP($A106+0.1,報告書入力!$A$14:$Y$149,11,0))","v":""},{"$f":"IF($A106=0,\"\",VLOOKUP($A106+0.1,報告書入力!$A$14:$Y$149,11,0))","v":""},{"$f":"IF($A106=0,\"\",VLOOKUP($A106+0.1,報告書入力!$A$14:$Y$149,19,0))","v":""},{"$f":"IF($A106=0,\"\",VLOOKUP($A106+0.1,報告書入力!$A$14:$Y$149,11,0))","v":""},{"$f":"IF($A106=0,\"\",VLOOKUP($A106+0.1,報告書入力!$A$14:$Y$149,11,0))","v":""},{"$f":"IF($A106=0,\"\",VLOOKUP($A106+0.1,報告書入力!$A$14:$Y$149,11,0))","v":""},{"$f":"IF($A106=0,\"\",VLOOKUP($A106+0.1,報告書入力!$A$14:$Y$149,21,0))","v":""},{"$f":"IF($A106=0,\"\",VLOOKUP($A106+0.1,報告書入力!$A$14:$Y$149,11,0))","v":""},{"$f":"IF($A106=0,\"\",VLOOKUP($A106+0.1,報告書入力!$A$14:$Y$149,11,0))","v":""},{"$f":"IF($A106=0,\"\",VLOOKUP($A106+0.1,報告書入力!$A$14:$Y$149,11,0))","v":""},{"$f":"IF($A106=0,\"\",VLOOKUP($A106+0.1,報告書入力!$A$14:$Y$149,23,0))","v":""},{"$f":"IF($A106=0,\"\",VLOOKUP($A106+0.1,報告書入力!$A$14:$Y$149,11,0))","v":""},{"$f":"IF($A106=0,\"\",VLOOKUP($A106+0.1,報告書入力!$A$14:$Y$149,11,0))","v":""},{"$f":"IF($A106=0,\"\",VLOOKUP($A106+0.1,報告書入力!$A$14:$Y$149,11,0))","v":""},{"$f":"IF($A106=0,\"\",VLOOKUP($A106+0.1,報告書入力!$A$14:$Y$149,24,0))","v":""},null,{"$f":"IF($A106=0,\"\",VLOOKUP($A106+0.1,報告書入力!$A$14:$Y$149,25,0))","v":""},null,null,null,null,null,{"$f":"IF($A106=0,\"\",TRUNC(VLOOKUP($A106,報告書入力!$A$14:$Y$149,4,0)))","v":""}]
[{"$f":"IF((ROW()-68)/2<=$A$1,ROW()-68)/2","v":0},{"$f":"IF($A108=0,\"\",VLOOKUP($A108,報告書入力!$A$14:$Y$149,5,0))","v":""},null,null,null,null,null,null,null,{"$f":"IF($A108=0,\"\",VLOOKUP($A108,報告書入力!$A$14:$Y$149,6,0))","v":""},null,null,null,null,{"$f":"IF($A108=0,\"\",VLOOKUP($A108,報告書入力!$A$14:$Y$149,11,0))","v":""},"年","","月","","日から",null,null,null,null,"円",null,null,null,"円",null,null,null,"円"]
[null,null,null,null,null,null,null,null,null,null,null,null,null,null,{"$f":"IF($A108=0,\"\",VLOOKUP($A108+0.1,報告書入力!$A$14:$Y$149,11,0))","v":""},"年","","月","","日まで",null,{"$f":"AH109","v":""},{"$f":"IF($A108=0,\"\",VLOOKUP($A108+0.1,報告書入力!$A$14:$Y$149,11,0))","v":""},{"$f":"IF($A108=0,\"\",VLOOKUP($A108+0.1,報告書入力!$A$14:$Y$149,11,0))","v":""},{"$f":"IF($A108=0,\"\",VLOOKUP($A108+0.1,報告書入力!$A$14:$Y$149,11,0))","v":""},{"$f":"IF($A108=0,\"\",VLOOKUP($A108+0.1,報告書入力!$A$14:$Y$149,19,0))","v":""},{"$f":"IF($A108=0,\"\",VLOOKUP($A108+0.1,報告書入力!$A$14:$Y$149,11,0))","v":""},{"$f":"IF($A108=0,\"\",VLOOKUP($A108+0.1,報告書入力!$A$14:$Y$149,11,0))","v":""},{"$f":"IF($A108=0,\"\",VLOOKUP($A108+0.1,報告書入力!$A$14:$Y$149,11,0))","v":""},{"$f":"IF($A108=0,\"\",VLOOKUP($A108+0.1,報告書入力!$A$14:$Y$149,21,0))","v":""},{"$f":"IF($A108=0,\"\",VLOOKUP($A108+0.1,報告書入力!$A$14:$Y$149,11,0))","v":""},{"$f":"IF($A108=0,\"\",VLOOKUP($A108+0.1,報告書入力!$A$14:$Y$149,11,0))","v":""},{"$f":"IF($A108=0,\"\",VLOOKUP($A108+0.1,報告書入力!$A$14:$Y$149,11,0))","v":""},{"$f":"IF($A108=0,\"\",VLOOKUP($A108+0.1,報告書入力!$A$14:$Y$149,23,0))","v":""},{"$f":"IF($A108=0,\"\",VLOOKUP($A108+0.1,報告書入力!$A$14:$Y$149,11,0))","v":""},{"$f":"IF($A108=0,\"\",VLOOKUP($A108+0.1,報告書入力!$A$14:$Y$149,11,0))","v":""},{"$f":"IF($A108=0,\"\",VLOOKUP($A108+0.1,報告書入力!$A$14:$Y$149,11,0))","v":""},{"$f":"IF($A108=0,\"\",VLOOKUP($A108+0.1,報告書入力!$A$14:$Y$149,24,0))","v":""},null,{"$f":"IF($A108=0,\"\",VLOOKUP($A108+0.1,報告書入力!$A$14:$Y$149,25,0))","v":""},null,null,null,null,null,{"$f":"IF($A108=0,\"\",TRUNC(VLOOKUP($A108,報告書入力!$A$14:$Y$149,4,0)))","v":""}]
[{"$f":"IF((ROW()-68)/2<=$A$1,ROW()-68)/2","v":0},{"$f":"IF($A110=0,\"\",VLOOKUP($A110,報告書入力!$A$14:$Y$149,5,0))","v":""},null,null,null,null,null,null,null,{"$f":"IF($A110=0,\"\",VLOOKUP($A110,報告書入力!$A$14:$Y$149,6,0))","v":""},null,null,null,null,{"$f":"IF($A110=0,\"\",VLOOKUP($A110,報告書入力!$A$14:$Y$149,11,0))","v":""},"年",{"$f":"O110","v":""},"月",{"$f":"Q110","v":""},"日から",null,null,null,null,"円",null,null,null,"円",null,null,null,"円"]
[null,null,null,null,null,null,null,null,null,null,null,null,null,null,{"$f":"IF($A110=0,\"\",VLOOKUP($A110+0.1,報告書入力!$A$14:$Y$149,11,0))","v":""},"年","","月","","日まで",null,{"$f":"AH111","v":""},{"$f":"IF($A110=0,\"\",VLOOKUP($A110+0.1,報告書入力!$A$14:$Y$149,11,0))","v":""},{"$f":"IF($A110=0,\"\",VLOOKUP($A110+0.1,報告書入力!$A$14:$Y$149,11,0))","v":""},{"$f":"IF($A110=0,\"\",VLOOKUP($A110+0.1,報告書入力!$A$14:$Y$149,11,0))","v":""},{"$f":"IF($A110=0,\"\",VLOOKUP($A110+0.1,報告書入力!$A$14:$Y$149,19,0))","v":""},{"$f":"IF($A110=0,\"\",VLOOKUP($A110+0.1,報告書入力!$A$14:$Y$149,11,0))","v":""},{"$f":"IF($A110=0,\"\",VLOOKUP($A110+0.1,報告書入力!$A$14:$Y$149,11,0))","v":""},{"$f":"IF($A110=0,\"\",VLOOKUP($A110+0.1,報告書入力!$A$14:$Y$149,11,0))","v":""},{"$f":"IF($A110=0,\"\",VLOOKUP($A110+0.1,報告書入力!$A$14:$Y$149,21,0))","v":""},{"$f":"IF($A110=0,\"\",VLOOKUP($A110+0.1,報告書入力!$A$14:$Y$149,11,0))","v":""},{"$f":"IF($A110=0,\"\",VLOOKUP($A110+0.1,報告書入力!$A$14:$Y$149,11,0))","v":""},{"$f":"IF($A110=0,\"\",VLOOKUP($A110+0.1,報告書入力!$A$14:$Y$149,11,0))","v":""},{"$f":"IF($A110=0,\"\",VLOOKUP($A110+0.1,報告書入力!$A$14:$Y$149,23,0))","v":""},{"$f":"IF($A110=0,\"\",VLOOKUP($A110+0.1,報告書入力!$A$14:$Y$149,11,0))","v":""},{"$f":"IF($A110=0,\"\",VLOOKUP($A110+0.1,報告書入力!$A$14:$Y$149,11,0))","v":""},{"$f":"IF($A110=0,\"\",VLOOKUP($A110+0.1,報告書入力!$A$14:$Y$149,11,0))","v":""},{"$f":"IF($A110=0,\"\",VLOOKUP($A110+0.1,報告書入力!$A$14:$Y$149,24,0))","v":""},null,{"$f":"IF($A110=0,\"\",VLOOKUP($A110+0.1,報告書入力!$A$14:$Y$149,25,0))","v":""},null,null,null,null,null,{"$f":"IF($A110=0,\"\",TRUNC(VLOOKUP($A110,報告書入力!$A$14:$Y$149,4,0)))","v":""}]
[{"$f":"IF((ROW()-68)/2<=$A$1,ROW()-68)/2","v":0},{"$f":"IF($A112=0,\"\",VLOOKUP($A112,報告書入力!$A$14:$Y$149,5,0))","v":""},null,null,null,null,null,null,null,{"$f":"IF($A112=0,\"\",VLOOKUP($A112,報告書入力!$A$14:$Y$149,6,0))","v":""},null,null,null,null,{"$f":"IF($A112=0,\"\",VLOOKUP($A112,報告書入力!$A$14:$Y$149,11,0))","v":""},"年","","月","","日から",null,null,null,null,"円",null,null,null,"円",null,null,null,"円"]
[null,null,null,null,null,null,null,null,null,null,null,null,null,null,{"$f":"IF($A112=0,\"\",VLOOKUP($A112+0.1,報告書入力!$A$14:$Y$149,11,0))","v":""},"年","","月","","日まで",null,{"$f":"AH113","v":""},{"$f":"IF($A112=0,\"\",VLOOKUP($A112+0.1,報告書入力!$A$14:$Y$149,11,0))","v":""},{"$f":"IF($A112=0,\"\",VLOOKUP($A112+0.1,報告書入力!$A$14:$Y$149,11,0))","v":""},{"$f":"IF($A112=0,\"\",VLOOKUP($A112+0.1,報告書入力!$A$14:$Y$149,11,0))","v":""},{"$f":"IF($A112=0,\"\",VLOOKUP($A112+0.1,報告書入力!$A$14:$Y$149,19,0))","v":""},{"$f":"IF($A112=0,\"\",VLOOKUP($A112+0.1,報告書入力!$A$14:$Y$149,11,0))","v":""},{"$f":"IF($A112=0,\"\",VLOOKUP($A112+0.1,報告書入力!$A$14:$Y$149,11,0))","v":""},{"$f":"IF($A112=0,\"\",VLOOKUP($A112+0.1,報告書入力!$A$14:$Y$149,11,0))","v":""},{"$f":"IF($A112=0,\"\",VLOOKUP($A112+0.1,報告書入力!$A$14:$Y$149,21,0))","v":""},{"$f":"IF($A112=0,\"\",VLOOKUP($A112+0.1,報告書入力!$A$14:$Y$149,11,0))","v":""},{"$f":"IF($A112=0,\"\",VLOOKUP($A112+0.1,報告書入力!$A$14:$Y$149,11,0))","v":""},{"$f":"IF($A112=0,\"\",VLOOKUP($A112+0.1,報告書入力!$A$14:$Y$149,11,0))","v":""},{"$f":"IF($A112=0,\"\",VLOOKUP($A112+0.1,報告書入力!$A$14:$Y$149,23,0))","v":""},{"$f":"IF($A112=0,\"\",VLOOKUP($A112+0.1,報告書入力!$A$14:$Y$149,11,0))","v":""},{"$f":"IF($A112=0,\"\",VLOOKUP($A112+0.1,報告書入力!$A$14:$Y$149,11,0))","v":""},{"$f":"IF($A112=0,\"\",VLOOKUP($A112+0.1,報告書入力!$A$14:$Y$149,11,0))","v":""},{"$f":"IF($A112=0,\"\",VLOOKUP($A112+0.1,報告書入力!$A$14:$Y$149,24,0))","v":""},null,{"$f":"IF($A112=0,\"\",VLOOKUP($A112+0.1,報告書入力!$A$14:$Y$149,25,0))","v":""},null,null,null,null,null,{"$f":"IF($A112=0,\"\",TRUNC(VLOOKUP($A112,報告書入力!$A$14:$Y$149,4,0)))","v":""}]
[{"$f":"IF((ROW()-68)/2<=$A$1,ROW()-68)/2","v":0},{"$f":"IF($A114=0,\"\",VLOOKUP($A114,報告書入力!$A$14:$Y$149,5,0))","v":""},null,null,null,null,null,null,null,{"$f":"IF($A114=0,\"\",VLOOKUP($A114,報告書入力!$A$14:$Y$149,6,0))","v":""},null,null,null,null,{"$f":"IF($A114=0,\"\",VLOOKUP($A114,報告書入力!$A$14:$Y$149,11,0))","v":""},"年","","月","","日から",null,null,null,null,"円",null,null,null,"円",null,null,null,"円"]
[null,null,null,null,null,null,null,null,null,null,null,null,null,null,{"$f":"IF($A114=0,\"\",VLOOKUP($A114+0.1,報告書入力!$A$14:$Y$149,11,0))","v":""},"年","","月","","日まで",null,{"$f":"AH115","v":""},{"$f":"IF($A114=0,\"\",VLOOKUP($A114+0.1,報告書入力!$A$14:$Y$149,11,0))","v":""},{"$f":"IF($A114=0,\"\",VLOOKUP($A114+0.1,報告書入力!$A$14:$Y$149,11,0))","v":""},{"$f":"IF($A114=0,\"\",VLOOKUP($A114+0.1,報告書入力!$A$14:$Y$149,11,0))","v":""},{"$f":"IF($A114=0,\"\",VLOOKUP($A114+0.1,報告書入力!$A$14:$Y$149,19,0))","v":""},{"$f":"IF($A114=0,\"\",VLOOKUP($A114+0.1,報告書入力!$A$14:$Y$149,11,0))","v":""},{"$f":"IF($A114=0,\"\",VLOOKUP($A114+0.1,報告書入力!$A$14:$Y$149,11,0))","v":""},{"$f":"IF($A114=0,\"\",VLOOKUP($A114+0.1,報告書入力!$A$14:$Y$149,11,0))","v":""},{"$f":"IF($A114=0,\"\",VLOOKUP($A114+0.1,報告書入力!$A$14:$Y$149,21,0))","v":""},{"$f":"IF($A114=0,\"\",VLOOKUP($A114+0.1,報告書入力!$A$14:$Y$149,11,0))","v":""},{"$f":"IF($A114=0,\"\",VLOOKUP($A114+0.1,報告書入力!$A$14:$Y$149,11,0))","v":""},{"$f":"IF($A114=0,\"\",VLOOKUP($A114+0.1,報告書入力!$A$14:$Y$149,11,0))","v":""},{"$f":"IF($A114=0,\"\",VLOOKUP($A114+0.1,報告書入力!$A$14:$Y$149,23,0))","v":""},{"$f":"IF($A114=0,\"\",VLOOKUP($A114+0.1,報告書入力!$A$14:$Y$149,11,0))","v":""},{"$f":"IF($A114=0,\"\",VLOOKUP($A114+0.1,報告書入力!$A$14:$Y$149,11,0))","v":""},{"$f":"IF($A114=0,\"\",VLOOKUP($A114+0.1,報告書入力!$A$14:$Y$149,11,0))","v":""},{"$f":"IF($A114=0,\"\",VLOOKUP($A114+0.1,報告書入力!$A$14:$Y$149,24,0))","v":""},null,{"$f":"IF($A114=0,\"\",VLOOKUP($A114+0.1,報告書入力!$A$14:$Y$149,25,0))","v":""},null,null,null,null,null,{"$f":"IF($A114=0,\"\",TRUNC(VLOOKUP($A114,報告書入力!$A$14:$Y$149,4,0)))","v":""}]
[null,"事業の種類",null,null,null,null,null,null,null,null,null,null,null,null,"計"]
[]
[]
[]
[]
[]
[]
[]
[]
[null,"様式第７号（第34条関係）　（甲）　〔別紙〕 "]
[null,null,null,null,null,null,null,null,null,null,null,null,null,null,null,null,null,null,null,null,null,null,null,null,null,null,null,null,null,null,null,null,null,null,null,null,null,null,null,{"$f":"AN87","v":"控"}]
[]
[]
[]
[null,"労 働 保 険 番 号",null,null,null,null,null,null,null,"府　県",null,"所掌","管　轄",null,"基　幹　番　号",null,null,null,null,null,"枝 番 号",null,null,null,null,null,null,null,null,null,null,null,null,null,null,null,null,{"$f":"$AL$9","v":1},null,"枚のうち",null,4,null,"枚目"]
[null,null,null,null,null,null,null,null,null,{"$f":"$J$10","v":"1"},{"$f":"$K$10","v":"9"},{"$f":"$L$10","v":"1"},{"$f":"$M$10","v":"0"},{"$f":"$N$10","v":"2"},{"$f":"$O$10","v":"9"},{"$f":"$P$10","v":"3"},{"$f":"$Q$10","v":"3"},{"$f":"$R$10","v":"0"},{"$f":"$S$10","v":"7"},{"$f":"$T$10","v":"5"},{"$f":"$U$10","v":0},{"$f":"$V$10","v":0},{"$f":"$W$10","v":0}]
[]
[]
[null,"事　業　の　名　称",null,null,null,null,null,null,null,"事業場の所在地",null,null,null,null,"事　業　の　期　間",null,null,null,null,null,null,"①",null,null,"請負金額の内訳",null,null,null,null,null,null,null,null,null,null,null,null,"②",null,"③",null,null,null,null,null,"業種\n番号"]
[null,null,null,null,null,null,null,null,null,null,null,null,null,null,null,null,null,null,null,null,null,"請負代金の額",null,null,null,"請負代金に\n加算する額",null,null,null,"請負代金から\n控除する額",null,null,null,"請負代金",null,null,null,"労 務　　　　　　　　　　　　　　　　　　　　　　　　　　　　　　　　　　　　　　　　　　　　　　　　　　　　　　　　　　　　　　　　　　　　　　　　　　　　　　　　　　　　　　　比 率",null,"賃  金  総  額"]
[]
[{"$f":"IF((ROW()-89)/2<=$A$1,ROW()-89)/2","v":0},{"$f":"IF($A137=0,\"\",VLOOKUP($A137,報告書入力!$A$14:$Y$149,5,0))","v":""},null,null,null,null,null,null,null,{"$f":"IF($A137=0,\"\",VLOOKUP($A137,報告書入力!$A$14:$Y$149,6,0))","v":""},null,null,null,null,{"$f":"IF($A137=0,\"\",VLOOKUP($A137,報告書入力!$A$14:$Y$149,11,0))","v":""},"年",{"$f":"O137","v":""},"月",{"$f":"Q137","v":""},"日から",null,null,null,null,"円",null,null,null,"円",null,null,null,"円",null,null,null,null,null,null,null,null,null,null,null,"円"]
[null,null,null,null,null,null,null,null,null,null,null,null,null,null,{"$f":"IF($A137=0,\"\",VLOOKUP($A137+0.1,報告書入力!$A$14:$Y$149,11,0))","v":""},"年","","月","","日まで",null,{"$f":"AH138","v":""},{"$f":"IF($A137=0,\"\",VLOOKUP($A137+0.1,報告書入力!$A$14:$Y$149,11,0))","v":""},{"$f":"IF($A137=0,\"\",VLOOKUP($A137+0.1,報告書入力!$A$14:$Y$149,11,0))","v":""},{"$f":"IF($A137=0,\"\",VLOOKUP($A137+0.1,報告書入力!$A$14:$Y$149,11,0))","v":""},{"$f":"IF($A137=0,\"\",VLOOKUP($A137+0.1,報告書入力!$A$14:$Y$149,19,0))","v":""},{"$f":"IF($A137=0,\"\",VLOOKUP($A137+0.1,報告書入力!$A$14:$Y$149,11,0))","v":""},{"$f":"IF($A137=0,\"\",VLOOKUP($A137+0.1,報告書入力!$A$14:$Y$149,11,0))","v":""},{"$f":"IF($A137=0,\"\",VLOOKUP($A137+0.1,報告書入力!$A$14:$Y$149,11,0))","v":""},{"$f":"IF($A137=0,\"\",VLOOKUP($A137+0.1,報告書入力!$A$14:$Y$149,21,0))","v":""},{"$f":"IF($A137=0,\"\",VLOOKUP($A137+0.1,報告書入力!$A$14:$Y$149,11,0))","v":""},{"$f":"IF($A137=0,\"\",VLOOKUP($A137+0.1,報告書入力!$A$14:$Y$149,11,0))","v":""},{"$f":"IF($A137=0,\"\",VLOOKUP($A137+0.1,報告書入力!$A$14:$Y$149,11,0))","v":""},{"$f":"IF($A137=0,\"\",VLOOKUP($A137+0.1,報告書入力!$A$14:$Y$149,23,0))","v":""},{"$f":"IF($A137=0,\"\",VLOOKUP($A137+0.1,報告書入力!$A$14:$Y$149,11,0))","v":""},{"$f":"IF($A137=0,\"\",VLOOKUP($A137+0.1,報告書入力!$A$14:$Y$149,11,0))","v":""},{"$f":"IF($A137=0,\"\",VLOOKUP($A137+0.1,報告書入力!$A$14:$Y$149,11,0))","v":""},{"$f":"IF($A137=0,\"\",VLOOKUP($A137+0.1,報告書入力!$A$14:$Y$149,24,0))","v":""},null,{"$f":"IF($A137=0,\"\",VLOOKUP($A137+0.1,報告書入力!$A$14:$Y$149,25,0))","v":""},null,null,null,null,null,{"$f":"IF($A137=0,\"\",TRUNC(VLOOKUP($A137,報告書入力!$A$14:$Y$149,4,0)))","v":""}]
[{"$f":"IF((ROW()-89)/2<=$A$1,ROW()-89)/2","v":0},{"$f":"IF($A139=0,\"\",VLOOKUP($A139,報告書入力!$A$14:$Y$149,5,0))","v":""},null,null,null,null,null,null,null,{"$f":"IF($A139=0,\"\",VLOOKUP($A139,報告書入力!$A$14:$Y$149,6,0))","v":""},null,null,null,null,{"$f":"IF($A139=0,\"\",VLOOKUP($A139,報告書入力!$A$14:$Y$149,11,0))","v":""},"年","","月","","日から",null,null,null,null,"円",null,null,null,"円",null,null,null,"円"]
[null,null,null,null,null,null,null,null,null,null,null,null,null,null,{"$f":"IF($A139=0,\"\",VLOOKUP($A139+0.1,報告書入力!$A$14:$Y$149,11,0))","v":""},"年","","月","","日まで",null,{"$f":"AH140","v":""},{"$f":"IF($A139=0,\"\",VLOOKUP($A139+0.1,報告書入力!$A$14:$Y$149,11,0))","v":""},{"$f":"IF($A139=0,\"\",VLOOKUP($A139+0.1,報告書入力!$A$14:$Y$149,11,0))","v":""},{"$f":"IF($A139=0,\"\",VLOOKUP($A139+0.1,報告書入力!$A$14:$Y$149,11,0))","v":""},{"$f":"IF($A139=0,\"\",VLOOKUP($A139+0.1,報告書入力!$A$14:$Y$149,19,0))","v":""},{"$f":"IF($A139=0,\"\",VLOOKUP($A139+0.1,報告書入力!$A$14:$Y$149,11,0))","v":""},{"$f":"IF($A139=0,\"\",VLOOKUP($A139+0.1,報告書入力!$A$14:$Y$149,11,0))","v":""},{"$f":"IF($A139=0,\"\",VLOOKUP($A139+0.1,報告書入力!$A$14:$Y$149,11,0))","v":""},{"$f":"IF($A139=0,\"\",VLOOKUP($A139+0.1,報告書入力!$A$14:$Y$149,21,0))","v":""},{"$f":"IF($A139=0,\"\",VLOOKUP($A139+0.1,報告書入力!$A$14:$Y$149,11,0))","v":""},{"$f":"IF($A139=0,\"\",VLOOKUP($A139+0.1,報告書入力!$A$14:$Y$149,11,0))","v":""},{"$f":"IF($A139=0,\"\",VLOOKUP($A139+0.1,報告書入力!$A$14:$Y$149,11,0))","v":""},{"$f":"IF($A139=0,\"\",VLOOKUP($A139+0.1,報告書入力!$A$14:$Y$149,23,0))","v":""},{"$f":"IF($A139=0,\"\",VLOOKUP($A139+0.1,報告書入力!$A$14:$Y$149,11,0))","v":""},{"$f":"IF($A139=0,\"\",VLOOKUP($A139+0.1,報告書入力!$A$14:$Y$149,11,0))","v":""},{"$f":"IF($A139=0,\"\",VLOOKUP($A139+0.1,報告書入力!$A$14:$Y$149,11,0))","v":""},{"$f":"IF($A139=0,\"\",VLOOKUP($A139+0.1,報告書入力!$A$14:$Y$149,24,0))","v":""},null,{"$f":"IF($A139=0,\"\",VLOOKUP($A139+0.1,報告書入力!$A$14:$Y$149,25,0))","v":""},null,null,null,null,null,{"$f":"IF($A139=0,\"\",TRUNC(VLOOKUP($A139,報告書入力!$A$14:$Y$149,4,0)))","v":""}]
[{"$f":"IF((ROW()-89)/2<=$A$1,ROW()-89)/2","v":0},{"$f":"IF($A141=0,\"\",VLOOKUP($A141,報告書入力!$A$14:$Y$149,5,0))","v":""},null,null,null,null,null,null,null,{"$f":"IF($A141=0,\"\",VLOOKUP($A141,報告書入力!$A$14:$Y$149,6,0))","v":""},null,null,null,null,{"$f":"IF($A141=0,\"\",VLOOKUP($A141,報告書入力!$A$14:$Y$149,11,0))","v":""},"年","","月","","日から",null,null,null,null,"円",null,null,null,"円",null,null,null,"円"]
[null,null,null,null,null,null,null,null,null,null,null,null,null,null,{"$f":"IF($A141=0,\"\",VLOOKUP($A141+0.1,報告書入力!$A$14:$Y$149,11,0))","v":""},"年","","月","","日まで",null,{"$f":"AH142","v":""},{"$f":"IF($A141=0,\"\",VLOOKUP($A141+0.1,報告書入力!$A$14:$Y$149,11,0))","v":""},{"$f":"IF($A141=0,\"\",VLOOKUP($A141+0.1,報告書入力!$A$14:$Y$149,11,0))","v":""},{"$f":"IF($A141=0,\"\",VLOOKUP($A141+0.1,報告書入力!$A$14:$Y$149,11,0))","v":""},{"$f":"IF($A141=0,\"\",VLOOKUP($A141+0.1,報告書入力!$A$14:$Y$149,19,0))","v":""},{"$f":"IF($A141=0,\"\",VLOOKUP($A141+0.1,報告書入力!$A$14:$Y$149,11,0))","v":""},{"$f":"IF($A141=0,\"\",VLOOKUP($A141+0.1,報告書入力!$A$14:$Y$149,11,0))","v":""},{"$f":"IF($A141=0,\"\",VLOOKUP($A141+0.1,報告書入力!$A$14:$Y$149,11,0))","v":""},{"$f":"IF($A141=0,\"\",VLOOKUP($A141+0.1,報告書入力!$A$14:$Y$149,21,0))","v":""},{"$f":"IF($A141=0,\"\",VLOOKUP($A141+0.1,報告書入力!$A$14:$Y$149,11,0))","v":""},{"$f":"IF($A141=0,\"\",VLOOKUP($A141+0.1,報告書入力!$A$14:$Y$149,11,0))","v":""},{"$f":"IF($A141=0,\"\",VLOOKUP($A141+0.1,報告書入力!$A$14:$Y$149,11,0))","v":""},{"$f":"IF($A141=0,\"\",VLOOKUP($A141+0.1,報告書入力!$A$14:$Y$149,23,0))","v":""},{"$f":"IF($A141=0,\"\",VLOOKUP($A141+0.1,報告書入力!$A$14:$Y$149,11,0))","v":""},{"$f":"IF($A141=0,\"\",VLOOKUP($A141+0.1,報告書入力!$A$14:$Y$149,11,0))","v":""},{"$f":"IF($A141=0,\"\",VLOOKUP($A141+0.1,報告書入力!$A$14:$Y$149,11,0))","v":""},{"$f":"IF($A141=0,\"\",VLOOKUP($A141+0.1,報告書入力!$A$14:$Y$149,24,0))","v":""},null,{"$f":"IF($A141=0,\"\",VLOOKUP($A141+0.1,報告書入力!$A$14:$Y$149,25,0))","v":""},null,null,null,null,null,{"$f":"IF($A141=0,\"\",TRUNC(VLOOKUP($A141,報告書入力!$A$14:$Y$149,4,0)))","v":""}]
[{"$f":"IF((ROW()-89)/2<=$A$1,ROW()-89)/2","v":0},{"$f":"IF($A143=0,\"\",VLOOKUP($A143,報告書入力!$A$14:$Y$149,5,0))","v":""},null,null,null,null,null,null,null,{"$f":"IF($A143=0,\"\",VLOOKUP($A143,報告書入力!$A$14:$Y$149,6,0))","v":""},null,null,null,null,{"$f":"IF($A143=0,\"\",VLOOKUP($A143,報告書入力!$A$14:$Y$149,11,0))","v":""},"年","","月","","日から",null,null,null,null,"円",null,null,null,"円",null,null,null,"円"]
[null,null,null,null,null,null,null,null,null,null,null,null,null,null,{"$f":"IF($A143=0,\"\",VLOOKUP($A143+0.1,報告書入力!$A$14:$Y$149,11,0))","v":""},"年","","月","","日まで",null,{"$f":"AH144","v":""},{"$f":"IF($A143=0,\"\",VLOOKUP($A143+0.1,報告書入力!$A$14:$Y$149,11,0))","v":""},{"$f":"IF($A143=0,\"\",VLOOKUP($A143+0.1,報告書入力!$A$14:$Y$149,11,0))","v":""},{"$f":"IF($A143=0,\"\",VLOOKUP($A143+0.1,報告書入力!$A$14:$Y$149,11,0))","v":""},{"$f":"IF($A143=0,\"\",VLOOKUP($A143+0.1,報告書入力!$A$14:$Y$149,19,0))","v":""},{"$f":"IF($A143=0,\"\",VLOOKUP($A143+0.1,報告書入力!$A$14:$Y$149,11,0))","v":""},{"$f":"IF($A143=0,\"\",VLOOKUP($A143+0.1,報告書入力!$A$14:$Y$149,11,0))","v":""},{"$f":"IF($A143=0,\"\",VLOOKUP($A143+0.1,報告書入力!$A$14:$Y$149,11,0))","v":""},{"$f":"IF($A143=0,\"\",VLOOKUP($A143+0.1,報告書入力!$A$14:$Y$149,21,0))","v":""},{"$f":"IF($A143=0,\"\",VLOOKUP($A143+0.1,報告書入力!$A$14:$Y$149,11,0))","v":""},{"$f":"IF($A143=0,\"\",VLOOKUP($A143+0.1,報告書入力!$A$14:$Y$149,11,0))","v":""},{"$f":"IF($A143=0,\"\",VLOOKUP($A143+0.1,報告書入力!$A$14:$Y$149,11,0))","v":""},{"$f":"IF($A143=0,\"\",VLOOKUP($A143+0.1,報告書入力!$A$14:$Y$149,23,0))","v":""},{"$f":"IF($A143=0,\"\",VLOOKUP($A143+0.1,報告書入力!$A$14:$Y$149,11,0))","v":""},{"$f":"IF($A143=0,\"\",VLOOKUP($A143+0.1,報告書入力!$A$14:$Y$149,11,0))","v":""},{"$f":"IF($A143=0,\"\",VLOOKUP($A143+0.1,報告書入力!$A$14:$Y$149,11,0))","v":""},{"$f":"IF($A143=0,\"\",VLOOKUP($A143+0.1,報告書入力!$A$14:$Y$149,24,0))","v":""},null,{"$f":"IF($A143=0,\"\",VLOOKUP($A143+0.1,報告書入力!$A$14:$Y$149,25,0))","v":""},null,null,null,null,null,{"$f":"IF($A143=0,\"\",TRUNC(VLOOKUP($A143,報告書入力!$A$14:$Y$149,4,0)))","v":""}]
[{"$f":"IF((ROW()-89)/2<=$A$1,ROW()-89)/2","v":0},{"$f":"IF($A145=0,\"\",VLOOKUP($A145,報告書入力!$A$14:$Y$149,5,0))","v":""},null,null,null,null,null,null,null,{"$f":"IF($A145=0,\"\",VLOOKUP($A145,報告書入力!$A$14:$Y$149,6,0))","v":""},null,null,null,null,{"$f":"IF($A145=0,\"\",VLOOKUP($A145,報告書入力!$A$14:$Y$149,11,0))","v":""},"年","","月","","日から",null,null,null,null,"円",null,null,null,"円",null,null,null,"円"]
[null,null,null,null,null,null,null,null,null,null,null,null,null,null,{"$f":"IF($A145=0,\"\",VLOOKUP($A145+0.1,報告書入力!$A$14:$Y$149,11,0))","v":""},"年","","月","","日まで",null,{"$f":"AH146","v":""},{"$f":"IF($A145=0,\"\",VLOOKUP($A145+0.1,報告書入力!$A$14:$Y$149,11,0))","v":""},{"$f":"IF($A145=0,\"\",VLOOKUP($A145+0.1,報告書入力!$A$14:$Y$149,11,0))","v":""},{"$f":"IF($A145=0,\"\",VLOOKUP($A145+0.1,報告書入力!$A$14:$Y$149,11,0))","v":""},{"$f":"IF($A145=0,\"\",VLOOKUP($A145+0.1,報告書入力!$A$14:$Y$149,19,0))","v":""},{"$f":"IF($A145=0,\"\",VLOOKUP($A145+0.1,報告書入力!$A$14:$Y$149,11,0))","v":""},{"$f":"IF($A145=0,\"\",VLOOKUP($A145+0.1,報告書入力!$A$14:$Y$149,11,0))","v":""},{"$f":"IF($A145=0,\"\",VLOOKUP($A145+0.1,報告書入力!$A$14:$Y$149,11,0))","v":""},{"$f":"IF($A145=0,\"\",VLOOKUP($A145+0.1,報告書入力!$A$14:$Y$149,21,0))","v":""},{"$f":"IF($A145=0,\"\",VLOOKUP($A145+0.1,報告書入力!$A$14:$Y$149,11,0))","v":""},{"$f":"IF($A145=0,\"\",VLOOKUP($A145+0.1,報告書入力!$A$14:$Y$149,11,0))","v":""},{"$f":"IF($A145=0,\"\",VLOOKUP($A145+0.1,報告書入力!$A$14:$Y$149,11,0))","v":""},{"$f":"IF($A145=0,\"\",VLOOKUP($A145+0.1,報告書入力!$A$14:$Y$149,23,0))","v":""},{"$f":"IF($A145=0,\"\",VLOOKUP($A145+0.1,報告書入力!$A$14:$Y$149,11,0))","v":""},{"$f":"IF($A145=0,\"\",VLOOKUP($A145+0.1,報告書入力!$A$14:$Y$149,11,0))","v":""},{"$f":"IF($A145=0,\"\",VLOOKUP($A145+0.1,報告書入力!$A$14:$Y$149,11,0))","v":""},{"$f":"IF($A145=0,\"\",VLOOKUP($A145+0.1,報告書入力!$A$14:$Y$149,24,0))","v":""},null,{"$f":"IF($A145=0,\"\",VLOOKUP($A145+0.1,報告書入力!$A$14:$Y$149,25,0))","v":""},null,null,null,null,null,{"$f":"IF($A145=0,\"\",TRUNC(VLOOKUP($A145,報告書入力!$A$14:$Y$149,4,0)))","v":""}]
[{"$f":"IF((ROW()-89)/2<=$A$1,ROW()-89)/2","v":0},{"$f":"IF($A147=0,\"\",VLOOKUP($A147,報告書入力!$A$14:$Y$149,5,0))","v":""},null,null,null,null,null,null,null,{"$f":"IF($A147=0,\"\",VLOOKUP($A147,報告書入力!$A$14:$Y$149,6,0))","v":""},null,null,null,null,{"$f":"IF($A147=0,\"\",VLOOKUP($A147,報告書入力!$A$14:$Y$149,11,0))","v":""},"年","","月","","日から",null,null,null,null,"円",null,null,null,"円",null,null,null,"円"]
[null,null,null,null,null,null,null,null,null,null,null,null,null,null,{"$f":"IF($A147=0,\"\",VLOOKUP($A147+0.1,報告書入力!$A$14:$Y$149,11,0))","v":""},"年","","月","","日まで",null,{"$f":"AH148","v":""},{"$f":"IF($A147=0,\"\",VLOOKUP($A147+0.1,報告書入力!$A$14:$Y$149,11,0))","v":""},{"$f":"IF($A147=0,\"\",VLOOKUP($A147+0.1,報告書入力!$A$14:$Y$149,11,0))","v":""},{"$f":"IF($A147=0,\"\",VLOOKUP($A147+0.1,報告書入力!$A$14:$Y$149,11,0))","v":""},{"$f":"IF($A147=0,\"\",VLOOKUP($A147+0.1,報告書入力!$A$14:$Y$149,19,0))","v":""},{"$f":"IF($A147=0,\"\",VLOOKUP($A147+0.1,報告書入力!$A$14:$Y$149,11,0))","v":""},{"$f":"IF($A147=0,\"\",VLOOKUP($A147+0.1,報告書入力!$A$14:$Y$149,11,0))","v":""},{"$f":"IF($A147=0,\"\",VLOOKUP($A147+0.1,報告書入力!$A$14:$Y$149,11,0))","v":""},{"$f":"IF($A147=0,\"\",VLOOKUP($A147+0.1,報告書入力!$A$14:$Y$149,21,0))","v":""},{"$f":"IF($A147=0,\"\",VLOOKUP($A147+0.1,報告書入力!$A$14:$Y$149,11,0))","v":""},{"$f":"IF($A147=0,\"\",VLOOKUP($A147+0.1,報告書入力!$A$14:$Y$149,11,0))","v":""},{"$f":"IF($A147=0,\"\",VLOOKUP($A147+0.1,報告書入力!$A$14:$Y$149,11,0))","v":""},{"$f":"IF($A147=0,\"\",VLOOKUP($A147+0.1,報告書入力!$A$14:$Y$149,23,0))","v":""},{"$f":"IF($A147=0,\"\",VLOOKUP($A147+0.1,報告書入力!$A$14:$Y$149,11,0))","v":""},{"$f":"IF($A147=0,\"\",VLOOKUP($A147+0.1,報告書入力!$A$14:$Y$149,11,0))","v":""},{"$f":"IF($A147=0,\"\",VLOOKUP($A147+0.1,報告書入力!$A$14:$Y$149,11,0))","v":""},{"$f":"IF($A147=0,\"\",VLOOKUP($A147+0.1,報告書入力!$A$14:$Y$149,24,0))","v":""},null,{"$f":"IF($A147=0,\"\",VLOOKUP($A147+0.1,報告書入力!$A$14:$Y$149,25,0))","v":""},null,null,null,null,null,{"$f":"IF($A147=0,\"\",TRUNC(VLOOKUP($A147,報告書入力!$A$14:$Y$149,4,0)))","v":""}]
[{"$f":"IF((ROW()-89)/2<=$A$1,ROW()-89)/2","v":0},{"$f":"IF($A149=0,\"\",VLOOKUP($A149,報告書入力!$A$14:$Y$149,5,0))","v":""},null,null,null,null,null,null,null,{"$f":"IF($A149=0,\"\",VLOOKUP($A149,報告書入力!$A$14:$Y$149,6,0))","v":""},null,null,null,null,{"$f":"IF($A149=0,\"\",VLOOKUP($A149,報告書入力!$A$14:$Y$149,11,0))","v":""},"年","","月","","日から",null,null,null,null,"円",null,null,null,"円",null,null,null,"円"]
[null,null,null,null,null,null,null,null,null,null,null,null,null,null,{"$f":"IF($A149=0,\"\",VLOOKUP($A149+0.1,報告書入力!$A$14:$Y$149,11,0))","v":""},"年","","月","","日まで",null,{"$f":"AH150","v":""},{"$f":"IF($A149=0,\"\",VLOOKUP($A149+0.1,報告書入力!$A$14:$Y$149,11,0))","v":""},{"$f":"IF($A149=0,\"\",VLOOKUP($A149+0.1,報告書入力!$A$14:$Y$149,11,0))","v":""},{"$f":"IF($A149=0,\"\",VLOOKUP($A149+0.1,報告書入力!$A$14:$Y$149,11,0))","v":""},{"$f":"IF($A149=0,\"\",VLOOKUP($A149+0.1,報告書入力!$A$14:$Y$149,19,0))","v":""},{"$f":"IF($A149=0,\"\",VLOOKUP($A149+0.1,報告書入力!$A$14:$Y$149,11,0))","v":""},{"$f":"IF($A149=0,\"\",VLOOKUP($A149+0.1,報告書入力!$A$14:$Y$149,11,0))","v":""},{"$f":"IF($A149=0,\"\",VLOOKUP($A149+0.1,報告書入力!$A$14:$Y$149,11,0))","v":""},{"$f":"IF($A149=0,\"\",VLOOKUP($A149+0.1,報告書入力!$A$14:$Y$149,21,0))","v":""},{"$f":"IF($A149=0,\"\",VLOOKUP($A149+0.1,報告書入力!$A$14:$Y$149,11,0))","v":""},{"$f":"IF($A149=0,\"\",VLOOKUP($A149+0.1,報告書入力!$A$14:$Y$149,11,0))","v":""},{"$f":"IF($A149=0,\"\",VLOOKUP($A149+0.1,報告書入力!$A$14:$Y$149,11,0))","v":""},{"$f":"IF($A149=0,\"\",VLOOKUP($A149+0.1,報告書入力!$A$14:$Y$149,23,0))","v":""},{"$f":"IF($A149=0,\"\",VLOOKUP($A149+0.1,報告書入力!$A$14:$Y$149,11,0))","v":""},{"$f":"IF($A149=0,\"\",VLOOKUP($A149+0.1,報告書入力!$A$14:$Y$149,11,0))","v":""},{"$f":"IF($A149=0,\"\",VLOOKUP($A149+0.1,報告書入力!$A$14:$Y$149,11,0))","v":""},{"$f":"IF($A149=0,\"\",VLOOKUP($A149+0.1,報告書入力!$A$14:$Y$149,24,0))","v":""},null,{"$f":"IF($A149=0,\"\",VLOOKUP($A149+0.1,報告書入力!$A$14:$Y$149,25,0))","v":""},null,null,null,null,null,{"$f":"IF($A149=0,\"\",TRUNC(VLOOKUP($A149,報告書入力!$A$14:$Y$149,4,0)))","v":""}]
[{"$f":"IF((ROW()-89)/2<=$A$1,ROW()-89)/2","v":0},{"$f":"IF($A151=0,\"\",VLOOKUP($A151,報告書入力!$A$14:$Y$149,5,0))","v":""},null,null,null,null,null,null,null,{"$f":"IF($A151=0,\"\",VLOOKUP($A151,報告書入力!$A$14:$Y$149,6,0))","v":""},null,null,null,null,{"$f":"IF($A151=0,\"\",VLOOKUP($A151,報告書入力!$A$14:$Y$149,11,0))","v":""},"年","","月","","日から",null,null,null,null,"円",null,null,null,"円",null,null,null,"円"]
[null,null,null,null,null,null,null,null,null,null,null,null,null,null,{"$f":"IF($A151=0,\"\",VLOOKUP($A151+0.1,報告書入力!$A$14:$Y$149,11,0))","v":""},"年","","月","","日まで",null,{"$f":"AH152","v":""},{"$f":"IF($A151=0,\"\",VLOOKUP($A151+0.1,報告書入力!$A$14:$Y$149,11,0))","v":""},{"$f":"IF($A151=0,\"\",VLOOKUP($A151+0.1,報告書入力!$A$14:$Y$149,11,0))","v":""},{"$f":"IF($A151=0,\"\",VLOOKUP($A151+0.1,報告書入力!$A$14:$Y$149,11,0))","v":""},{"$f":"IF($A151=0,\"\",VLOOKUP($A151+0.1,報告書入力!$A$14:$Y$149,19,0))","v":""},{"$f":"IF($A151=0,\"\",VLOOKUP($A151+0.1,報告書入力!$A$14:$Y$149,11,0))","v":""},{"$f":"IF($A151=0,\"\",VLOOKUP($A151+0.1,報告書入力!$A$14:$Y$149,11,0))","v":""},{"$f":"IF($A151=0,\"\",VLOOKUP($A151+0.1,報告書入力!$A$14:$Y$149,11,0))","v":""},{"$f":"IF($A151=0,\"\",VLOOKUP($A151+0.1,報告書入力!$A$14:$Y$149,21,0))","v":""},{"$f":"IF($A151=0,\"\",VLOOKUP($A151+0.1,報告書入力!$A$14:$Y$149,11,0))","v":""},{"$f":"IF($A151=0,\"\",VLOOKUP($A151+0.1,報告書入力!$A$14:$Y$149,11,0))","v":""},{"$f":"IF($A151=0,\"\",VLOOKUP($A151+0.1,報告書入力!$A$14:$Y$149,11,0))","v":""},{"$f":"IF($A151=0,\"\",VLOOKUP($A151+0.1,報告書入力!$A$14:$Y$149,23,0))","v":""},{"$f":"IF($A151=0,\"\",VLOOKUP($A151+0.1,報告書入力!$A$14:$Y$149,11,0))","v":""},{"$f":"IF($A151=0,\"\",VLOOKUP($A151+0.1,報告書入力!$A$14:$Y$149,11,0))","v":""},{"$f":"IF($A151=0,\"\",VLOOKUP($A151+0.1,報告書入力!$A$14:$Y$149,11,0))","v":""},{"$f":"IF($A151=0,\"\",VLOOKUP($A151+0.1,報告書入力!$A$14:$Y$149,24,0))","v":""},null,{"$f":"IF($A151=0,\"\",VLOOKUP($A151+0.1,報告書入力!$A$14:$Y$149,25,0))","v":""},null,null,null,null,null,{"$f":"IF($A151=0,\"\",TRUNC(VLOOKUP($A151,報告書入力!$A$14:$Y$149,4,0)))","v":""}]
[{"$f":"IF((ROW()-89)/2<=$A$1,ROW()-89)/2","v":0},{"$f":"IF($A153=0,\"\",VLOOKUP($A153,報告書入力!$A$14:$Y$149,5,0))","v":""},null,null,null,null,null,null,null,{"$f":"IF($A153=0,\"\",VLOOKUP($A153,報告書入力!$A$14:$Y$149,6,0))","v":""},null,null,null,null,{"$f":"IF($A153=0,\"\",VLOOKUP($A153,報告書入力!$A$14:$Y$149,11,0))","v":""},"年","","月","","日から",null,null,null,null,"円",null,null,null,"円",null,null,null,"円"]
[null,null,null,null,null,null,null,null,null,null,null,null,null,null,{"$f":"IF($A153=0,\"\",VLOOKUP($A153+0.1,報告書入力!$A$14:$Y$149,11,0))","v":""},"年","","月","","日まで",null,{"$f":"AH154","v":""},{"$f":"IF($A153=0,\"\",VLOOKUP($A153+0.1,報告書入力!$A$14:$Y$149,11,0))","v":""},{"$f":"IF($A153=0,\"\",VLOOKUP($A153+0.1,報告書入力!$A$14:$Y$149,11,0))","v":""},{"$f":"IF($A153=0,\"\",VLOOKUP($A153+0.1,報告書入力!$A$14:$Y$149,11,0))","v":""},{"$f":"IF($A153=0,\"\",VLOOKUP($A153+0.1,報告書入力!$A$14:$Y$149,19,0))","v":""},{"$f":"IF($A153=0,\"\",VLOOKUP($A153+0.1,報告書入力!$A$14:$Y$149,11,0))","v":""},{"$f":"IF($A153=0,\"\",VLOOKUP($A153+0.1,報告書入力!$A$14:$Y$149,11,0))","v":""},{"$f":"IF($A153=0,\"\",VLOOKUP($A153+0.1,報告書入力!$A$14:$Y$149,11,0))","v":""},{"$f":"IF($A153=0,\"\",VLOOKUP($A153+0.1,報告書入力!$A$14:$Y$149,21,0))","v":""},{"$f":"IF($A153=0,\"\",VLOOKUP($A153+0.1,報告書入力!$A$14:$Y$149,11,0))","v":""},{"$f":"IF($A153=0,\"\",VLOOKUP($A153+0.1,報告書入力!$A$14:$Y$149,11,0))","v":""},{"$f":"IF($A153=0,\"\",VLOOKUP($A153+0.1,報告書入力!$A$14:$Y$149,11,0))","v":""},{"$f":"IF($A153=0,\"\",VLOOKUP($A153+0.1,報告書入力!$A$14:$Y$149,23,0))","v":""},{"$f":"IF($A153=0,\"\",VLOOKUP($A153+0.1,報告書入力!$A$14:$Y$149,11,0))","v":""},{"$f":"IF($A153=0,\"\",VLOOKUP($A153+0.1,報告書入力!$A$14:$Y$149,11,0))","v":""},{"$f":"IF($A153=0,\"\",VLOOKUP($A153+0.1,報告書入力!$A$14:$Y$149,11,0))","v":""},{"$f":"IF($A153=0,\"\",VLOOKUP($A153+0.1,報告書入力!$A$14:$Y$149,24,0))","v":""},null,{"$f":"IF($A153=0,\"\",VLOOKUP($A153+0.1,報告書入力!$A$14:$Y$149,25,0))","v":""},null,null,null,null,null,{"$f":"IF($A153=0,\"\",TRUNC(VLOOKUP($A153,報告書入力!$A$14:$Y$149,4,0)))","v":""}]
[null,"事業の種類",null,null,null,null,null,null,null,null,null,null,null,null,"計"]

{"sheet":"総括表","index":2,"n_rows":86,"n_cols":64,"rows_kept":86,"cut":false,"hidden":false,"merged":[[82,44,84,45],[82,46,84,62],[78,39,78,41],[72,6,73,8],[72,11,73,13],[72,15,73,17],[75,4,76,7],[75,8,76,28],[78,43,78,60],[75,55,75,62],[79,46,80,62],[81,4,84,4],[81,5,84,5],[81,6,81,27],[74,39,74,41],[81,28,81,45],[81,46,81,62],[82,6,84,27],[82,28,84,43],[76,43,77,60],[73,4,73,5],[73,9,73,10],[73,18,73,19],[73,43,74,60],[70,4,71,36],[70,47,70,50],[70,51,70,54],[70,55,70,57],[70,58,70,61],[71,47,71,50],[66,50,66,58],[67,35,67,43],[67,45,67,49],[67,50,67,59],[71,51,71,53],[71,55,71,57],[71,59,71,61],[68,34,69,41],[68,42,69,43],[68,44,68,49],[68,50,69,58],[68,59,69,59],[69,44,69,49],[66,4,66,5],[66,6,66,14],[66,15,66,21],[66,22,66,30],[66,32,66,33],[66,35,66,41],[66,42,66,43],[66,44,66,46],[66,47,66,49],[58,4,63,5],[58,6,63,14],[58,42,59,43],[64,44,65,46],[64,47,65,49],[64,50,65,58],[65,22,65,30],[64,4,65,5],[64,6,65,14],[64,15,65,21],[58,32,59,33],[60,32,61,33],[58,44,59,46],[64,22,64,30],[64,32,65,33],[64,35,65,41],[58,47,59,49],[58,50,59,58],[61,42,61,43],[63,42,63,43],[58,31,59,31],[58,34,59,34],[58,35,59,41],[62,15,63,21],[62,22,62,30],[59,22,59,30],[60,15,61,21],[60,22,60,30],[61,22,61,30],[63,22,63,30],[58,59,59,59],[60,50,61,58],[60,59,61,59],[62,50,63,58],[62,44,63,46],[62,34,63,34],[62,35,63,41],[60,34,61,34],[60,35,61,41],[60,44,61,46],[56,47,57,49],[56,50,57,58],[57,22,57,30],[57,42,57,43],[56,22,56,30],[56,32,57,33],[56,34,57,34],[56,35,57,41],[58,15,59,21],[58,22,58,30],[56,44,57,46],[55,22,55,30],[46,59,47,59],[47,22,47,30],[48,59,49,59],[46,35,47,41],[46,42,47,43],[52,42,53,43],[52,47,53,49],[55,42,55,43],[52,50,53,58],[50,35,51,41],[50,44,51,46],[50,47,51,49],[50,50,51,58],[51,42,51,43],[54,44,55,46],[52,59,53,59],[53,22,53,30],[54,22,54,30],[54,34,55,34],[54,35,55,41],[54,47,55,49],[54,50,55,58],[54,59,55,59],[48,47,49,49],[48,50,49,58],[46,47,47,49],[49,42,49,43],[46,50,47,58],[46,44,47,46],[52,22,52,30],[52,31,53,31],[52,34,53,34],[52,35,53,41],[46,32,47,33],[48,35,49,41],[46,22,46,30],[46,31,47,31],[46,34,47,34],[49,22,49,30],[50,22,50,30],[50,34,51,34],[51,22,51,30],[48,22,48,30],[48,34,49,34],[48,32,49,33],[46,4,57,5],[46,6,57,8],[46,9,51,14],[46,15,47,21],[50,15,51,21],[52,9,57,14],[52,15,53,21],[56,15,57,21],[48,15,49,21],[54,15,55,21],[40,59,41,59],[41,22,41,30],[42,22,42,30],[42,34,43,34],[42,35,43,41],[42,47,43,49],[42,50,43,58],[42,59,43,59],[43,22,43,30],[40,31,41,31],[40,32,41,33],[42,32,43,33],[42,44,43,46],[40,44,41,46],[45,22,45,30],[42,15,43,21],[40,42,41,43],[35,22,35,30],[36,15,37,21],[36,22,36,30],[37,22,37,30],[39,22,39,30],[40,4,45,5],[40,6,45,14],[40,15,41,21],[40,22,40,30],[44,15,45,21],[40,34,41,34],[44,32,45,33],[43,42,43,43],[40,35,41,41],[44,34,45,34],[44,35,45,41],[45,42,45,43],[36,32,37,33],[38,32,39,33],[38,50,39,58],[34,35,35,41],[38,35,39,41],[36,35,37,41],[34,47,35,49],[34,50,35,58],[37,42,37,43],[34,4,39,5],[44,22,44,30],[40,50,41,58],[44,50,45,58],[44,47,45,49],[40,47,41,49],[36,44,37,46],[38,44,39,46],[44,44,45,46],[34,59,35,59],[34,31,35,31],[34,34,35,34],[32,35,33,41],[34,42,35,43],[34,32,35,33],[34,44,35,46],[30,50,31,58],[36,50,37,58],[36,59,37,59],[34,6,39,14],[34,15,35,21],[34,22,34,30],[38,15,39,21],[38,22,38,30],[28,44,29,46],[30,44,31,46],[31,22,31,30],[39,42,39,43],[38,34,39,34],[33,22,33,30],[28,4,33,5],[28,6,33,14],[28,15,29,21],[28,22,28,30],[32,15,33,21],[32,22,32,30],[30,15,31,21],[28,59,29,59],[29,22,29,30],[30,22,30,30],[30,34,31,34],[30,35,31,41],[30,47,31,49],[28,47,29,49],[28,50,29,58],[31,42,31,43],[30,59,31,59],[32,47,33,49],[32,50,33,58],[24,47,25,49],[24,50,25,58],[24,59,25,59],[25,22,25,30],[26,47,27,49],[26,50,27,58],[27,22,27,30],[27,42,27,43],[26,34,27,34],[26,35,27,41],[24,44,25,46],[24,32,25,33],[26,32,27,33],[22,4,27,5],[22,6,27,14],[22,15,23,21],[22,22,22,30],[26,15,27,21],[26,22,26,30],[22,31,23,31],[22,34,23,34],[22,35,23,41],[23,22,23,30],[24,15,25,21],[24,22,24,30],[24,34,25,34],[24,35,25,41],[16,4,21,5],[16,6,21,14],[16,15,17,21],[16,22,16,30],[20,15,21,21],[20,22,20,30],[21,22,21,30],[19,42,19,43],[20,44,21,46],[21,42,21,43],[16,44,17,46],[18,44,19,46],[17,22,17,30],[18,15,19,21],[18,22,18,30],[18,34,19,34],[18,35,19,41],[19,22,19,30],[16,32,17,33],[18,32,19,33],[20,32,21,33],[15,63,69,63],[16,31,17,31],[16,34,17,34],[16,35,17,41],[20,34,21,34],[20,35,21,41],[22,44,23,46],[16,42,17,43],[16,47,17,49],[16,50,17,58],[20,47,21,49],[20,50,21,58],[16,59,17,59],[18,47,19,49],[18,50,19,58],[18,59,19,59],[22,42,23,43],[50,32,51,33],[28,31,29,31],[28,34,29,34],[28,35,29,41],[28,42,29,43],[33,42,33,43],[22,47,23,49],[10,50,11,58],[10,59,11,59],[11,22,11,30],[11,47,11,49],[12,22,12,30],[12,34,13,34],[12,35,13,41],[12,47,13,49],[12,50,13,58],[12,59,13,59],[13,42,13,43],[12,32,13,33],[10,35,11,41],[10,42,11,43],[10,44,10,46],[15,42,15,43],[14,32,15,33],[11,44,11,46],[12,44,13,46],[10,32,11,33],[10,47,10,49],[14,34,15,34],[14,35,15,41],[14,44,15,46],[14,47,15,49],[10,4,15,5],[10,6,15,14],[10,15,11,21],[10,22,10,30],[12,15,13,21],[13,22,13,30],[15,22,15,30],[10,31,11,31],[10,34,11,34],[14,15,15,21],[14,22,14,30],[8,34,9,43],[5,46,6,54],[5,55,6,56],[5,57,6,59],[6,31,7,32],[6,33,7,34],[5,4,7,14],[8,44,8,49],[8,50,9,59],[9,44,9,46],[9,47,9,49],[8,4,9,5],[8,6,9,14],[8,15,9,21],[8,22,9,31],[8,32,9,33],[6,25,7,26],[6,27,7,28],[6,29,7,30],[6,39,7,40],[6,41,7,42],[6,15,7,16],[6,17,7,18],[6,19,7,20],[6,21,7,22],[6,35,7,36],[6,37,7,38],[6,23,7,24],[1,16,1,24],[1,46,3,56],[2,5,3,7],[2,8,3,10],[2,11,3,37],[2,58,3,59],[5,15,5,18],[5,19,5,20],[5,21,5,24],[5,25,5,36],[5,37,5,42],[62,32,63,33],[85,58,85,62],[64,34,65,34],[36,47,39,49],[60,47,63,49],[48,44,49,46],[52,44,53,46],[15,60,69,60],[15,61,69,61],[15,62,69,62],[26,44,27,46],[32,44,33,46],[22,32,23,33],[28,32,29,33],[30,32,31,33],[54,32,55,33],[52,32,53,33],[32,32,33,33],[32,34,33,34],[36,34,37,34],[14,50,15,58],[22,50,23,58],[25,42,25,43],[22,59,23,59]]}
[null,null,null,null,"別添様式"]
[null,null,null,null,null,null,null,null,null,null,null,null,null,null,null,null,"労働保険等",null,null,null,null,null,null,null,null,null,null,null,null,null,null,null,null,null,null,null,null,null,null,null,null,null,null,null,null,null,"この３部は確定保険料申告書の際に記載し、 正 、 副を提出する。"]
[null,null,null,null,null,"令和",null,null,{"$f":"報告書入力!G2","v":"5"},null,null,"年度一括有期事業総括表　（建設の事業）",null,null,null,null,null,null,null,null,null,null,null,null,null,null,null,null,null,null,null,null,null,null,null,null,null,null,null,null,null,null,null,null,null,null,null,null,null,null,null,null,null,null,null,null,null,null,"控"]
[]
[]
[null,null,null,null,"労 働 保 険 番 号",null,null,null,null,null,null,null,null,null,null,"府  県",null,null,null,"所掌",null,"管  轄",null,null,null,"基  幹  番  号",null,null,null,null,null,null,null,null,null,null,null,"枝  番  号",null,null,null,null,null,null,null,null,"一括有期事業報告書",null,null,null,null,null,null,null,null,{"$f":"一括有期報告書!AL9","v":1},null,"枚添付"]
[null,null,null,null,null,null,null,null,null,null,null,null,null,null,null,{"$f":"報告書入力!F9","v":"1"},null,{"$f":"報告書入力!G9","v":"9"},null,{"$f":"報告書入力!H9","v":"1"},null,{"$f":"報告書入力!I9","v":"0"},null,{"$f":"報告書入力!J9","v":"2"},null,{"$f":"報告書入力!K9","v":"9"},null,{"$f":"報告書入力!L9","v":"3"},null,{"$f":"報告書入力!M9","v":"3"},null,{"$f":"報告書入力!N9","v":"0"},null,{"$f":"報告書入力!O9","v":"7"},null,{"$f":"報告書入力!P9","v":"5"},null,{"$f":"報告書入力!Q9","v":0},null,{"$f":"報告書入力!R9","v":0},null,{"$f":"報告書入力!S9","v":0}]
[]
[null,null,"労務","保険","業種番号",null,"事 業 の 種 類",null,null,null,null,null,null,null,null,"事業開始時期",null,null,null,null,null,null,"請  負  金  額",null,null,null,null,null,null,null,null,null,"労務費率",null,"賃  金  総  額",null,null,null,null,null,null,null,null,null,"保険料率",null,null,null,null,null,"保  険  料  額"]
[null,null,"費率","料率",null,null,null,null,null,null,null,null,null,null,null,null,null,null,null,null,null,null,null,null,null,null,null,null,null,null,null,null,null,null,null,null,null,null,null,null,null,null,null,null,"基準料率",null,null,"ﾒﾘｯﾄ料率"]
[null,null,null,null,31,null,"水力発電施設、ずい道等新設事業",null,null,null,null,null,null,null,null,{"$f":"\" \"&TEXT(コード!D3-1,\"ggge年m月d日\")&\"\n 以前のもの\"","v":" 平成27年3月31日\n 以前のもの"},null,null,null,null,null,null,null,null,null,null,null,null,null,null,null,"円",18,null,null,{"$f":"IF(W12=0,\"\",TRUNC(SUMIF(報告書入力!$C$14:$C$149,B12,報告書入力!$Y$14:$Y$149)/1000,0))","v":""},null,null,null,null,null,null,"千円",null,"1000分の",null,null,"1000分の",null,null,{"$f":"IF(AJ11=\"\",\"\",TRUNC(AJ11*D12))","v":""},null,null,null,null,null,null,null,null,"円"]
[null,{"$f":"E11*10+1","v":311},{"$f":"AG11","v":18},89,null,null,null,null,null,null,null,null,null,null,null,null,null,null,null,null,null,null,{"$f":"SUMIF(報告書入力!$C$15:$C$149,B12,報告書入力!$W$15:$W$149)","v":0},null,null,null,null,null,null,null,null,null,null,null,null,null,null,null,null,null,null,null,null,null,{"$f":"D12","v":89},null,null,null,null,null,null,null,null,null,null,null,null,null,null,null,null,null,null,"注"]
[null,null,null,null,null,null,null,null,null,null,null,null,null,null,null,{"$f":"\" \"&TEXT(コード!D4-1,\"ggge年m月d日\")&\"\n 以前のもの\"","v":" 平成30年3月31日\n 以前のもの"},null,null,null,null,null,null,null,null,null,null,null,null,null,null,null,null,19,null,null,{"$f":"IF(W14=0,\"\",TRUNC(SUMIF(報告書入力!$C$14:$C$149,B14,報告書入力!$Y$14:$Y$149)/1000,0))","v":""},null,null,null,null,null,null,null,null,{"$f":"D14","v":79},null,null,null,null,null,{"$f":"IF(AJ13=\"\",\"\",TRUNC(AJ13*D14))","v":""}]
[null,{"$f":"E11*10+2","v":312},{"$f":"AG13","v":19},79,null,null,null,null,null,null,null,null,null,null,null,null,null,null,null,null,null,null,{"$f":"SUMIF(報告書入力!$C$15:$C$149,B14,報告書入力!$W$15:$W$149)","v":0},null,null,null,null,null,null,null,null,null,null,null,null,null,null,null,null,null,null,null,null,null,null,null,null,null,null,null,null,null,null,null,null,null,null,null,null,null,4,3,2,1]
[null,null,null,null,null,null,null,null,null,null,null,null,null,null,null,{"$f":"\" \"&TEXT(コード!D4,\"ggge年m月d日\")&\"\n 以降のもの\"","v":" 平成30年4月1日\n 以降のもの"},null,null,null,null,null,null,null,null,null,null,null,null,null,null,null,null,null,null,null,{"$f":"IF(W16=0,\"\",TRUNC(SUMIF(報告書入力!$C$14:$C$149,B16,報告書入力!$Y$14:$Y$149)/1000,0))","v":""},null,null,null,null,null,null,null,null,null,null,null,null,null,null,{"$f":"IF(AJ15=\"\",\"\",TRUNC(AJ15*D16))","v":""}]
[null,{"$f":"E11*10+3","v":313},{"$f":"AG15","v":0},62,null,null,null,null,null,null,null,null,null,null,null,null,null,null,null,null,null,null,{"$f":"SUMIF(報告書入力!$C$15:$C$149,B16,報告書入力!$W$15:$W$149)","v":0},null,null,null,null,null,null,null,null,null,null,null,null,null,null,null,null,null,null,null,null,null,null,null,null,null,null,null,null,null,null,null,null,null,null,null,null,null,"一般拠出金は事業（工事）開始時期が平成19年４月１日以降のすべての事業（工事）を徴収対象とする。","一般拠出金とは、石綿による健康被害の救済に関する法律第35条第１項に基づき労災保険適用事業主から徴収する拠出金を指す。","前年度にメリット制が適用された事業については、メリット料率を記入のうえ確定保険料を計算すること。","事業報告書（様式第７号（甲））に記入した事業（工事）を、事業の種類ごとに合算し、本表により確定保険料を計算すること。"]
[null,null,null,null,32,null,"道路新設事業",null,null,null,null,null,null,null,null,{"$f":"P11","v":" 平成27年3月31日\n 以前のもの"},null,null,null,null,null,null,null,null,null,null,null,null,null,null,null,null,20,null,null,{"$f":"IF(W18=0,\"\",TRUNC(SUMIF(報告書入力!$C$14:$C$149,B18,報告書入力!$Y$14:$Y$149)/1000,0))","v":""},null,null,null,null,null,null,null,null,{"$f":"D18","v":16},null,null,null,null,null,{"$f":"IF(AJ17=\"\",\"\",TRUNC(AJ17*D18))","v":""}]
[null,{"$f":"E17*10+1","v":321},{"$f":"AG17","v":20},16,null,null,null,null,null,null,null,null,null,null,null,null,null,null,null,null,null,null,{"$f":"SUMIF(報告書入力!$C$15:$C$149,B18,報告書入力!$W$15:$W$149)","v":0}]
[null,null,null,null,null,null,null,null,null,null,null,null,null,null,null,{"$f":"P13","v":" 平成30年3月31日\n 以前のもの"},null,null,null,null,null,null,null,null,null,null,null,null,null,null,null,null,20,null,null,{"$f":"IF(W20=0,\"\",TRUNC(SUMIF(報告書入力!$C$14:$C$149,B20,報告書入力!$Y$14:$Y$149)/1000,0))","v":""},null,null,null,null,null,null,null,null,{"$f":"D20","v":11},null,null,null,null,null,{"$f":"IF(AJ19=\"\",\"\",TRUNC(AJ19*D20))","v":""}]
[null,{"$f":"E17*10+2","v":322},{"$f":"AG19","v":20},11,null,null,null,null,null,null,null,null,null,null,null,null,null,null,null,null,null,null,{"$f":"SUMIF(報告書入力!$C$15:$C$149,B20,報告書入力!$W$15:$W$149)","v":0}]
[null,null,null,null,null,null,null,null,null,null,null,null,null,null,null,{"$f":"P15","v":" 平成30年4月1日\n 以降のもの"},null,null,null,null,null,null,null,null,null,null,null,null,null,null,null,null,19,null,null,{"$f":"IF(W22=0,\"\",TRUNC(SUMIF(報告書入力!$C$14:$C$149,B22,報告書入力!$Y$14:$Y$149)/1000,0))","v":""},null,null,null,null,null,null,null,null,{"$f":"D22","v":11},null,null,null,null,null,{"$f":"IF(AJ21=\"\",\"\",TRUNC(AJ21*D22))","v":""}]
[null,{"$f":"E17*10+3","v":323},{"$f":"AG21","v":19},11,null,null,null,null,null,null,null,null,null,null,null,null,null,null,null,null,null,null,{"$f":"SUMIF(報告書入力!$C$15:$C$149,B22,報告書入力!$W$15:$W$149)","v":0}]
[null,null,null,null,33,null,"舗装工事業",null,null,null,null,null,null,null,null,{"$f":"P17","v":" 平成27年3月31日\n 以前のもの"},null,null,null,null,null,null,null,null,null,null,null,null,null,null,null,null,18,null,null,{"$f":"IF(W24=0,\"\",TRUNC(SUMIF(報告書入力!$C$14:$C$149,B24,報告書入力!$Y$14:$Y$149)/1000,0))","v":""},null,null,null,null,null,null,null,null,{"$f":"D24","v":10},null,null,null,null,null,{"$f":"IF(AJ23=\"\",\"\",TRUNC(AJ23*D24))","v":""}]
[null,{"$f":"E23*10+1","v":331},{"$f":"AG23","v":18},10,null,null,null,null,null,null,null,null,null,null,null,null,null,null,null,null,null,null,{"$f":"SUMIF(報告書入力!$C$15:$C$149,B24,報告書入力!$W$15:$W$149)","v":0}]
[null,null,null,null,null,null,null,null,null,null,null,null,null,null,null,{"$f":"P19","v":" 平成30年3月31日\n 以前のもの"},null,null,null,null,null,null,null,null,null,null,null,null,null,null,null,null,18,null,null,{"$f":"IF(W26=0,\"\",TRUNC(SUMIF(報告書入力!$C$14:$C$149,B26,報告書入力!$Y$14:$Y$149)/1000,0))","v":""},null,null,null,null,null,null,null,null,{"$f":"D26","v":9},null,null,null,null,null,{"$f":"IF(AJ25=\"\",\"\",TRUNC(AJ25*D26))","v":""}]
[null,{"$f":"E23*10+2","v":332},{"$f":"AG25","v":18},9,null,null,null,null,null,null,null,null,null,null,null,null,null,null,null,null,null,null,{"$f":"SUMIF(報告書入力!$C$15:$C$149,B26,報告書入力!$W$15:$W$149)","v":0}]
[null,null,null,null,null,null,null,null,null,null,null,null,null,null,null,{"$f":"P21","v":" 平成30年4月1日\n 以降のもの"},null,null,null,null,null,null,null,null,null,null,null,null,null,null,null,null,17,null,null,{"$f":"IF(W28=0,\"\",TRUNC(SUMIF(報告書入力!$C$14:$C$149,B28,報告書入力!$Y$14:$Y$149)/1000,0))","v":""},null,null,null,null,null,null,null,null,{"$f":"D28","v":9},null,null,null,null,null,{"$f":"IF(AJ27=\"\",\"\",TRUNC(AJ27*D28))","v":""}]
[null,{"$f":"E23*10+3","v":333},{"$f":"AG27","v":17},9,null,null,null,null,null,null,null,null,null,null,null,null,null,null,null,null,null,null,{"$f":"SUMIF(報告書入力!$C$15:$C$149,B28,報告書入力!$W$15:$W$149)","v":0}]
[null,null,null,null,34,null,"鉄道又は軌道新設事業",null,null,null,null,null,null,null,null,{"$f":"P23","v":" 平成27年3月31日\n 以前のもの"},null,null,null,null,null,null,null,null,null,null,null,null,null,null,null,null,23,null,null,{"$f":"IF(W30=0,\"\",TRUNC(SUMIF(報告書入力!$C$14:$C$149,B30,報告書入力!$Y$14:$Y$149)/1000,0))","v":""},null,null,null,null,null,null,null,null,{"$f":"D30","v":17},null,null,null,null,null,{"$f":"IF(AJ29=\"\",\"\",TRUNC(AJ29*D30))","v":""}]
[null,{"$f":"E29*10+1","v":341},{"$f":"AG29","v":23},17,null,null,null,null,null,null,null,null,null,null,null,null,null,null,null,null,null,null,{"$f":"SUMIF(報告書入力!$C$15:$C$149,B30,報告書入力!$W$15:$W$149)","v":0}]
[null,null,null,null,null,null,null,null,null,null,null,null,null,null,null,{"$f":"P25","v":" 平成30年3月31日\n 以前のもの"},null,null,null,null,null,null,null,null,null,null,null,null,null,null,null,null,25,null,null,{"$f":"IF(W32=0,\"\",TRUNC(SUMIF(報告書入力!$C$14:$C$149,B32,報告書入力!$Y$14:$Y$149)/1000,0))","v":""},null,null,null,null,null,null,null,null,{"$f":"D32","v":9.5},null,null,null,null,null,{"$f":"IF(AJ31=\"\",\"\",TRUNC(AJ31*D32))","v":""}]
[null,{"$f":"E29*10+2","v":342},{"$f":"AG31","v":25},9.5,null,null,null,null,null,null,null,null,null,null,null,null,null,null,null,null,null,null,{"$f":"SUMIF(報告書入力!$C$15:$C$149,B32,報告書入力!$W$15:$W$149)","v":0}]
[null,null,null,null,null,null,null,null,null,null,null,null,null,null,null,{"$f":"P27","v":" 平成30年4月1日\n 以降のもの"},null,null,null,null,null,null,null,null,null,null,null,null,null,null,null,null,24,null,null,{"$f":"IF(W34=0,\"\",TRUNC(SUMIF(報告書入力!$C$14:$C$149,B34,報告書入力!$Y$14:$Y$149)/1000,0))","v":""},null,null,null,null,null,null,null,null,{"$f":"D34","v":9},null,null,null,null,null,{"$f":"IF(AJ33=\"\",\"\",TRUNC(AJ33*D34))","v":""}]
[null,{"$f":"E29*10+3","v":343},{"$f":"AG33","v":24},9,null,null,null,null,null,null,null,null,null,null,null,null,null,null,null,null,null,null,{"$f":"SUMIF(報告書入力!$C$15:$C$149,B34,報告書入力!$W$15:$W$149)","v":0}]
[null,null,null,null,35,null,"建築事業",null,null,null,null,null,null,null,null,{"$f":"P29","v":" 平成27年3月31日\n 以前のもの"},null,null,null,null,null,null,null,null,null,null,null,null,null,null,null,null,21,null,null,{"$f":"IF(W36=0,\"\",TRUNC(SUMIF(報告書入力!$C$14:$C$149,B36,報告書入力!$Y$14:$Y$149)/1000,0))","v":""},null,null,null,null,null,null,null,null,{"$f":"D36","v":13},null,null,null,null,null,{"$f":"IF(AJ35=\"\",\"\",TRUNC(AJ35*D36))","v":""}]
[null,{"$f":"E35*10+1","v":351},{"$f":"AG35","v":21},13,null,null,null,null,null,null,null,null,null,null,null,null,null,null,null,null,null,null,{"$f":"SUMIF(報告書入力!$C$15:$C$149,B36,報告書入力!$W$15:$W$149)","v":0}]
[null,null,null,null,null,null,null,null,null,null,null,null,null,null,null,{"$f":"P31","v":" 平成30年3月31日\n 以前のもの"},null,null,null,null,null,null,null,null,null,null,null,null,null,null,null,null,23,null,null,{"$f":"IF(W38=0,\"\",TRUNC(SUMIF(報告書入力!$C$14:$C$149,B38,報告書入力!$Y$14:$Y$149)/1000,0))","v":""},null,null,null,null,null,null,null,null,{"$f":"D38","v":11},null,null,null,null,null,{"$f":"IF(AJ37=\"\",\"\",TRUNC(AJ37*D38))","v":""}]
[null,{"$f":"E35*10+2","v":352},{"$f":"AG37","v":23},11,null,null,null,null,null,null,null,null,null,null,null,null,null,null,null,null,null,null,{"$f":"SUMIF(報告書入力!$C$15:$C$149,B38,報告書入力!$W$15:$W$149)","v":0}]
[null,null,null,null,null,null,null,null,null,null,null,null,null,null,null,{"$f":"P33","v":" 平成30年4月1日\n 以降のもの"},null,null,null,null,null,null,null,null,null,null,null,null,null,null,null,null,23,null,null,{"$f":"IF(W40=0,\"\",TRUNC(SUMIF(報告書入力!$C$14:$C$149,B40,報告書入力!$Y$14:$Y$149)/1000,0))","v":""},null,null,null,null,null,null,null,null,{"$f":"D40","v":9.5},null,null,null,null,null,{"$f":"IF(AJ39=\"\",\"\",TRUNC(AJ39*D40))","v":""}]
[null,{"$f":"E35*10+3","v":353},{"$f":"AG39","v":23},9.5,null,null,null,null,null,null,null,null,null,null,null,null,null,null,null,null,null,null,{"$f":"SUMIF(報告書入力!$C$15:$C$149,B40,報告書入力!$W$15:$W$149)","v":0}]
[null,null,null,null,38,null,"既設建築物設備工事業",null,null,null,null,null,null,null,null,{"$f":"P35","v":" 平成27年3月31日\n 以前のもの"},null,null,null,null,null,null,null,null,null,null,null,null,null,null,null,null,22,null,null,{"$f":"IF(W42=0,\"\",TRUNC(SUMIF(報告書入力!$C$14:$C$149,B42,報告書入力!$Y$14:$Y$149)/1000,0))","v":""},null,null,null,null,null,null,null,null,{"$f":"D42","v":15},null,null,null,null,null,{"$f":"IF(AJ41=\"\",\"\",TRUNC(AJ41*D42))","v":""}]
[null,{"$f":"E41*10+1","v":381},{"$f":"AG41","v":22},15,null,null,null,null,null,null,null,null,null,null,null,null,null,null,null,null,null,null,{"$f":"SUMIF(報告書入力!$C$15:$C$149,B42,報告書入力!$W$15:$W$149)","v":0}]
[null,null,null,null,null,null,null,null,null,null,null,null,null,null,null,{"$f":"P37","v":" 平成30年3月31日\n 以前のもの"},null,null,null,null,null,null,null,null,null,null,null,null,null,null,null,null,23,null,null,{"$f":"IF(W44=0,\"\",TRUNC(SUMIF(報告書入力!$C$14:$C$149,B44,報告書入力!$Y$14:$Y$149)/1000,0))","v":""},null,null,null,null,null,null,null,null,{"$f":"D44","v":15},null,null,null,null,null,{"$f":"IF(AJ43=\"\",\"\",TRUNC(AJ43*D44))","v":""}]
[null,{"$f":"E41*10+2","v":382},{"$f":"AG43","v":23},15,null,null,null,null,null,null,null,null,null,null,null,null,null,null,null,null,null,null,{"$f":"SUMIF(報告書入力!$C$15:$C$149,B44,報告書入力!$W$15:$W$149)","v":0}]
[null,null,null,null,null,null,null,null,null,null,null,null,null,null,null,{"$f":"P39","v":" 平成30年4月1日\n 以降のもの"},null,null,null,null,null,null,null,null,null,null,null,null,null,null,null,null,23,null,null,{"$f":"IF(W46=0,\"\",TRUNC(SUMIF(報告書入力!$C$14:$C$149,B46,報告書入力!$Y$14:$Y$149)/1000,0))","v":""},null,null,null,null,null,null,null,null,{"$f":"D46","v":12},null,null,null,null,null,{"$f":"IF(AJ45=\"\",\"\",TRUNC(AJ45*D46))","v":""}]
[null,{"$f":"E41*10+3","v":383},{"$f":"AG45","v":23},12,null,null,null,null,null,null,null,null,null,null,null,null,null,null,null,null,null,null,{"$f":"SUMIF(報告書入力!$C$15:$C$149,B46,報告書入力!$W$15:$W$149)","v":0}]
[null,null,null,null,36,null,"機械装置の組立て又は据付けの事業",null,null,"組立て又は取付け\nに関するもの",null,null,null,null,null,{"$f":"P41","v":" 平成27年3月31日\n 以前のもの"},null,null,null,null,null,null,null,null,null,null,null,null,null,null,null,null,38,null,null,{"$f":"IF(W48=0,\"\",TRUNC(SUMIF(報告書入力!$C$14:$C$149,B48,報告書入力!$Y$14:$Y$149)/1000,0))","v":""},null,null,null,null,null,null,null,null,{"$f":"D48","v":7.5},null,null,null,null,null,{"$f":"IF(AJ47=\"\",\"\",TRUNC(AJ47*D48))","v":""}]
[null,{"$f":"E47*10+1","v":361},{"$f":"AG47","v":38},7.5,null,null,null,null,null,null,null,null,null,null,null,null,null,null,null,null,null,null,{"$f":"SUMIF(報告書入力!$C$15:$C$149,B48,報告書入力!$W$15:$W$149)","v":0}]
[null,null,null,null,null,null,null,null,null,null,null,null,null,null,null,{"$f":"P43","v":" 平成30年3月31日\n 以前のもの"},null,null,null,null,null,null,null,null,null,null,null,null,null,null,null,null,40,null,null,{"$f":"IF(W50=0,\"\",TRUNC(SUMIF(報告書入力!$C$14:$C$149,B50,報告書入力!$Y$14:$Y$149)/1000,0))","v":""},null,null,null,null,null,null,null,null,{"$f":"D50","v":6.5},null,null,null,null,null,{"$f":"IF(AJ49=\"\",\"\",TRUNC(AJ49*D50))","v":""}]
[null,{"$f":"E47*10+2","v":362},{"$f":"AG49","v":40},6.5,null,null,null,null,null,null,null,null,null,null,null,null,null,null,null,null,null,null,{"$f":"SUMIF(報告書入力!$C$15:$C$149,B50,報告書入力!$W$15:$W$149)","v":0}]
[null,null,null,null,null,null,null,null,null,null,null,null,null,null,null,{"$f":"P45","v":" 平成30年4月1日\n 以降のもの"},null,null,null,null,null,null,null,null,null,null,null,null,null,null,null,null,38,null,null,{"$f":"IF(W52=0,\"\",TRUNC(SUMIF(報告書入力!$C$14:$C$149,B52,報告書入力!$Y$14:$Y$149)/1000,0))","v":""},null,null,null,null,null,null,null,null,{"$f":"D52","v":6.5},null,null,null,null,null,{"$f":"IF(AJ51=\"\",\"\",TRUNC(AJ51*D52))","v":""}]
[null,{"$f":"E47*10+3","v":363},{"$f":"AG51","v":38},6.5,null,null,null,null,null,null,null,null,null,null,null,null,null,null,null,null,null,null,{"$f":"SUMIF(報告書入力!$C$15:$C$149,B52,報告書入力!$W$15:$W$149)","v":0}]
[null,null,null,null,null,null,null,null,null,"その他のもの",null,null,null,null,null,{"$f":"P47","v":" 平成27年3月31日\n 以前のもの"},null,null,null,null,null,null,null,null,null,null,null,null,null,null,null,null,21,null,null,{"$f":"IF(W54=0,\"\",TRUNC(SUMIF(報告書入力!$C$14:$C$149,B54,報告書入力!$Y$14:$Y$149)/1000,0))","v":""},null,null,null,null,null,null,null,null,{"$f":"D54","v":7.5},null,null,null,null,null,{"$f":"IF(AJ53=\"\",\"\",TRUNC(AJ53*D54))","v":""}]
[null,366,{"$f":"AG53","v":21},7.5,null,null,null,null,null,null,null,null,null,null,null,null,null,null,null,null,null,null,{"$f":"SUMIF(報告書入力!$C$15:$C$149,B54,報告書入力!$W$15:$W$149)","v":0}]
[null,null,null,null,null,null,null,null,null,null,null,null,null,null,null,{"$f":"P49","v":" 平成30年3月31日\n 以前のもの"},null,null,null,null,null,null,null,null,null,null,null,null,null,null,null,null,22,null,null,{"$f":"IF(W56=0,\"\",TRUNC(SUMIF(報告書入力!$C$14:$C$149,B56,報告書入力!$Y$14:$Y$149)/1000,0))","v":""},null,null,null,null,null,null,null,null,{"$f":"D56","v":6.5},null,null,null,null,null,{"$f":"IF(AJ55=\"\",\"\",TRUNC(AJ55*D56))","v":""}]
[null,367,{"$f":"AG55","v":22},6.5,null,null,null,null,null,null,null,null,null,null,null,null,null,null,null,null,null,null,{"$f":"SUMIF(報告書入力!$C$15:$C$149,B56,報告書入力!$W$15:$W$149)","v":0}]
[null,null,null,null,null,null,null,null,null,null,null,null,null,null,null,{"$f":"P51","v":" 平成30年4月1日\n 以降のもの"},null,null,null,null,null,null,null,null,null,null,null,null,null,null,null,null,21,null,null,{"$f":"IF(W58=0,\"\",TRUNC(SUMIF(報告書入力!$C$14:$C$149,B58,報告書入力!$Y$14:$Y$149)/1000,0))","v":""},null,null,null,null,null,null,null,null,{"$f":"D58","v":6.5},null,null,null,null,null,{"$f":"IF(AJ57=\"\",\"\",TRUNC(AJ57*D58))","v":""}]
[null,368,{"$f":"AG57","v":21},6.5,null,null,null,null,null,null,null,null,null,null,null,null,null,null,null,null,null,null,{"$f":"SUMIF(報告書入力!$C$15:$C$149,B58,報告書入力!$W$15:$W$149)","v":0}]
[null,null,null,null,37,null,"その他の建設事業",null,null,null,null,null,null,null,null,{"$f":"P53","v":" 平成27年3月31日\n 以前のもの"},null,null,null,null,null,null,null,null,null,null,null,null,null,null,null,null,23,null,null,{"$f":"IF(W60=0,\"\",TRUNC(SUMIF(報告書入力!$C$14:$C$149,B60,報告書入力!$Y$14:$Y$149)/1000,0))","v":""},null,null,null,null,null,null,null,null,{"$f":"D60","v":19},null,null,null,null,null,{"$f":"IF(AJ59=\"\",\"\",TRUNC(AJ59*D60))","v":""}]
[null,{"$f":"E59*10+1","v":371},{"$f":"AG59","v":23},19,null,null,null,null,null,null,null,null,null,null,null,null,null,null,null,null,null,null,{"$f":"SUMIF(報告書入力!$C$15:$C$149,B60,報告書入力!$W$15:$W$149)","v":0}]
[null,null,null,null,null,null,null,null,null,null,null,null,null,null,null,{"$f":"P55","v":" 平成30年3月31日\n 以前のもの"},null,null,null,null,null,null,null,null,null,null,null,null,null,null,null,null,24,null,null,{"$f":"IF(W62=0,\"\",TRUNC(SUMIF(報告書入力!$C$14:$C$149,B62,報告書入力!$Y$14:$Y$149)/1000,0))","v":""},null,null,null,null,null,null,null,null,{"$f":"D62","v":17},null,null,null,null,null,{"$f":"IF(AJ61=\"\",\"\",TRUNC(AJ61*D62))","v":""}]
[null,{"$f":"E59*10+2","v":372},{"$f":"AG61","v":24},17,null,null,null,null,null,null,null,null,null,null,null,null,null,null,null,null,null,null,{"$f":"SUMIF(報告書入力!$C$15:$C$149,B62,報告書入力!$W$15:$W$149)","v":0}]
[null,null,null,null,null,null,null,null,null,null,null,null,null,null,null,{"$f":"P57","v":" 平成30年4月1日\n 以降のもの"},null,null,null,null,null,null,null,null,null,null,null,null,null,null,null,null,24,null,null,{"$f":"IF(W64=0,\"\",TRUNC(SUMIF(報告書入力!$C$14:$C$149,B64,報告書入力!$Y$14:$Y$149)/1000,0))","v":""},null,null,null,null,null,null,null,null,{"$f":"D64","v":15},null,null,null,null,null,{"$f":"IF(AJ63=\"\",\"\",TRUNC(AJ63*D64))","v":""}]
[null,{"$f":"E59*10+3","v":373},{"$f":"AG63","v":24},15,null,null,null,null,null,null,null,null,null,null,null,null,null,null,null,null,null,null,{"$f":"SUMIF(報告書入力!$C$15:$C$149,B64,報告書入力!$W$15:$W$149)","v":0}]
[null,null,null,null,null,null,null,null,null,null,null,null,null,null,null,"　平成19年3月31日\n　以前のもの",null,null,null,null,null,null,null,null,null,null,null,null,null,null,null,null,null,null,"①",null,null,null,null,null,null,null,null,null,null,null,null,null,null,null,{"$f":"IF(AJ65=\"\",\"\",TRUNC(AJ65*D66))","v":""}]
[]
[null,null,null,null,null,null,"合　　　計",null,null,null,null,null,null,null,null,null,null,null,null,null,null,null,{"$f":"SUM(W11:AE66)","v":0},null,null,null,null,null,null,null,null,null,null,null,null,{"$f":"SUM(AJ11:AP66)","v":0},null,null,null,null,null,null,null,null,null,null,null,null,null,null,{"$f":"SUM(AY11:BG66)","v":0}]
[null,null,null,null,null,null,null,null,null,null,null,null,null,null,null,null,null,null,null,null,null,null,null,null,null,null,null,null,null,null,null,null,null,null,"②","（①を除いた合計）",null,null,null,null,null,null,null,null,"③","一般拠出金率",null,null,null,null,"一般拠出金額　　　　　　　　　　　　　　　　　　　　　　　　　　　　　　　　　　　　　　　　　　　　　　　　　　　　　　　　　　　　　　　　　　　　　　　　　　　　　　　　　（②×③）"]
[null,null,null,null,null,null,null,null,null,null,null,null,null,null,null,null,null,null,null,null,null,null,null,null,null,null,null,null,null,null,null,null,null,null,{"$f":"SUM(AJ11:AP64)","v":0},null,null,null,null,null,null,null,"千円",null,"1000分の",null,null,null,null,null,{"$f":"TRUNC(AI69*AS70)","v":0},null,null,null,null,null,null,null,null,"円"]
[null,null,null,null,null,null,null,null,null,null,null,null,null,null,null,null,null,null,null,null,null,null,null,null,null,null,null,null,null,null,null,null,null,null,null,null,null,null,null,null,null,null,null,null,0.02]
[null,null,null,null,"別添一括有期事業報告書の明細を上記のとおり総括して報告します。",null,null,null,null,null,null,null,null,null,null,null,null,null,null,null,null,null,null,null,null,null,null,null,null,null,null,null,null,null,null,null,null,null,null,null,null,null,null,null,null,null,null,"郵便番号(",null,null,null,{"$f":"LEFT(報告書入力!V5,3)","v":""},null,null,null,"-",null,null,{"$f":"RIGHT(報告書入力!V5,4)","v":""},null,null,null,")"]
[null,null,null,null,null,null,null,null,null,null,null,null,null,null,null,null,null,null,null,null,null,null,null,null,null,null,null,null,null,null,null,null,null,null,null,null,null,null,null,null,null,null,null,null,null,null,null,"電話番号(",null,null,null,{"$f":"報告書入力!V9","v":0},null,null,"-",{"$f":"報告書入力!W9","v":0},null,null,"-",{"$f":"報告書入力!X9","v":0},null,null,")"]
[null,null,null,null,null,null,{"$f":"報告書入力!L6","v":45383},null,null,null,null,4,null,null,null,5]
[null,null,null,null,"令和",null,null,null,null,"年",null,null,null,null,"月",null,null,null,"日",null,null,null,null,null,null,null,null,null,null,null,null,null,null,null,null,null,null,null,null,null,null,null,null,{"$f":"報告書入力!V6","v":0}]
[null,null,null,null,null,null,null,null,null,null,null,null,null,null,null,null,null,null,null,null,null,null,null,null,null,null,null,null,null,null,null,null,null,null,null,null,null,null,null,"住所"]
[null,null,null,null,{"$f":"一括有期報告書!D33","v":"山梨"},null,null,null,"労働局労働保険特別会計歳入徴収官　殿",null,null,null,null,null,null,null,null,null,null,null,null,null,null,null,null,null,null,null,null,null,null,null,null,null,null,null,null,null,null,null,null,null,null,null,null,null,null,null,null,null,null,null,null,null,null,"記名押印又は署名"]
[null,null,null,null,null,null,null,null,null,null,null,null,null,null,null,null,null,null,null,null,null,null,null,null,null,null,null,null,null,null,null,null,null,null,null,null,null,null,null,null,null,null,null,{"$f":"報告書入力!V7","v":0}]
[null,null,null,null,null,null,null,null,null,null,null,null,null,null,null,null,null,null,null,null,null,null,null,null,null,null,null,null,null,null,null,null,null,null,null,null,"事業主"]
[null,null,null,null,null,null,null,null,null,null,null,null,null,null,null,null,null,null,null,null,null,null,null,null,null,null,null,null,null,null,null,null,null,null,null,null,null,null,null,"氏名",null,null,null,{"$f":"報告書入力!V8","v":0},null,null,null,null,null,null,null,null,null,null,null,null,null,null,null,null,null,null,"㊞"]
[null,null,null,null,null,null,null,null,null,null,null,null,null,null,null,null,null,null,null,null,null,null,null,null,null,null,null,null,null,null,null,null,null,null,null,null,null,null,null,null,null,null,null,null,null,null,"（法人のときはその名称及び代表者の氏名）"]
[]
[null,null,null,null,"社会保険労","務士記載欄","作成年月日・提出代行者・事務代理者の表示",null,null,null,null,null,null,null,null,null,null,null,null,null,null,null,null,null,null,null,null,null,"氏　　　　　　　　　名",null,null,null,null,null,null,null,null,null,null,null,null,null,null,null,null,null,"電　　　話　　　番　　　号"]
[null,null,null,null,null,null,null,null,null,null,null,null,null,null,null,null,null,null,null,null,null,null,null,null,null,null,null,null,null,null,null,null,null,null,null,null,null,null,null,null,null,null,null,null,"㊞"]
[]
[]
[null,null,null,null,null,null,null,null,null,null,null,null,null,null,null,null,null,null,null,null,null,null,null,null,null,null,null,null,null,null,null,null,null,null,null,null,null,null,null,null,null,null,null,null,null,null,null,null,null,null,null,null,null,null,null,null,null,null,"(26.1)"]

{"sheet":"コード","index":3,"n_rows":21,"n_cols":11,"rows_kept":21,"cut":false,"hidden":false,"merged":[]}
[null,null,null,"期間による労務比率算出用"]
[null,null,null,0,null,1]
[null,null,null,"2015-04-01","より前のもの",2]
[null,null,null,"2018-04-01","より前のもの",3,null,null,null,"2017-03-31",{"$f":"VLOOKUP(J4,D2:F5,3)","v":2}]
[null,null,null,{"$f":"DATE(YEAR(TODAY()),4,1)","v":"2024-04-01"},"以降のもの"]
[]
[]
[null,null,null,"期間による労務比率・保険料率が改正された場合は、"]
[null,null,null,"総括表が改正されるので、上表・総括表シートＣ・Ｄ・ＡＹ列を改正する。"]
[]
[]
[]
[]
[]
[null,null,null,"ページ数設定"]
[null,null,null,0,1]
[null,null,null,6,2]
[null,null,null,15,3]
[null,null,null,24,4]
[null,null,null,33,5]
[null,null,null,42,6]